BEGIN:VCALENDAR
VERSION:2.0
PRODID:-//bellicon academy - ECPv6.8.2//NONSGML v1.0//EN
CALSCALE:GREGORIAN
METHOD:PUBLISH
X-WR-CALNAME:bellicon academy
X-ORIGINAL-URL:https://academy.bellicon.com/?lang=en
X-WR-CALDESC:Events for bellicon academy
REFRESH-INTERVAL;VALUE=DURATION:PT1H
X-Robots-Tag:noindex
X-PUBLISHED-TTL:PT1H
BEGIN:VTIMEZONE
TZID:Europe/Berlin
BEGIN:DAYLIGHT
TZOFFSETFROM:+0100
TZOFFSETTO:+0200
TZNAME:CEST
DTSTART:20260329T010000
END:DAYLIGHT
BEGIN:STANDARD
TZOFFSETFROM:+0200
TZOFFSETTO:+0100
TZNAME:CET
DTSTART:20261025T010000
END:STANDARD
END:VTIMEZONE
BEGIN:VEVENT
DTSTART;TZID=Europe/Berlin:20260523T190000
DTEND;TZID=Europe/Berlin:20260525T030000
DTSTAMP:20260421T053451
CREATED:20260415T142815Z
LAST-MODIFIED:20260415T142815Z
UID:10000481-1779562800-1779678000@academy.bellicon.com
SUMMARY:bellicon® JUMPING instructor training (Torrance)
DESCRIPTION:For whom is the JUMPING training suitable?\nFor participation in the bellicon JUMPING training\, experience in the field of group fitness is recommended\, but not required. Anyone who would like to offer fitness-oriented courses on bellicon rebounders in the future will find the basis for this in this training. \nWhat does the JUMPING training include?\nThe bellicon JUMPING training is the basic training for fitness-oriented and high-quality bellicon JUMPING courses. We will teach you the correct execution of the basic bellicon steps\, the right jumping technique and the structure of a bellicon JUMPING class. In addition\, music theory as well as leading group classes with the help of music are also taught during the teacher JUMPING education. Thanks to the comprehensive package of theory and practice\, the participants will be able to conduct a first class bellicon JUMPING lesson at the end of the seminar. Prior to the training\, participants will be sent an informational video about the bellicon trampoline\, its history\, philosophy\, and the Academy’s workshops. \nThe second day of training concludes with a practical individual test in which the participants simulate a lesson – from proper class introduction and explaining the essential aspects of the bellicon\, to instructing a few steps while using the teaching and music techniques taught during the seminar. A point system creates maximum transparency and makes it possible to address weak points. If you don’t pass the exam right away\, no worries! The bellicon Academy will provide its support until you successfully pass and get your certification. \nWhat opportunities does the JUMPING training offer?\nAfter successfully completing bellicon’s basic training\, all trainers can attend further bellicon Academy workshops\, such as bellicon ADVANCED\, bellicon INTERVALL\, bellicon HEALTH or bellicon KIDS\, to further adapt and cater to their own targeted fitness community. \nAdditional information:\n\nWe start both days promptly at 10:00 AM and end the seminar at 6:00 PM PST\n\nWhat you should bring:\n\nSnacks for your breaks\nTowel\, workout gear\, sport shoes and change of clothes as needed.\nWriting materials\n\nWe look forward to seeing you! \nHINWEISWe will take photos during the seminar to post them on Facebook and make them available to you. If you do not agree to this\, please let us know in advance. We will then filter out the relevant photos. \nBookable until Wednesday evening before the start of the event\n 
URL:https://academy.bellicon.com/event/bellicon-jumping-instructor-training-torrance-2026-05-23/?lang=en
LOCATION:FUSION DANCE STUDIO\, 22236 Palos Verdes Blvd\, Torrance\, CA\, 90505
CATEGORIES:Instructor trainings
ORGANIZER;CN="bellicon Europe GmbH":MAILTO:info@bellicon.academy
GEO:33.8258593;-118.3687572
X-APPLE-STRUCTURED-LOCATION;VALUE=URI;X-ADDRESS=FUSION DANCE STUDIO 22236 Palos Verdes Blvd Torrance CA 90505;X-APPLE-RADIUS=500;X-TITLE=22236 Palos Verdes Blvd:geo:-118.3687572,33.8258593
END:VEVENT
END:VCALENDAR