BEGIN:VCALENDAR
VERSION:2.0
PRODID:-//bellicon academy - ECPv6.8.2//NONSGML v1.0//EN
CALSCALE:GREGORIAN
METHOD:PUBLISH
X-ORIGINAL-URL:https://academy.bellicon.com
X-WR-CALDESC:Events for bellicon academy
REFRESH-INTERVAL;VALUE=DURATION:PT1H
X-Robots-Tag:noindex
X-PUBLISHED-TTL:PT1H
BEGIN:VTIMEZONE
TZID:Europe/Berlin
BEGIN:DAYLIGHT
TZOFFSETFROM:+0100
TZOFFSETTO:+0200
TZNAME:CEST
DTSTART:20210328T010000
END:DAYLIGHT
BEGIN:STANDARD
TZOFFSETFROM:+0200
TZOFFSETTO:+0100
TZNAME:CET
DTSTART:20211031T010000
END:STANDARD
END:VTIMEZONE
BEGIN:VEVENT
DTSTART;TZID=Europe/Berlin:20211009T090000
DTEND;TZID=Europe/Berlin:20211010T180000
DTSTAMP:20260422T085658
CREATED:20210917T090431Z
LAST-MODIFIED:20210922T131433Z
UID:10000190-1633770000-1633888800@academy.bellicon.com
SUMMARY:bellicon® JUMPING Trainerausbildung (Oldenburg)
DESCRIPTION:
URL:https://academy.bellicon.com/event/bellicon-jumping-trainerausbildung-oldenburg/
LOCATION:OLantis Huntebad – ErlebnisWelt\, Am Schloßgarten 15\, Oldenburg\, 26122\, Deutschland
CATEGORIES:bellicon® JUMPING Trainerausbildung
ATTACH;FMTTYPE=image/png:https://academy.bellicon.com/wp-content/uploads/2021/09/jmp.png
GEO:53.130680084229;8.2079782485962
X-APPLE-STRUCTURED-LOCATION;VALUE=URI;X-ADDRESS=OLantis Huntebad – ErlebnisWelt Am Schloßgarten 15 Oldenburg 26122 Deutschland;X-APPLE-RADIUS=500;X-TITLE=Am Schloßgarten 15:geo:8.2079782485962,53.130680084229
END:VEVENT
END:VCALENDAR