BEGIN:VCALENDAR
VERSION:2.0
PRODID:-//bellicon academy - ECPv6.8.2//NONSGML v1.0//EN
CALSCALE:GREGORIAN
METHOD:PUBLISH
X-WR-CALNAME:bellicon academy
X-ORIGINAL-URL:https://academy.bellicon.com
X-WR-CALDESC:Events for bellicon academy
REFRESH-INTERVAL;VALUE=DURATION:PT1H
X-Robots-Tag:noindex
X-PUBLISHED-TTL:PT1H
BEGIN:VTIMEZONE
TZID:Europe/Berlin
BEGIN:DAYLIGHT
TZOFFSETFROM:+0100
TZOFFSETTO:+0200
TZNAME:CEST
DTSTART:20210328T010000
END:DAYLIGHT
BEGIN:STANDARD
TZOFFSETFROM:+0200
TZOFFSETTO:+0100
TZNAME:CET
DTSTART:20211031T010000
END:STANDARD
END:VTIMEZONE
BEGIN:VEVENT
DTSTART;TZID=Europe/Berlin:20211016T100000
DTEND;TZID=Europe/Berlin:20211017T180000
DTSTAMP:20260422T102530
CREATED:20210922T090007Z
LAST-MODIFIED:20210922T131241Z
UID:10000195-1634378400-1634493600@academy.bellicon.com
SUMMARY:bellicon® JUMPING Trainerausbildung (Rottenburg)
DESCRIPTION:
URL:https://academy.bellicon.com/event/bellicon-jumping-trainerausbildung-rottenburg/
LOCATION:Evolution Fitness Club\, Junghansring 64\, Rottenburg - Ergenzingen\, 72108\, Deutschland
CATEGORIES:bellicon® JUMPING Trainerausbildung
ATTACH;FMTTYPE=image/png:https://academy.bellicon.com/wp-content/uploads/2021/09/jmp.png
GEO:48.4957026;8.8175358
X-APPLE-STRUCTURED-LOCATION;VALUE=URI;X-ADDRESS=Evolution Fitness Club Junghansring 64 Rottenburg - Ergenzingen 72108 Deutschland;X-APPLE-RADIUS=500;X-TITLE=Junghansring 64:geo:8.8175358,48.4957026
END:VEVENT
BEGIN:VEVENT
DTSTART;TZID=Europe/Berlin:20211017T100000
DTEND;TZID=Europe/Berlin:20211017T140000
DTSTAMP:20260422T102530
CREATED:20210922T090450Z
LAST-MODIFIED:20210922T131202Z
UID:10000197-1634464800-1634479200@academy.bellicon.com
SUMMARY:Rückenschmerzen adé! (Leverkusen)
DESCRIPTION:
URL:https://academy.bellicon.com/event/rueckenschmerzen-ade-leverkusen-2/
LOCATION:VGS Gesundheitszentrum\, Norderneystraße 31\, Leverkusen\, 51377\, Deutschland
ATTACH;FMTTYPE=image/jpeg:https://academy.bellicon.com/wp-content/uploads/2021/09/Rueckenschmerzen-bellicon.jpg
ORGANIZER;CN="bellicon Europe GmbH":MAILTO:info@bellicon.academy
GEO:51.027942657471;7.0118165016174
X-APPLE-STRUCTURED-LOCATION;VALUE=URI;X-ADDRESS=VGS Gesundheitszentrum Norderneystraße 31 Leverkusen 51377 Deutschland;X-APPLE-RADIUS=500;X-TITLE=Norderneystraße 31:geo:7.0118165016174,51.027942657471
END:VEVENT
END:VCALENDAR