BEGIN:VCALENDAR
VERSION:2.0
PRODID:-//bellicon academy - ECPv6.8.2//NONSGML v1.0//EN
CALSCALE:GREGORIAN
METHOD:PUBLISH
X-ORIGINAL-URL:https://academy.bellicon.com
X-WR-CALDESC:Events for bellicon academy
REFRESH-INTERVAL;VALUE=DURATION:PT1H
X-Robots-Tag:noindex
X-PUBLISHED-TTL:PT1H
BEGIN:VTIMEZONE
TZID:Europe/Berlin
BEGIN:DAYLIGHT
TZOFFSETFROM:+0100
TZOFFSETTO:+0200
TZNAME:CEST
DTSTART:20210328T010000
END:DAYLIGHT
BEGIN:STANDARD
TZOFFSETFROM:+0200
TZOFFSETTO:+0100
TZNAME:CET
DTSTART:20211031T010000
END:STANDARD
END:VTIMEZONE
BEGIN:VEVENT
DTSTART;TZID=Europe/Berlin:20211124T162400
DTEND;TZID=Europe/Berlin:20211124T162400
DTSTAMP:20260422T053818
CREATED:20210922T092817Z
LAST-MODIFIED:20220204T131539Z
UID:10000202-1637771040-1637771040@academy.bellicon.com
SUMMARY:bellicon® HEALTH Trainerausbildung (LEVERKUSEN)
DESCRIPTION:
URL:https://academy.bellicon.com/event/bellicon-health-trainerausbildung-leverkusen/
LOCATION:VGS Gesundheitszentrum\, Norderneystraße 31\, Leverkusen\, 51377\, Deutschland
CATEGORIES:bellicon® HEALTH Trainerausbildung
ATTACH;FMTTYPE=image/jpeg:https://academy.bellicon.com/wp-content/uploads/2021/09/HEALTH-Trainerausbildung.jpg
GEO:51.027942657471;7.0118165016174
X-APPLE-STRUCTURED-LOCATION;VALUE=URI;X-ADDRESS=VGS Gesundheitszentrum Norderneystraße 31 Leverkusen 51377 Deutschland;X-APPLE-RADIUS=500;X-TITLE=Norderneystraße 31:geo:7.0118165016174,51.027942657471
END:VEVENT
END:VCALENDAR