BEGIN:VCALENDAR
VERSION:2.0
PRODID:-//bellicon academy - ECPv6.8.2//NONSGML v1.0//EN
CALSCALE:GREGORIAN
METHOD:PUBLISH
X-ORIGINAL-URL:https://academy.bellicon.com
X-WR-CALDESC:Events for bellicon academy
REFRESH-INTERVAL;VALUE=DURATION:PT1H
X-Robots-Tag:noindex
X-PUBLISHED-TTL:PT1H
BEGIN:VTIMEZONE
TZID:Europe/Berlin
BEGIN:DAYLIGHT
TZOFFSETFROM:+0100
TZOFFSETTO:+0200
TZNAME:CEST
DTSTART:20220327T010000
END:DAYLIGHT
BEGIN:STANDARD
TZOFFSETFROM:+0200
TZOFFSETTO:+0100
TZNAME:CET
DTSTART:20221030T010000
END:STANDARD
END:VTIMEZONE
BEGIN:VEVENT
DTSTART;TZID=Europe/Berlin:20220430T090000
DTEND;TZID=Europe/Berlin:20220501T180000
DTSTAMP:20260421T210847
CREATED:20211207T125602Z
LAST-MODIFIED:20220404T142233Z
UID:10000214-1651309200-1651428000@academy.bellicon.com
SUMMARY:bellicon® JUMPING Trainerausbildung (Schongau)
DESCRIPTION:Für wen ist die bellicon JUMPING Ausbildung geeignet?\nFür die Teilnahme an der bellicon JUMPING Ausbildung wird Erfahrung im Bereich Gruppenfitness empfohlen\, aber nicht vorausgesetzt. Alle\, die künftig fitnessorientierte Kurse auf bellicon® Minitrampolinen anbieten möchten\, finden in dieser Ausbildung die Grundlage dafür. \nWas beinhaltet die bellicon JUMPING Ausbildung?\nDie bellicon JUMPING Ausbildung ist die Grundausbildung für fitnessorientierte und qualitativ hochwertige bellicon JUMPING Kurse. Neben der korrekten Ausführung der Schritte und der Sprungtechnik wird auch Musiklehre sowie das Anleiten von Gruppenkursen mit Hilfe von Musik und der sinnvolle Aufbau einer Kursstunde vermittelt. Dank des umfassenden Paketes aus Theorie und Praxis sind die Teilnehmerinnen und Teilnehmer der Ausbildung am Ende des Seminars in der Lage\, eine erstklassige bellicon® JUMPING Stunde durchzuführen. Vor der Ausbildung wird den Teilnehmerinnen und Teilnehmern ein Informationsvideo zum bellicon® Trampolin\, zur Geschichte\, der Philosophie sowie zu den Workshops der Academy zugeschickt. \nDer zweite Ausbildungstag schließt mit einer praktischen Einzelprüfung ab\, in der die Teilnehmenden eine Kursstunde simulieren – von der Begrüßung über die Erläuterung der wesentlichen Aspekte des bellicon® bis hin zur Anleitung einiger Schritte unter korrekter Nutzung von Musik. Ein Punktesystem schafft dabei maximale Transparenz und ermöglicht es\, auf Schwachstellen eingehen zu können. Sollte es mit dem Abschluss der Ausbildung nicht auf Anhieb klappen\, stellt die bellicon Academy so lange ihre Unterstützung zur Verfügung bis einer erfolgreichen Qualifikation nichts mehr im Wege steht. \nWelche Möglichkeiten bietet die bellicon JUMPING Ausbildung?\nNach der fitnessorientierten Grundausbildung können die Trainerinnen und Trainer weiterführende Workshops der bellicon Academy\, wie bellicon ADVANCED\, bellicon INTERVALL\, bellicon HEALTH oder bellicon KIDS besuchen\, um das Kursangebot noch besser an die eigene Zielgruppe anpassen zu können. Nach einer Ausbildung sind die Trainerinnen und Trainer in ihrer Trainertätigkeit vollkommen frei und zu keinen Lizenzgebühren verpflichtet. \nZusätzliche Informationen:\n\nWir starten beide Tage pünktlich um 09:00 Uhr und beenden das Seminar um 18:00 Uhr.\nUmkleiden und Duschen dürfen natürlich benutzt werden.\n\nDas solltest du mitbringen:\n\nPausenverpflegung\nHandtuch und ausreichend Wechselsachen\nSchreibmaterial\n\nWir freuen uns auf dich! \nHINWEISWir machen während des Seminars Fotos\, um diese auf Facebook zu posten und euch zur Verfügung zu stellen. Wer damit nicht einverstanden ist\, teilt uns das bitte vorab mit. Wir würden die entsprechenden Fotos dann rausfiltern. \n Buchbar bis Mittwochabend vor Veranstaltungsbeginn\n 
URL:https://academy.bellicon.com/event/bellicon-jumping-trainerausbildung-schongau-2022-04-30/
LOCATION:Freiraum Schongau / AOK Gesundheitstreff\, Blumenstr. 15\, Schongau\, 86956\, Deutschland
CATEGORIES:bellicon® JUMPING Trainerausbildung,Trainerausbildungen
ORGANIZER;CN="bellicon Europe GmbH":MAILTO:info@bellicon.academy
GEO:47.8171384;10.897174
X-APPLE-STRUCTURED-LOCATION;VALUE=URI;X-ADDRESS=Freiraum Schongau / AOK Gesundheitstreff Blumenstr. 15 Schongau 86956 Deutschland;X-APPLE-RADIUS=500;X-TITLE=Blumenstr. 15:geo:10.897174,47.8171384
END:VEVENT
BEGIN:VEVENT
DTSTART;TZID=Europe/Berlin:20220430T100000
DTEND;TZID=Europe/Berlin:20220430T130000
DTSTAMP:20260421T210847
CREATED:20220209T104343Z
LAST-MODIFIED:20220711T095551Z
UID:10000234-1651312800-1651323600@academy.bellicon.com
SUMMARY:bellicon REFRESHER Workshop ONLINE
DESCRIPTION:Für wen ist der bellicon Schritttechnik REFRESHER Workshop geeignet?\nDer bellicon Schritttechnik REFRESHER Workshop eignet sich für alle Trainerinnen und Trainer\, die bereits die bellicon JUMPING oder die Jumping Fitness Basic Ausbildung erfolgreich abgeschlossen haben und ihre Technik der Grundschritte auffrischen\, offene Fragen klären und zusammen bei einer Masterclass ganz viel Jumping- Spaß haben wollen. \nWas beinhaltet der bellicon Schritttechnik REFRESHER Workshop?\nWährend des dreistündigen Workshops wird die Arm-\, Bein- und Sprungtechnik der bellicon JUMPING Grundschritte wiederholt\, geputzt und perfektioniert. Anschließend jumpen wir zusammen eine Masterclass in der wir auch hier nochmal besonderes Augenmerk auf besonders viel Spaß und natürlich die korrekte Technik legen. Nach der Praxiseinheit bleibt noch Zeit zum Austausch und der Klärung offener Fragen\, die ihr auf dem Herzen habt. \nWelche Möglichkeiten bietet der bellicon Schritttechnik REFRESHER Workshop?\nDer Workshop befähigt die Teilnehmenden zu einem sichereren Umgang mit den Sprungtechniken und klärt offene Fragen zu den bellicon JUMPING Schritten. Du wirst nach dem Workshop selbstbewusster in deinen Kursen auftreten und die Schritttechnik mit Sicherheit vermitteln können. Dies wirkt sich positiv auf die Qualität\, Effektivität und Funktionalität deiner bellicon JUMPING Stunden aus. \nZusätzliche Informationen:\n\nDer bellicon Schritttechnik REFRESHER Workshop ist ein online Workshop und wird per Videokonferenz (Webinar) via Zoom abgehalten.\nDer Zugang erfolgt über einen persönlichen Link.\nBitte stelle vorab sicher\, dass dein Endgerät inklusive Kamera und Audio bei der Nutzung von Zoom funktionieren. Der Zoom- Meetingraum steht dir dazu ab 9:45 Uhr zur Verfügung.\nWir starten den Workshop pünktlich um 10:00 Uhr und beenden ihn um 13:00 Uhr.\n\nTechnische Voraussetzungen:\n\ninternetfähiges Endgerät (Laptop\, Tablet oder Ähnliches) mit integrierter Kamera oder Webcam und Audioausgang (Boxen)\nentsprechend schneller Internetzugang\n\nDas solltest du mitbringen:\n\nein bellicon\nHandtuch und Trinken\nSchreibmaterial\n\nWir freuen uns auf dich!
URL:https://academy.bellicon.com/event/bellicon-refresher-workshop/
CATEGORIES:Online Specials
ORGANIZER;CN="bellicon Europe GmbH":MAILTO:info@bellicon.academy
END:VEVENT
END:VCALENDAR