BEGIN:VCALENDAR
VERSION:2.0
PRODID:-//bellicon academy - ECPv6.8.2//NONSGML v1.0//EN
CALSCALE:GREGORIAN
METHOD:PUBLISH
X-ORIGINAL-URL:https://academy.bellicon.com
X-WR-CALDESC:Events for bellicon academy
REFRESH-INTERVAL;VALUE=DURATION:PT1H
X-Robots-Tag:noindex
X-PUBLISHED-TTL:PT1H
BEGIN:VTIMEZONE
TZID:Europe/Berlin
BEGIN:DAYLIGHT
TZOFFSETFROM:+0100
TZOFFSETTO:+0200
TZNAME:CEST
DTSTART:20220327T010000
END:DAYLIGHT
BEGIN:STANDARD
TZOFFSETFROM:+0200
TZOFFSETTO:+0100
TZNAME:CET
DTSTART:20221030T010000
END:STANDARD
END:VTIMEZONE
BEGIN:VEVENT
DTSTART;TZID=Europe/Berlin:20220522T100000
DTEND;TZID=Europe/Berlin:20220522T170000
DTSTAMP:20260421T192507
CREATED:20211210T072116Z
LAST-MODIFIED:20230901T081617Z
UID:10000229-1653213600-1653238800@academy.bellicon.com
SUMMARY:bellicon® KIDS Workshop (Unterhaching)
DESCRIPTION:  \nFür wen ist der bellicon KIDS Workshop geeignet?\nDer bellicon KIDS Workshop umfasst ein speziell für Kinder und Jugendliche entwickeltes Kursprogramm auf dem Minitrampolin und richtet sich an alle Trainerinnen und Trainer\, die bereits die bellicon JUMPING\, Jumping Fitness Basic Ausbildung und/oder die bellicon HEALTH Ausbildung abgeschlossen haben. \nWas beinhaltet der bellicon KIDS Workshop?\nKinder und Jugendliche sind in ihren Entwicklungsphasen unterschiedlich bewegungsfreudig und neugierig. Daher benötigen sie abwechslungsreiche Anregungen und Bewegungsideen. In dem eintägigen Workshop lernen die Teilnehmerinnen und Teilnehmer\, wie man spielerisch und kreativ die Fähigkeiten und Fertigkeiten von Kindern und Jugendlichen entsprechend ihrer sportmotorischen Entwicklung mit\, auf und am Trampolin fördern und fordern kann. Motiviere die Kleinen durch Choreographien sowie Spiel und Spaß an Sport und Bewegung. Während des Workshops bringen sich die Trainerinnen und Trainer über eine Praxispräsentation aktiv ein\, indem sie die gelernten Spiele und Ideen anwenden und umsetzen. \nWelche Möglichkeiten bietet der bellicon KIDS Workshop?\nNach erfolgreicher Teilnahme am Workshop sind die Trainerinnen und Trainer in der Lage\, altersgerechte und pädagogisch wertvolle Trampolinkurse für Kinder und Jugendliche anzubieten. \nZusätzliche Informationen:\n\nWir starten pünktlich um 10:00 Uhr und beenden das Seminar um 17:00 Uhr.\nUmkleiden und Duschen dürfen natürlich benutzt werden.]\nEs gibt direkt vor dem Studio einen Parkplatz mit ausreichend studioeigenen Parkplätzen.\nIn ca. 200 m Entfernung ist ein Lidl und ein Chinesisches Restaurant. In ca. 500 m Entfernung ist ein Aldi\, ein Edeka und ein dm Drogeriemarkt. In ca. 300 m Entfernung befindet sich die Bäckerei Ihle.\n\nDas solltest du mitbringen:\n\nPausenverpflegung\nHandtuch und ausreichend Wechselsachen\nSchreibmaterial\n\nHotels in nächster Umgebung zum Veranstaltungsort:\n\nHotel DEMAS Garni\, Hauptstr. 32\, 82008 Unterhaching – Tel.: 089-665220\nHoliday Inn\, Inselkammerstr. 7-9\, 82008 Unterhaching- Tel.: 089-666910\n\nWir freuen uns auf dich! \nHINWEISWir machen während des Seminars Fotos\, um diese auf Facebook zu posten und euch zur Verfügung zu stellen. Wer damit nicht einverstanden ist\, teilt uns das bitte vorab mit. Wir würden die entsprechenden Fotos dann rausfiltern. \n Buchbar bis Mittwochabend vor Veranstaltungsbeginn\n 
URL:https://academy.bellicon.com/event/bellicon-kids-workshop-unterhaching-2022-05-22/
CATEGORIES:bellicon® KIDS Workshop,Workshops
END:VEVENT
END:VCALENDAR