BEGIN:VCALENDAR
VERSION:2.0
PRODID:-//bellicon academy - ECPv6.8.2//NONSGML v1.0//EN
CALSCALE:GREGORIAN
METHOD:PUBLISH
X-WR-CALNAME:bellicon academy
X-ORIGINAL-URL:https://academy.bellicon.com
X-WR-CALDESC:Events for bellicon academy
REFRESH-INTERVAL;VALUE=DURATION:PT1H
X-Robots-Tag:noindex
X-PUBLISHED-TTL:PT1H
BEGIN:VTIMEZONE
TZID:Europe/Berlin
BEGIN:DAYLIGHT
TZOFFSETFROM:+0100
TZOFFSETTO:+0200
TZNAME:CEST
DTSTART:20220327T010000
END:DAYLIGHT
BEGIN:STANDARD
TZOFFSETFROM:+0200
TZOFFSETTO:+0100
TZNAME:CET
DTSTART:20221030T010000
END:STANDARD
END:VTIMEZONE
BEGIN:VEVENT
DTSTART;TZID=Europe/Berlin:20220611T090000
DTEND;TZID=Europe/Berlin:20220612T180000
DTSTAMP:20260421T223618
CREATED:20220221T143741Z
LAST-MODIFIED:20220221T143741Z
UID:10000241-1654938000-1655056800@academy.bellicon.com
SUMMARY:bellicon® JUMPING Trainerausbildung (Schmalkalden)
DESCRIPTION:  \nFür wen ist die bellicon JUMPING Ausbildung geeignet?\nFür die Teilnahme an der bellicon JUMPING Ausbildung wird Erfahrung im Bereich Gruppenfitness empfohlen\, aber nicht vorausgesetzt. Alle\, die künftig fitnessorientierte Kurse auf bellicon® Minitrampolinen anbieten möchten\, finden in dieser Ausbildung die Grundlage dafür. \nWas beinhaltet die bellicon JUMPING Ausbildung?\nDie bellicon JUMPING Ausbildung ist die Grundausbildung für fitnessorientierte und qualitativ hochwertige bellicon JUMPING Kurse. Neben der korrekten Ausführung der Schritte und der Sprungtechnik wird auch Musiklehre sowie das Anleiten von Gruppenkursen mit Hilfe von Musik und der sinnvolle Aufbau einer Kursstunde vermittelt. Dank des umfassenden Paketes aus Theorie und Praxis sind die Teilnehmerinnen und Teilnehmer der Ausbildung am Ende des Seminars in der Lage\, eine erstklassige bellicon® JUMPING Stunde durchzuführen. Vor der Ausbildung wird den Teilnehmerinnen und Teilnehmern ein Informationsvideo zum bellicon® Trampolin\, zur Geschichte\, der Philosophie sowie zu den Workshops der Academy zugeschickt. \nDer zweite Ausbildungstag schließt mit einer praktischen Einzelprüfung ab\, in der die Teilnehmenden eine Kursstunde simulieren – von der Begrüßung über die Erläuterung der wesentlichen Aspekte des bellicon® bis hin zur Anleitung einiger Schritte unter korrekter Nutzung von Musik. Ein Punktesystem schafft dabei maximale Transparenz und ermöglicht es\, auf Schwachstellen eingehen zu können. Sollte es mit dem Abschluss der Ausbildung nicht auf Anhieb klappen\, stellt die bellicon Academy so lange ihre Unterstützung zur Verfügung bis einer erfolgreichen Qualifikation nichts mehr im Wege steht.  \nWelche Möglichkeiten bietet die bellicon JUMPING Ausbildung?\nNach der fitnessorientierten Grundausbildung können die Trainerinnen und Trainer weiterführende Workshops der bellicon Academy\, wie bellicon ADVANCED\, bellicon INTERVALL\, bellicon HEALTH oder bellicon KIDS besuchen\, um das Kursangebot noch besser an die eigene Zielgruppe anpassen zu können. Nach einer Ausbildung sind die Trainerinnen und Trainer in ihrer Trainertätigkeit vollkommen frei und zu keinen Lizenzgebühren verpflichtet.  \nZusätzliche Informationen:\n\nWir starten beide Tage pünktlich um 09:00 Uhr und beenden das Seminar um  18:00 Uhr.\nUmkleiden und Duschen dürfen natürlich benutzt werden.\nIn der Umgebung des Studios befinden sich mehrere gastronomische Angebote.\n\nDas solltest du mitbringen:\n\nPausenverpflegung\nHandtuch und ausreichend Wechselsachen\nSchreibmaterial\n\nHotels in nächster Umgebung zum Veranstaltungsort:\n\nFerienwohnung-Vermietung über Maria Töffels-Baacke\, Tel.: 0179 1234780\nHotel Grünes Tor\, Weidebrunner Gasse 14\, 98574 Schmalkalden\nStadthotel Patrizier\, Weidebrunner Gasse 9\, 98574 Schmalkalden\n\nWir freuen uns auf dich! \nHINWEISWir machen während des Seminars Fotos\, um diese auf Facebook zu posten und euch zur Verfügung zu stellen. Wer damit nicht einverstanden ist\, teilt uns das bitte vorab mit. Wir würden die entsprechenden Fotos dann rausfiltern. \n Buchbar bis Mittwochabend vor Veranstaltungsbeginn\n 
URL:https://academy.bellicon.com/event/bellicon-jumping-trainerausbildung-schmalkalden-2022-06-11/
LOCATION:Easyfitness Schmalkalden\, Haindorfsgasse 15\, Schmalkalden\, 98574\, Deutschland
CATEGORIES:bellicon® JUMPING Trainerausbildung,Trainerausbildungen
GEO:50.724090576172;10.452477455139
X-APPLE-STRUCTURED-LOCATION;VALUE=URI;X-ADDRESS=Easyfitness Schmalkalden Haindorfsgasse 15 Schmalkalden 98574 Deutschland;X-APPLE-RADIUS=500;X-TITLE=Haindorfsgasse 15:geo:10.452477455139,50.724090576172
END:VEVENT
BEGIN:VEVENT
DTSTART;TZID=Europe/Berlin:20220611T100000
DTEND;TZID=Europe/Berlin:20220611T170000
DTSTAMP:20260421T223618
CREATED:20220131T072619Z
LAST-MODIFIED:20220204T131526Z
UID:10000232-1654941600-1654966800@academy.bellicon.com
SUMMARY:bellicon® HEALTH Workshop (Leverkusen)
DESCRIPTION:  \nFür wen ist der bellicon HEALTH Workshop geeignet?\nDer bellicon HEALTH Workshop ist die optimale Gelegenheit für alle bellicon JUMPING Trainerinnen und Trainer\, ihr Kursangebot um gesundheitsorientierte Stunden auf dem bellicon® Minitrampolin zu erweitern. Health Kurse sind vor allem für Trampolineinsteiger\, ältere Teilnehmerinnen und Teilnehmer oder Personen mit gesundheitlichen Beschwerden geeignet. Die Voraussetzung für die Teilnahme am Workshop ist die erfolgreich bestandene bellicon JUMPING Ausbildung oder die Jumping Fitness Basic Ausbildung. \nWas beinhaltet der bellicon HEALTH Workshop?\nDer Theorieteil des eintägigen Workshops vermittelt anatomisch-physiologische Kenntnisse\, Trainingsmöglichkeiten in einer Gruppe mit heterogenen pathologischen Befunden und den binnendifferenzierten methodisch-didaktische Aufbau für eine gesundheitsorientierte Nutzung eines bellicon® Trampolins. Nach einer Praxispräsentation eines Fallbeispiels in einer Kleingruppe gilt der Workshop als erfolgreich beendet und wird mit einem Zertifikat abgeschlossen. \nWelche Möglichkeiten bietet der bellicon HEALTH Workshop?\nDie Trainerinnen und Trainer sind nach dem bellicon HEALTH Workshop dazu qualifiziert\, qualitativ hochwertige Trampolinkurse im Gesundheitsbereich anbieten zu können. \nAm Tag danach besteht die Möglichkeit an einem bellicon® KIDS Workshop an diesem Standort teilzunehmen. \nZusätzliche Informationen:\n\nWir starten pünktlich um 10:00 Uhr und beenden das Seminar um 17:00 Uhr.\nParkplätze auf der Straße vorhanden.\nUmkleiden und Duschen dürfen natürlich benutzt werden.\n\nDas solltest du mitbringen:\n\nPausenverpflegung\nHandtuch und ausreichend Wechselsachen\nSchreibmaterial\n\nHotels in nächster Umgebung zum Veranstaltungsort:\n\nAltstadt Hotel Leverkusen\, Lichstr. 43\, 51373 Leverkusen\, Telefon: 0214/830080\nManforter Hof\, Manforter Straße 247\, 51373 Leverkusen\, Tel.: 0214 73468895\nHotel friends Köln\, Roggendorfstraße 23-25\, 51061 Köln\, Tel.: 0221 67 11 880 (mit dem Auto erreichbar)\n\nWir freuen uns auf dich! \nHINWEISWir machen während des Seminars Fotos\, um diese auf Facebook zu posten und euch zur Verfügung zu stellen. Wer damit nicht einverstanden ist\, teilt uns das bitte vorab mit. Wir würden die entsprechenden Fotos dann rausfiltern. \n Buchbar bis Mittwochabend vor Veranstaltungsbeginn\n 
URL:https://academy.bellicon.com/event/bellicon-health-workshop-leverkusen-2022-06-11/
LOCATION:VGS Gesundheitszentrum\, Norderneystraße 31\, Leverkusen\, 51377\, Deutschland
CATEGORIES:bellicon® HEALTH Workshop,Workshops
ORGANIZER;CN="bellicon Europe GmbH":MAILTO:info@bellicon.academy
GEO:51.027942657471;7.0118165016174
X-APPLE-STRUCTURED-LOCATION;VALUE=URI;X-ADDRESS=VGS Gesundheitszentrum Norderneystraße 31 Leverkusen 51377 Deutschland;X-APPLE-RADIUS=500;X-TITLE=Norderneystraße 31:geo:7.0118165016174,51.027942657471
END:VEVENT
END:VCALENDAR