BEGIN:VCALENDAR
VERSION:2.0
PRODID:-//bellicon academy - ECPv6.8.2//NONSGML v1.0//EN
CALSCALE:GREGORIAN
METHOD:PUBLISH
X-ORIGINAL-URL:https://academy.bellicon.com
X-WR-CALDESC:Events for bellicon academy
REFRESH-INTERVAL;VALUE=DURATION:PT1H
X-Robots-Tag:noindex
X-PUBLISHED-TTL:PT1H
BEGIN:VTIMEZONE
TZID:Europe/Berlin
BEGIN:DAYLIGHT
TZOFFSETFROM:+0100
TZOFFSETTO:+0200
TZNAME:CEST
DTSTART:20220327T010000
END:DAYLIGHT
BEGIN:STANDARD
TZOFFSETFROM:+0200
TZOFFSETTO:+0100
TZNAME:CET
DTSTART:20221030T010000
END:STANDARD
END:VTIMEZONE
BEGIN:VEVENT
DTSTART;TZID=Europe/Berlin:20220910T100000
DTEND;TZID=Europe/Berlin:20220910T130000
DTSTAMP:20260421T103612
CREATED:20220316T115710Z
LAST-MODIFIED:20220711T095543Z
UID:10000244-1662804000-1662814800@academy.bellicon.com
SUMMARY:bellicon REFRESHER Workshop ONLINE
DESCRIPTION:Für wen ist der bellicon Schritttechnik REFRESHER Workshop geeignet?\nDer bellicon Schritttechnik REFRESHER Workshop eignet sich für alle Trainerinnen und Trainer\, die bereits die bellicon JUMPING oder die Jumping Fitness Basic Ausbildung erfolgreich abgeschlossen haben und ihre Technik der Grundschritte auffrischen\, offene Fragen klären und zusammen bei einer Masterclass ganz viel Jumping- Spaß haben wollen. \nWas beinhaltet der bellicon Schritttechnik REFRESHER Workshop?\nWährend des dreistündigen Workshops wird die Arm-\, Bein- und Sprungtechnik der bellicon JUMPING Grundschritte wiederholt\, geputzt und perfektioniert. Anschließend jumpen wir zusammen eine Masterclass in der wir auch hier nochmal besonderes Augenmerk auf besonders viel Spaß und natürlich die korrekte Technik legen. Nach der Praxiseinheit bleibt noch Zeit zum Austausch und der Klärung offener Fragen\, die ihr auf dem Herzen habt. \nWelche Möglichkeiten bietet der bellicon Schritttechnik REFRESHER Workshop?\nDer Workshop befähigt die Teilnehmenden zu einem sichereren Umgang mit den Sprungtechniken und klärt offene Fragen zu den bellicon JUMPING Schritten. Du wirst nach dem Workshop selbstbewusster in deinen Kursen auftreten und die Schritttechnik mit Sicherheit vermitteln können. Dies wirkt sich positiv auf die Qualität\, Effektivität und Funktionalität deiner bellicon JUMPING Stunden aus. \nZusätzliche Informationen:\n\nDer bellicon Schritttechnik REFRESHER Workshop ist ein online Workshop und wird per Videokonferenz (Webinar) via Zoom abgehalten.\nDer Zugang erfolgt über einen persönlichen Link.\nBitte stelle vorab sicher\, dass dein Endgerät inklusive Kamera und Audio bei der Nutzung von Zoom funktionieren. Der Zoom- Meetingraum steht dir dazu ab 9:45 Uhr zur Verfügung.\nWir starten den Workshop pünktlich um 10:00 Uhr und beenden ihn um 13:00 Uhr.\n\nTechnische Voraussetzungen:\n\ninternetfähiges Endgerät (Laptop\, Tablet oder Ähnliches) mit integrierter Kamera oder Webcam und Audioausgang (Boxen)\nentsprechend schneller Internetzugang\n\nDas solltest du mitbringen:\n\nein bellicon\nHandtuch und Trinken\nSchreibmaterial\n\nWir freuen uns auf dich!
URL:https://academy.bellicon.com/event/bellicon-refresher-workshop-online-2022-09-10/
CATEGORIES:Online Specials,Workshops
ORGANIZER;CN="bellicon Europe GmbH":MAILTO:info@bellicon.academy
END:VEVENT
BEGIN:VEVENT
DTSTART;TZID=Europe/Berlin:20220910T100000
DTEND;TZID=Europe/Berlin:20220910T170000
DTSTAMP:20260421T103612
CREATED:20220214T160057Z
LAST-MODIFIED:20220223T090235Z
UID:10000237-1662804000-1662829200@academy.bellicon.com
SUMMARY:bellicon® INTERVALL Workshop (Rottenburg)
DESCRIPTION:  \nFür wen ist der bellicon INTERVALL Workshop geeignet?\nAlle bereits ausgebildeten bellicon JUMPING oder Jumping Fitness Basic Trainerinnen und Trainer lernen in diesem Workshop Techniken und Trainingsmethoden\, die den heutigen Fitnessanforderungen von Zeit und Effektivität entsprechen.  \nWas beinhaltet der bellicon INTERVALL Workshop?\nIn dem eintägigen Workshop erhalten die Teilnehmerinnen und Teilnehmer notwendiges Hintergrundwissen sowie die dazu sinnvollen Werkzeuge\, um Kursstunden auf dem bellicon® nach dem angesagten Intervall- und Circleprinzip zu unterrichten. Die im bellicon JUMPING Kurs erlangte Grundlagenausdauer kann in einem Intervallkurs auf ein höheres Level gebracht werden. Zusätzlich werden während des Workshops Werkzeuge zu kraftbasiertem Circletraining gelehrt\, die die Trainerinnen und Trainer befähigt\, kraftorientierte Kurse auf dem bellicon® zu geben. Nach einer kurzen praktischen Präsentation der im Workshop erworbenen Trainingstechniken im Intervall- und Circletraining wird ein bellicon INTERVALL Zertifikat überreicht. \nWelche Möglichkeiten bietet der bellicon INTERVALL Workshop?\nDie Trainerinnen und Trainer sind dank der im Workshop vermittelten Sachkenntnisse und Fertigkeiten in der Lage\, spezifische bellicon JUMPING Kurse nach dem Intervall- und Circleprinzip zu geben und damit auch fortgeschrittene Teilnehmerinnen und Teilnehmer anzusprechen. \nAm Tag danach besteht die Möglichkeit an einem bellicon® JUMPING meets Shadowboxer Workshop an diesem Standort teilzunehmen. \nZusätzliche Informationen:\n\nWir starten pünktlich um 10:00 Uhr und beenden das Seminar um 17:00 Uhr.\nUmkleiden und Duschen dürfen natürlich benutzt werden (Schrankschlüssel gegen Schlüsselpfand erhältlich).\nEs sind kostenlose Parkplätze vorhanden.\nNeben dem Studio befindet sich ein Lidl\, Bäcker\, Metzger und Italiener.\nEine Getränke Tagesflat aus der Schankanlage ist für 2\,80€ am Tag erhältlich\n\nDas solltest du mitbringen:\n\nPausenverpflegung\nHandtuch und ausreichend Wechselsachen\nSchreibmaterial\n\nHotels in nächster Umgebung zum Veranstaltungsort:\n\nFerienwohnung Welte – Ergenzingen\, Starenweg 32\, 72108 Rottenburg am Neckar – Tel.: 07457-1467\nHotel Schloss Weitenburg\, Weitenburg 1\, 72181 Starzach – Tel.: 07457-9330\n\nWir freuen uns auf dich! \nHINWEISWir machen während des Seminars Fotos\, um diese auf Facebook zu posten und euch zur Verfügung zu stellen. Wer damit nicht einverstanden ist\, teilt uns das bitte vorab mit. Wir würden die entsprechenden Fotos dann rausfiltern.\n 
URL:https://academy.bellicon.com/event/bellicon-intervall-workshop-rottenburg-2022-09-10/
LOCATION:Evolution Fitness Club\, Junghansring 64\, Rottenburg - Ergenzingen\, 72108\, Deutschland
CATEGORIES:bellicon® INTERVALL Workshop,Workshops
ORGANIZER;CN="bellicon Europe GmbH":MAILTO:info@bellicon.academy
GEO:48.4957026;8.8175358
X-APPLE-STRUCTURED-LOCATION;VALUE=URI;X-ADDRESS=Evolution Fitness Club Junghansring 64 Rottenburg - Ergenzingen 72108 Deutschland;X-APPLE-RADIUS=500;X-TITLE=Junghansring 64:geo:8.8175358,48.4957026
END:VEVENT
END:VCALENDAR