BEGIN:VCALENDAR
VERSION:2.0
PRODID:-//bellicon academy - ECPv6.8.2//NONSGML v1.0//EN
CALSCALE:GREGORIAN
METHOD:PUBLISH
X-WR-CALNAME:bellicon academy
X-ORIGINAL-URL:https://academy.bellicon.com
X-WR-CALDESC:Events for bellicon academy
REFRESH-INTERVAL;VALUE=DURATION:PT1H
X-Robots-Tag:noindex
X-PUBLISHED-TTL:PT1H
BEGIN:VTIMEZONE
TZID:Europe/Berlin
BEGIN:DAYLIGHT
TZOFFSETFROM:+0100
TZOFFSETTO:+0200
TZNAME:CEST
DTSTART:20220327T010000
END:DAYLIGHT
BEGIN:STANDARD
TZOFFSETFROM:+0200
TZOFFSETTO:+0100
TZNAME:CET
DTSTART:20221030T010000
END:STANDARD
END:VTIMEZONE
BEGIN:VEVENT
DTSTART;TZID=Europe/Berlin:20220911T110000
DTEND;TZID=Europe/Berlin:20220911T180000
DTSTAMP:20260421T103133
CREATED:20220214T160205Z
LAST-MODIFIED:20220223T090204Z
UID:10000238-1662894000-1662919200@academy.bellicon.com
SUMMARY:bellicon® JUMPING meets Shadowboxer Workshop (Rottenburg)
DESCRIPTION:  \nDer eintägige Workshop bellicon JUMPING meets Shadowboxer richtet sich an alle Trainerinnen und Trainer mit abgeschlossener bellicon JUMPING oder vergleichbarer Ausbildung und befähigt sie dazu\, das Trainingstool Shadowboxer mit dem bellicon® Trampolin als innovatives Workout zu kombinieren. \nDie Idee zu diesem Kurskonzept war\, das eher Core- und Lower body-lastige Workout auf dem bellicon® mit einem Trainingstool zu vereinen\, das sich sehr auf den Upper body auswirkt. In der Kombination entstand mit JUMPING meets Shadowboxer ein Workout\, das alle fünf Fähigkeiten trainiert\, die einem gesunden Körper zugrunde liegen: \nAusdauer – Kraft – Schnelligkeit – Beweglichkeit – Koordination \nDer Shadowboxer übernimmt hierbei die Rolle des stabilisierenden Elementes. Ziel des Trainings\, wie auch unvermeidbarer Nebeneffekt\, ist die Erweiterung der Ausdauer und die Kräftigung des ganzen Körpers.\n————————————————————————————\nDer Theorieteil des Workshops beschäftigt sich mit den Vorzügen des Mobility Trainings\, den physiologischen Grundlagen des Intervalltrainings und dem Konzept des funktionellen Trainings.\nIm Praxisteil wird das durch den/die Ausbilder/in angeleitete Stundenbild behandelt\, wie auch Boxing- und Workout Moves mit dem Shadowboxer auf dem bellicon® erlernt.\nZum Abschluss des Workshops erhält jeder Teilnehmende ein Zertifikat.\n—————————————————————————————\nDie Voraussetzungen für die Teilnahme am JUMPING meets Shadowboxer Workshop sind das vollendete 16. Lebensjahr sowie eine erfolgreich bestandene Jumping Fitness Basic oder bellicon® JUMPING Ausbildung. Empfohlen wird zudem eine gute Grundlagenausdauer.  \nAm Tag davor besteht die Möglichkeit an einem bellicon® INTERVALL Workshop an diesem Standort teilzunehmen. \nZusätzliche Informationen:\n\nWir starten pünktlich um 10:00 Uhr und beenden das Seminar um 17:00 Uhr.\nUmkleiden und Duschen dürfen natürlich benutzt werden (Schrankschlüssel gegen Schlüsselpfand erhältlich).\nEs sind kostenlose Parkplätze vorhanden.\nNeben dem Studio befindet sich ein Lidl\, Bäcker\, Metzger und Italiener.\nEine Getränke Tagesflat aus der Schankanlage ist für 2\,80€ am Tag erhältlich\n\nDas solltest du mitbringen:\n\nPausenverpflegung\nHandtuch und ausreichend Wechselsachen\nSchreibmaterial\n\nHotels in nächster Umgebung zum Veranstaltungsort:\n\nFerienwohnung Welte – Ergenzingen\, Starenweg 32\, 72108 Rottenburg am Neckar – Tel.: 07457-1467\nHotel Schloss Weitenburg\, Weitenburg 1\, 72181 Starzach – Tel.: 07457-9330\n\nWir freuen uns auf dich! \nHINWEISWir machen während des Seminars Fotos\, um diese auf Facebook zu posten und euch zur Verfügung zu stellen. Wer damit nicht einverstanden ist\, teilt uns das bitte vorab mit. Wir würden die entsprechenden Fotos dann rausfiltern. \n Inklusive Gürtel buchbar bis Sonntagabend\, \nohne Gürtel buchbar bis Mittwochabend vor Veranstaltungsbeginn\n 
URL:https://academy.bellicon.com/event/bellicon-jmsb-workshop-rottenburg-2022-09-11/
LOCATION:Evolution Fitness Club\, Junghansring 64\, Rottenburg - Ergenzingen\, 72108\, Deutschland
CATEGORIES:bellicon® JUMPING meets Shadowboxer Workshop,Workshops
ORGANIZER;CN="bellicon Europe GmbH":MAILTO:info@bellicon.academy
GEO:48.4957026;8.8175358
X-APPLE-STRUCTURED-LOCATION;VALUE=URI;X-ADDRESS=Evolution Fitness Club Junghansring 64 Rottenburg - Ergenzingen 72108 Deutschland;X-APPLE-RADIUS=500;X-TITLE=Junghansring 64:geo:8.8175358,48.4957026
END:VEVENT
END:VCALENDAR