BEGIN:VCALENDAR
VERSION:2.0
PRODID:-//bellicon academy - ECPv6.8.2//NONSGML v1.0//EN
CALSCALE:GREGORIAN
METHOD:PUBLISH
X-ORIGINAL-URL:https://academy.bellicon.com
X-WR-CALDESC:Events for bellicon academy
REFRESH-INTERVAL;VALUE=DURATION:PT1H
X-Robots-Tag:noindex
X-PUBLISHED-TTL:PT1H
BEGIN:VTIMEZONE
TZID:Europe/Berlin
BEGIN:DAYLIGHT
TZOFFSETFROM:+0100
TZOFFSETTO:+0200
TZNAME:CEST
DTSTART:20220327T010000
END:DAYLIGHT
BEGIN:STANDARD
TZOFFSETFROM:+0200
TZOFFSETTO:+0100
TZNAME:CET
DTSTART:20221030T010000
END:STANDARD
END:VTIMEZONE
BEGIN:VEVENT
DTSTART;TZID=Europe/Berlin:20221203T090000
DTEND;TZID=Europe/Berlin:20221204T180000
DTSTAMP:20260421T032923
CREATED:20220214T154845Z
LAST-MODIFIED:20220223T102611Z
UID:10000236-1670058000-1670176800@academy.bellicon.com
SUMMARY:bellicon® JUMPING Trainerausbildung (Rottenburg)
DESCRIPTION:  \nFür wen ist die bellicon JUMPING Ausbildung geeignet?\nFür die Teilnahme an der bellicon JUMPING Ausbildung wird Erfahrung im Bereich Gruppenfitness empfohlen\, aber nicht vorausgesetzt. Alle\, die künftig fitnessorientierte Kurse auf bellicon® Minitrampolinen anbieten möchten\, finden in dieser Ausbildung die Grundlage dafür. \nWas beinhaltet die bellicon JUMPING Ausbildung?\nDie bellicon JUMPING Ausbildung ist die Grundausbildung für fitnessorientierte und qualitativ hochwertige bellicon JUMPING Kurse. Neben der korrekten Ausführung der Schritte und der Sprungtechnik wird auch Musiklehre sowie das Anleiten von Gruppenkursen mit Hilfe von Musik und der sinnvolle Aufbau einer Kursstunde vermittelt. Dank des umfassenden Paketes aus Theorie und Praxis sind die Teilnehmerinnen und Teilnehmer der Ausbildung am Ende des Seminars in der Lage\, eine erstklassige bellicon® JUMPING Stunde durchzuführen. Vor der Ausbildung wird den Teilnehmerinnen und Teilnehmern ein Informationsvideo zum bellicon® Trampolin\, zur Geschichte\, der Philosophie sowie zu den Workshops der Academy zugeschickt. \nDer zweite Ausbildungstag schließt mit einer praktischen Einzelprüfung ab\, in der die Teilnehmenden eine Kursstunde simulieren – von der Begrüßung über die Erläuterung der wesentlichen Aspekte des bellicon® bis hin zur Anleitung einiger Schritte unter korrekter Nutzung von Musik. Ein Punktesystem schafft dabei maximale Transparenz und ermöglicht es\, auf Schwachstellen eingehen zu können. Sollte es mit dem Abschluss der Ausbildung nicht auf Anhieb klappen\, stellt die bellicon Academy so lange ihre Unterstützung zur Verfügung bis einer erfolgreichen Qualifikation nichts mehr im Wege steht.  \nWelche Möglichkeiten bietet die bellicon JUMPING Ausbildung?\nNach der fitnessorientierten Grundausbildung können die Trainerinnen und Trainer weiterführende Workshops der bellicon Academy\, wie bellicon ADVANCED\, bellicon INTERVALL\, bellicon HEALTH oder bellicon KIDS besuchen\, um das Kursangebot noch besser an die eigene Zielgruppe anpassen zu können. Nach einer Ausbildung sind die Trainerinnen und Trainer in ihrer Trainertätigkeit vollkommen frei und zu keinen Lizenzgebühren verpflichtet.  \nZusätzliche Informationen:\n\nWir starten beide Tage pünktlich um 09:00 Uhr und beenden das Seminar um  18:00 Uhr.\nUmkleiden und Duschen dürfen natürlich benutzt werden (Schrankschlüssel gegen Schlüsselpfand erhältlich).\nEs sind kostenlose Parkplätze vorhanden.\nNeben dem Studio befindet sich ein Lidl\, Bäcker\, Metzger und Italiener.\nEine Getränke Tagesflat aus der Schankanlage ist für 2\,80€ am Tag erhältlich\n\nDas solltest du mitbringen:\n\nPausenverpflegung\nHandtuch und ausreichend Wechselsachen\nSchreibmaterial\n\nHotels in nächster Umgebung zum Veranstaltungsort:\n\nFerienwohnung Welte – Ergenzingen\, Starenweg 32\, 72108 Rottenburg am Neckar – Tel.: 07457-1467\nHotel Schloss Weitenburg\, Weitenburg 1\, 72181 Starzach – Tel.: 07457-9330\n\nWir freuen uns auf dich! \nHINWEISWir machen während des Seminars Fotos\, um diese auf Facebook zu posten und euch zur Verfügung zu stellen. Wer damit nicht einverstanden ist\, teilt uns das bitte vorab mit. Wir würden die entsprechenden Fotos dann rausfiltern. \n Buchbar bis Mittwochabend vor Veranstaltungsbeginn\n 
URL:https://academy.bellicon.com/event/bellicon-jumping-trainerausbildung-rottenburg-2022-12-03/
LOCATION:Evolution Fitness Club\, Junghansring 64\, Rottenburg - Ergenzingen\, 72108\, Deutschland
CATEGORIES:bellicon® JUMPING Trainerausbildung,Trainerausbildungen
ORGANIZER;CN="bellicon Europe GmbH":MAILTO:info@bellicon.academy
GEO:48.4957026;8.8175358
X-APPLE-STRUCTURED-LOCATION;VALUE=URI;X-ADDRESS=Evolution Fitness Club Junghansring 64 Rottenburg - Ergenzingen 72108 Deutschland;X-APPLE-RADIUS=500;X-TITLE=Junghansring 64:geo:8.8175358,48.4957026
END:VEVENT
BEGIN:VEVENT
DTSTART;TZID=Europe/Berlin:20221203T090000
DTEND;TZID=Europe/Berlin:20221204T180000
DTSTAMP:20260421T032923
CREATED:20221024T113529Z
LAST-MODIFIED:20221024T113529Z
UID:10000277-1670058000-1670176800@academy.bellicon.com
SUMMARY:bellicon® JUMPING Trainerausbildung (Lenzburg)
DESCRIPTION:  \nFür wen ist die bellicon JUMPING Ausbildung geeignet?\nFür die Teilnahme an der bellicon JUMPING Ausbildung wird Erfahrung im Bereich Gruppenfitness empfohlen\, aber nicht vorausgesetzt. Alle\, die künftig fitnessorientierte Kurse auf bellicon® Minitrampolinen anbieten möchten\, finden in dieser Ausbildung die Grundlage dafür. \nWas beinhaltet die bellicon JUMPING Ausbildung?\nDie bellicon JUMPING Ausbildung ist die Grundausbildung für fitnessorientierte und qualitativ hochwertige bellicon JUMPING Kurse. Neben der korrekten Ausführung der Schritte und der Sprungtechnik wird auch Musiklehre sowie das Anleiten von Gruppenkursen mit Hilfe von Musik und der sinnvolle Aufbau einer Kursstunde vermittelt. Dank des umfassenden Paketes aus Theorie und Praxis sind die Teilnehmerinnen und Teilnehmer der Ausbildung am Ende des Seminars in der Lage\, eine erstklassige bellicon® JUMPING Stunde durchzuführen. Vor der Ausbildung wird den Teilnehmerinnen und Teilnehmern ein Informationsvideo zum bellicon® Trampolin\, zur Geschichte\, der Philosophie sowie zu den Workshops der Academy zugeschickt. \nDer zweite Ausbildungstag schließt mit einer praktischen Einzelprüfung ab\, in der die Teilnehmenden eine Kursstunde simulieren – von der Begrüßung über die Erläuterung der wesentlichen Aspekte des bellicon® bis hin zur Anleitung einiger Schritte unter korrekter Nutzung von Musik. Ein Punktesystem schafft dabei maximale Transparenz und ermöglicht es\, auf Schwachstellen eingehen zu können. Sollte es mit dem Abschluss der Ausbildung nicht auf Anhieb klappen\, stellt die bellicon Academy so lange ihre Unterstützung zur Verfügung bis einer erfolgreichen Qualifikation nichts mehr im Wege steht.  \nWelche Möglichkeiten bietet die bellicon JUMPING Ausbildung?\nNach der fitnessorientierten Grundausbildung können die Trainerinnen und Trainer weiterführende Workshops der bellicon Academy\, wie bellicon ADVANCED\, bellicon INTERVALL\, bellicon HEALTH oder bellicon KIDS besuchen\, um das Kursangebot noch besser an die eigene Zielgruppe anpassen zu können. Nach einer Ausbildung sind die Trainerinnen und Trainer in ihrer Trainertätigkeit vollkommen frei und zu keinen Lizenzgebühren verpflichtet.  \nZusätzliche Informationen:\n\nWir starten beide Tage pünktlich um 09:00 Uhr und beenden das Seminar um  18:00 Uhr.\nUmkleiden und Duschen dürfen natürlich benutzt werden.\n\nDas solltest du mitbringen:\n\nPausenverpflegung\nHandtuch und ausreichend Wechselsachen\nSchreibmaterial\n\nHotels in nächster Umgebung zum Veranstaltungsort:\n\nHotel Lenzburg\, Aavorstadt 26\, 5600 Lenzburg\, Schweiz\, Tel.: +41 62 888 87 87\n\nWir freuen uns auf dich! \nHINWEISWir machen während des Seminars Fotos\, um diese auf Facebook zu posten und euch zur Verfügung zu stellen. Wer damit nicht einverstanden ist\, teilt uns das bitte vorab mit. Wir würden die entsprechenden Fotos dann rausfiltern. \n —HINWEIS— Wir können für diesen Termin aktuell keine Rechnungen ausstellen und reichen diese schnellstmöglich nach! \n 
URL:https://academy.bellicon.com/event/bellicon-jumping-trainerausbildung-lenzburg-2022-12-03/
LOCATION:Swing motion\, Industriestrasse 26\, Lenzburg\, 5600\, Schweiz
CATEGORIES:bellicon® JUMPING Trainerausbildung,Trainerausbildungen
ORGANIZER;CN="bellicon Europe GmbH":MAILTO:info@bellicon.academy
GEO:47.041343688965;8.311222076416
X-APPLE-STRUCTURED-LOCATION;VALUE=URI;X-ADDRESS=Swing motion Industriestrasse 26 Lenzburg 5600 Schweiz;X-APPLE-RADIUS=500;X-TITLE=Industriestrasse 26:geo:8.311222076416,47.041343688965
END:VEVENT
BEGIN:VEVENT
DTSTART;TZID=Europe/Berlin:20221204T100000
DTEND;TZID=Europe/Berlin:20221204T170000
DTSTAMP:20260421T032923
CREATED:20211208T113905Z
LAST-MODIFIED:20220131T073015Z
UID:10000222-1670148000-1670173200@academy.bellicon.com
SUMMARY:bellicon® KIDS Workshop (Berlin)
DESCRIPTION:  \nFür wen ist der bellicon KIDS Workshop geeignet?\nDer bellicon KIDS Workshop umfasst ein speziell für Kinder und Jugendliche entwickeltes Kursprogramm auf dem Minitrampolin und richtet sich an alle Trainerinnen und Trainer\, die bereits die bellicon JUMPING\, Jumping Fitness Basic Ausbildung und/oder die bellicon HEALTH Ausbildung abgeschlossen haben. \nWas beinhaltet der bellicon KIDS Workshop?\nKinder und Jugendliche sind in ihren Entwicklungsphasen unterschiedlich bewegungsfreudig und neugierig. Daher benötigen sie abwechslungsreiche Anregungen und Bewegungsideen. In dem eintägigen Workshop lernen die Teilnehmerinnen und Teilnehmer\, wie man spielerisch und kreativ die Fähigkeiten und Fertigkeiten von Kindern und Jugendlichen entsprechend ihrer sportmotorischen Entwicklung mit\, auf und am Trampolin fördern und fordern kann. Motiviere die Kleinen durch Choreographien sowie Spiel und Spaß an Sport und Bewegung. Während des Workshops bringen sich die Trainerinnen und Trainer über eine Praxispräsentation aktiv ein\, indem sie die gelernten Spiele und Ideen anwenden und umsetzen. \nWelche Möglichkeiten bietet der bellicon KIDS Workshop?\nNach erfolgreicher Teilnahme am Workshop sind die Trainerinnen und Trainer in der Lage\, altersgerechte und pädagogisch wertvolle Trampolinkurse für Kinder und Jugendliche anzubieten. \nAm Tag davor besteht die Möglichkeit an einem bellicon® HEALTH Workshop an diesem Standort teilzunehmen. \nZusätzliche Informationen:\n\nWir starten pünktlich um 10:00 Uhr und beenden das Seminar um 17:00 Uhr.\nEigenes\, kostenfreies Parkhaus vorhanden.\nViele Einkaufsmöglichkeiten in Laufweite.\nUmkleiden und Duschen dürfen natürlich benutzt werden.\n\nDas solltest du mitbringen:\n\nPausenverpflegung\nHandtuch und ausreichend Wechselsachen\nSchreibmaterial\n\nHotels in nächster Umgebung zum Veranstaltungsort:\n\nHotel 103\, Schönhauser Allee 103\, 10439 Berlin\, Telefon: 030 43659103\nBornholmer Hof\, Bornholmer Str. 92\, 10439 Berlin\, Telefon: 030 4440573\n\nWir freuen uns auf dich! \nHINWEISWir machen während des Seminars Fotos\, um diese auf Facebook zu posten und euch zur Verfügung zu stellen. Wer damit nicht einverstanden ist\, teilt uns das bitte vorab mit. Wir würden die entsprechenden Fotos dann rausfiltern. \n Buchbar bis Mittwochabend vor Veranstaltungsbeginn\n 
URL:https://academy.bellicon.com/event/bellicon-kids-workshop-berlin-2022-12-04/
LOCATION:Unlimited Pankow\, Neumannstraße 13\, Berlin\, 13189\, Deutschland
CATEGORIES:bellicon® KIDS Workshop,Workshops
ORGANIZER;CN="bellicon Europe GmbH":MAILTO:info@bellicon.academy
GEO:52.561340332031;13.421832084656
X-APPLE-STRUCTURED-LOCATION;VALUE=URI;X-ADDRESS=Unlimited Pankow Neumannstraße 13 Berlin 13189 Deutschland;X-APPLE-RADIUS=500;X-TITLE=Neumannstraße 13:geo:13.421832084656,52.561340332031
END:VEVENT
END:VCALENDAR