BEGIN:VCALENDAR
VERSION:2.0
PRODID:-//bellicon academy - ECPv6.8.2//NONSGML v1.0//EN
CALSCALE:GREGORIAN
METHOD:PUBLISH
X-WR-CALNAME:bellicon academy
X-ORIGINAL-URL:https://academy.bellicon.com
X-WR-CALDESC:Events for bellicon academy
REFRESH-INTERVAL;VALUE=DURATION:PT1H
X-Robots-Tag:noindex
X-PUBLISHED-TTL:PT1H
BEGIN:VTIMEZONE
TZID:Europe/Berlin
BEGIN:DAYLIGHT
TZOFFSETFROM:+0100
TZOFFSETTO:+0200
TZNAME:CEST
DTSTART:20230326T010000
END:DAYLIGHT
BEGIN:STANDARD
TZOFFSETFROM:+0200
TZOFFSETTO:+0100
TZNAME:CET
DTSTART:20231029T010000
END:STANDARD
END:VTIMEZONE
BEGIN:VEVENT
DTSTART;TZID=Europe/Berlin:20230304T090000
DTEND;TZID=Europe/Berlin:20230305T180000
DTSTAMP:20260420T220713
CREATED:20221201T131744Z
LAST-MODIFIED:20221201T131744Z
UID:10000174-1677920400-1678039200@academy.bellicon.com
SUMMARY:bellicon® JUMPING Trainerausbildung (Berlin)
DESCRIPTION:  \nFür wen ist die bellicon JUMPING Ausbildung geeignet?\nFür die Teilnahme an der bellicon JUMPING Ausbildung wird Erfahrung im Bereich Gruppenfitness empfohlen\, aber nicht vorausgesetzt. Alle\, die künftig fitnessorientierte Kurse auf bellicon® Minitrampolinen anbieten möchten\, finden in dieser Ausbildung die Grundlage dafür. \nWas beinhaltet die bellicon JUMPING Ausbildung?\nDie bellicon JUMPING Ausbildung ist die Grundausbildung für fitnessorientierte und qualitativ hochwertige bellicon JUMPING Kurse. Neben der korrekten Ausführung der Schritte und der Sprungtechnik wird auch Musiklehre sowie das Anleiten von Gruppenkursen mit Hilfe von Musik und der sinnvolle Aufbau einer Kursstunde vermittelt. Dank des umfassenden Paketes aus Theorie und Praxis sind die Teilnehmerinnen und Teilnehmer der Ausbildung am Ende des Seminars in der Lage\, eine erstklassige bellicon® JUMPING Stunde durchzuführen. Vor der Ausbildung wird den Teilnehmerinnen und Teilnehmern ein Informationsvideo zum bellicon® Trampolin\, zur Geschichte\, der Philosophie sowie zu den Workshops der Academy zugeschickt. \nDer zweite Ausbildungstag schließt mit einer praktischen Einzelprüfung ab\, in der die Teilnehmenden eine Kursstunde simulieren – von der Begrüßung über die Erläuterung der wesentlichen Aspekte des bellicon® bis hin zur Anleitung einiger Schritte unter korrekter Nutzung von Musik. Ein Punktesystem schafft dabei maximale Transparenz und ermöglicht es\, auf Schwachstellen eingehen zu können. Sollte es mit dem Abschluss der Ausbildung nicht auf Anhieb klappen\, stellt die bellicon Academy so lange ihre Unterstützung zur Verfügung bis einer erfolgreichen Qualifikation nichts mehr im Wege steht.  \nWelche Möglichkeiten bietet die bellicon JUMPING Ausbildung?\nNach der fitnessorientierten Grundausbildung können die Trainerinnen und Trainer weiterführende Workshops der bellicon Academy\, wie bellicon ADVANCED\, bellicon INTERVALL\, bellicon HEALTH oder bellicon KIDS besuchen\, um das Kursangebot noch besser an die eigene Zielgruppe anpassen zu können. Nach einer Ausbildung sind die Trainerinnen und Trainer in ihrer Trainertätigkeit vollkommen frei und zu keinen Lizenzgebühren verpflichtet.  \nZusätzliche Informationen:\n\nWir starten beide Tage pünktlich um 09:00 Uhr und beenden das Seminar um  18:00 Uhr.\nParkplätze sind auf der Straße vorhanden (gegen Gebühr).\nDas Studio ist sehr gut mit den öffentlichen Verkehrmitteln zu erreichen.\nViele Einkaufsmöglichkeiten in Laufweite z.B. Lidl oder Bäckerei (allerdings ist sonntags alles geschlossen).\nUmkleiden und Duschen dürfen natürlich benutzt werden.\n\nDas solltest du mitbringen:\n\nPausenverpflegung\nHandtuch und ausreichend Wechselsachen\nSchreibmaterial\n\nHotels in nächster Umgebung zum Veranstaltungsort:\n\nAspria Berlin Ku’damm\, Karlsruher Str. 20\, 10711 Berlin\, Telefon: 030 890688868\nHotel Ku‘ Damm 101\, Kurfürstendamm 101\, 10711 Berlin\, Telefon: 030 5200550\nLANDMARK eco Hotel\, Gervinusstraße 24\, 10629 Berlin\, Telefon: 030 3279970\nNovum Hotel Kronprinz Berlin\, Kronprinzendamm 1\, 10711 Berlin\, Telefon: 030 896030\n\nWir freuen uns auf dich! \nHINWEISWir machen während des Seminars Fotos\, um diese auf Facebook zu posten und euch zur Verfügung zu stellen. Wer damit nicht einverstanden ist\, teilt uns das bitte vorab mit. Wir würden die entsprechenden Fotos dann rausfiltern. \n Buchbar bis Mittwochabend vor Veranstaltungsbeginn\n 
URL:https://academy.bellicon.com/event/bellicon-jumping-trainerausbildung-berlin-2023-03-04/
CATEGORIES:bellicon® JUMPING Trainerausbildung,Trainerausbildungen
END:VEVENT
END:VCALENDAR