BEGIN:VCALENDAR
VERSION:2.0
PRODID:-//bellicon academy - ECPv6.8.2//NONSGML v1.0//EN
CALSCALE:GREGORIAN
METHOD:PUBLISH
X-ORIGINAL-URL:https://academy.bellicon.com
X-WR-CALDESC:Events for bellicon academy
REFRESH-INTERVAL;VALUE=DURATION:PT1H
X-Robots-Tag:noindex
X-PUBLISHED-TTL:PT1H
BEGIN:VTIMEZONE
TZID:Europe/Berlin
BEGIN:DAYLIGHT
TZOFFSETFROM:+0100
TZOFFSETTO:+0200
TZNAME:CEST
DTSTART:20230326T010000
END:DAYLIGHT
BEGIN:STANDARD
TZOFFSETFROM:+0200
TZOFFSETTO:+0100
TZNAME:CET
DTSTART:20231029T010000
END:STANDARD
END:VTIMEZONE
BEGIN:VEVENT
DTSTART;TZID=Europe/Berlin:20230318T100000
DTEND;TZID=Europe/Berlin:20230318T170000
DTSTAMP:20260421T070118
CREATED:20221025T054051Z
LAST-MODIFIED:20221025T054051Z
UID:10000163-1679133600-1679158800@academy.bellicon.com
SUMMARY:bellicon® JUMPING meets Shadowboxer Workshop (Leverkusen)
DESCRIPTION:  \nDer eintägige Workshop bellicon JUMPING meets Shadowboxer richtet sich an alle Trainerinnen und Trainer mit abgeschlossener bellicon JUMPING oder vergleichbarer Ausbildung und befähigt sie dazu\, das Trainingstool Shadowboxer mit dem bellicon® Trampolin als innovatives Workout zu kombinieren. \nDie Idee zu diesem Kurskonzept war\, das eher Core- und Lower body-lastige Workout auf dem bellicon® mit einem Trainingstool zu vereinen\, das sich sehr auf den Upper body auswirkt. In der Kombination entstand mit JUMPING meets Shadowboxer ein Workout\, das alle fünf Fähigkeiten trainiert\, die einem gesunden Körper zugrunde liegen: \nAusdauer – Kraft – Schnelligkeit – Beweglichkeit – Koordination \nDer Shadowboxer übernimmt hierbei die Rolle des stabilisierenden Elementes. Ziel des Trainings\, wie auch unvermeidbarer Nebeneffekt\, ist die Erweiterung der Ausdauer und die Kräftigung des ganzen Körpers.\n————————————————————————————\nDer Theorieteil des Workshops beschäftigt sich mit den Vorzügen des Mobility Trainings\, den physiologischen Grundlagen des Intervalltrainings und dem Konzept des funktionellen Trainings.\nIm Praxisteil wird das durch den/die Ausbilder/in angeleitete Stundenbild behandelt\, wie auch Boxing- und Workout Moves mit dem Shadowboxer auf dem bellicon® erlernt.\nZum Abschluss des Workshops erhält jeder Teilnehmende ein Zertifikat.\n—————————————————————————————\nDie Voraussetzungen für die Teilnahme am JUMPING meets Shadowboxer Workshop sind das vollendete 16. Lebensjahr sowie eine erfolgreich bestandene Jumping Fitness Basic oder bellicon® JUMPING Ausbildung. Empfohlen wird zudem eine gute Grundlagenausdauer.  \nAm Tag danach besteht die Möglichkeit an einem bellicon® ADVANCED Workshop an diesem Standort teilzunehmen. \nZusätzliche Informationen:\n\nWir starten pünktlich um 10:00 Uhr und beenden das Seminar um 17:00 Uhr.\nParkplätze auf der Straße vorhanden.\nUmkleiden und Duschen dürfen natürlich benutzt werden.\n\nDas solltest du mitbringen:\n\nPausenverpflegung\nHandtuch und ausreichend Wechselsachen\nSchreibmaterial\n\nHotels in nächster Umgebung zum Veranstaltungsort:\n\nAltstadt Hotel Leverkusen\, Lichstr. 43\, 51373 Leverkusen\, Telefon: 0214/830080\nManforter Hof\, Manforter Straße 247\, 51373 Leverkusen\, Tel.: 0214 73468895\nHotel friends Köln\, Roggendorfstraße 23-25\, 51061 Köln\, Tel.: 0221 67 11 880 (mit dem Auto erreichbar)\n\nWir freuen uns auf dich! \nHINWEISWir machen während des Seminars Fotos\, um diese auf Facebook zu posten und euch zur Verfügung zu stellen. Wer damit nicht einverstanden ist\, teilt uns das bitte vorab mit. Wir würden die entsprechenden Fotos dann rausfiltern. \n Inklusive Gürtel buchbar bis Sonntagabend\, \nohne Gürtel buchbar bis Mittwochabend vor Veranstaltungsbeginn\n 
URL:https://academy.bellicon.com/event/bellicon-jmsb-workshop-leverkusen-2023-03-18/
LOCATION:VGS Gesundheitszentrum\, Norderneystraße 31\, Leverkusen\, 51377\, Deutschland
CATEGORIES:bellicon® JUMPING meets Shadowboxer Workshop,Workshops
ORGANIZER;CN="bellicon Europe GmbH":MAILTO:info@bellicon.academy
GEO:51.027942657471;7.0118165016174
X-APPLE-STRUCTURED-LOCATION;VALUE=URI;X-ADDRESS=VGS Gesundheitszentrum Norderneystraße 31 Leverkusen 51377 Deutschland;X-APPLE-RADIUS=500;X-TITLE=Norderneystraße 31:geo:7.0118165016174,51.027942657471
END:VEVENT
END:VCALENDAR