BEGIN:VCALENDAR
VERSION:2.0
PRODID:-//bellicon academy - ECPv6.8.2//NONSGML v1.0//EN
CALSCALE:GREGORIAN
METHOD:PUBLISH
X-WR-CALNAME:bellicon academy
X-ORIGINAL-URL:https://academy.bellicon.com
X-WR-CALDESC:Events for bellicon academy
REFRESH-INTERVAL;VALUE=DURATION:PT1H
X-Robots-Tag:noindex
X-PUBLISHED-TTL:PT1H
BEGIN:VTIMEZONE
TZID:Europe/Berlin
BEGIN:DAYLIGHT
TZOFFSETFROM:+0100
TZOFFSETTO:+0200
TZNAME:CEST
DTSTART:20230326T010000
END:DAYLIGHT
BEGIN:STANDARD
TZOFFSETFROM:+0200
TZOFFSETTO:+0100
TZNAME:CET
DTSTART:20231029T010000
END:STANDARD
END:VTIMEZONE
BEGIN:VEVENT
DTSTART;TZID=Europe/Berlin:20230324T190000
DTEND;TZID=Europe/Berlin:20230326T120000
DTSTAMP:20260420T220749
CREATED:20221005T085914Z
LAST-MODIFIED:20230111T113245Z
UID:10000258-1679684400-1679832000@academy.bellicon.com
SUMMARY:bellicon® Trainer:innenREISE (Harz)
DESCRIPTION:Liebe #belliconfamily\, liebe Trainer:innen\,\nendlich ist es so weit: vom 24.- 26.03.2023 findet unsere erste bellicon Trainer:innenREISE statt. Wir wollen gemeinsam feiern\, schmausen\, sporteln\, Spaß haben\, Altes refreshen und tolles Neues kennenlernen. Veranstaltungslocation ist das Movement Bad Lauterberg im Harz- Mitten in Deutschland. \nZum Programm\nDer Welcome Abend am Freitag startet gegen 19:00 Uhr. Wenn ihr es bis dahin schafft\, freuen wir uns\, ihr könnt aber natürlich auch später dazustoßen oder am Samstag früh Anreisen. Am Samstag und Sonntagvormittag werden wir Workshops und Refresher zu den Themen JUMPING\, HEALTH\, HEALTH Specials\, Jumping meets Shadowboxer\, Stretch & Relax\, Bounce & Balance\, bellicon meets TMX und weitere Überraschungen anbieten. Am Samstag wird es für alle Trainer/innen Mittags ein kleines Buffet und am Abend eine Party mit BBQ für alle geben. \nHier gibt es das Programm mit zusätzlichen Informationen als PDF zum Herunterladen. \nZur Buchung\nAls bellicon Trainer/in bucht ihr Euch ein „Trainerticket“. Dieses beinhaltet ein Sektchen/ O- Saft am Welcome Abend\, die Workshops und Refresher am Samstag und Sonntagvormittag\, das Mittagsbuffett\, das BBQ und die Party am Samstag. Wir werden zu den Workshopzeiten Wasser zur Verfügung stellen. Alle anderen Getränke müsst ihr bitte selbst ordern. \nDa die Tourismusbranche auch von den vergangenen und aktuellen Ereignissen gezeichnet ist\, war es uns nicht möglich mit einem Hotel einen Fixpreis für März ´23 auszumachen. Wir konnten aber das Mühlvital Resort Bad Lauterberg als Partner gewinnen. Mit dem Anmeldecode „bellicon“ erhaltet ihr dort bei telefonischer Buchung oder Anfrage per E-Mail 20% Rabatt auf die aktuelle Tagesrate der jeweiligen Zimmerkategorien (inkl. Frühstück und Nutzung des Wellnessbereichs\, Vierbettzimmer/ Familienzimmer vorhanden). Partner und Hunde sind erwünscht. \nZur Party am Samstagabend könnt ihr gern Eure Begleitperson/en mitbringen. Meldet diese bitte bei der Buchung als „Begleitperson“ an. Das Ticket für Begleitpersonen enthält den Eintritt zur Party. Speisen und Getränke für Begleitpersonen sind nicht inbegriffen\, können aber individuell vor Ort bezahlt werden. \nEure Unterkunft bucht daher bitte eigenständig. Jeder hat eigene Vorstellungen der Unterkunft\, Anreise etc. und so ist es einfacher für alle. Nutzt gern den Rabattcode für das Mühl Vital\, das können wir nur empfehlen und es ist im Kurpark direkt gegenüber des Movements. Ansonsten können gern noch Kontakte zu Ferienunterkünften bei uns angefragt werden. \nWir freuen uns auf eine zahlreiche Teilnahme\, auf alte Bekannte und neue Gesichter und senden euch beschwingte Grüße!\n 
URL:https://academy.bellicon.com/event/bellicon-trainerreise-harz-2023-03-24/
CATEGORIES:Events
END:VEVENT
END:VCALENDAR