BEGIN:VCALENDAR
VERSION:2.0
PRODID:-//bellicon academy - ECPv6.8.2//NONSGML v1.0//EN
CALSCALE:GREGORIAN
METHOD:PUBLISH
X-WR-CALNAME:bellicon academy
X-ORIGINAL-URL:https://academy.bellicon.com
X-WR-CALDESC:Events for bellicon academy
REFRESH-INTERVAL;VALUE=DURATION:PT1H
X-Robots-Tag:noindex
X-PUBLISHED-TTL:PT1H
BEGIN:VTIMEZONE
TZID:Europe/Berlin
BEGIN:DAYLIGHT
TZOFFSETFROM:+0100
TZOFFSETTO:+0200
TZNAME:CEST
DTSTART:20230326T010000
END:DAYLIGHT
BEGIN:STANDARD
TZOFFSETFROM:+0200
TZOFFSETTO:+0100
TZNAME:CET
DTSTART:20231029T010000
END:STANDARD
END:VTIMEZONE
BEGIN:VEVENT
DTSTART;TZID=Europe/Berlin:20230624T090000
DTEND;TZID=Europe/Berlin:20230625T180000
DTSTAMP:20260420T170348
CREATED:20221213T101742Z
LAST-MODIFIED:20221213T101742Z
UID:10000282-1687597200-1687716000@academy.bellicon.com
SUMMARY:bellicon® JUMPING Trainerausbildung (Lenzburg)
DESCRIPTION:  \nFür wen ist die bellicon JUMPING Ausbildung geeignet?\nFür die Teilnahme an der bellicon JUMPING Ausbildung wird Erfahrung im Bereich Gruppenfitness empfohlen\, aber nicht vorausgesetzt. Alle\, die künftig fitnessorientierte Kurse auf bellicon® Minitrampolinen anbieten möchten\, finden in dieser Ausbildung die Grundlage dafür. \nWas beinhaltet die bellicon JUMPING Ausbildung?\nDie bellicon JUMPING Ausbildung ist die Grundausbildung für fitnessorientierte und qualitativ hochwertige bellicon JUMPING Kurse. Neben der korrekten Ausführung der Schritte und der Sprungtechnik wird auch Musiklehre sowie das Anleiten von Gruppenkursen mit Hilfe von Musik und der sinnvolle Aufbau einer Kursstunde vermittelt. Dank des umfassenden Paketes aus Theorie und Praxis sind die Teilnehmerinnen und Teilnehmer der Ausbildung am Ende des Seminars in der Lage\, eine erstklassige bellicon® JUMPING Stunde durchzuführen. Vor der Ausbildung wird den Teilnehmerinnen und Teilnehmern ein Informationsvideo zum bellicon® Trampolin\, zur Geschichte\, der Philosophie sowie zu den Workshops der Academy zugeschickt. \nDer zweite Ausbildungstag schließt mit einer praktischen Einzelprüfung ab\, in der die Teilnehmenden eine Kursstunde simulieren – von der Begrüßung über die Erläuterung der wesentlichen Aspekte des bellicon® bis hin zur Anleitung einiger Schritte unter korrekter Nutzung von Musik. Ein Punktesystem schafft dabei maximale Transparenz und ermöglicht es\, auf Schwachstellen eingehen zu können. Sollte es mit dem Abschluss der Ausbildung nicht auf Anhieb klappen\, stellt die bellicon Academy so lange ihre Unterstützung zur Verfügung bis einer erfolgreichen Qualifikation nichts mehr im Wege steht.  \nWelche Möglichkeiten bietet die bellicon JUMPING Ausbildung?\nNach der fitnessorientierten Grundausbildung können die Trainerinnen und Trainer weiterführende Workshops der bellicon Academy\, wie bellicon ADVANCED\, bellicon INTERVALL\, bellicon HEALTH oder bellicon KIDS besuchen\, um das Kursangebot noch besser an die eigene Zielgruppe anpassen zu können. Nach einer Ausbildung sind die Trainerinnen und Trainer in ihrer Trainertätigkeit vollkommen frei und zu keinen Lizenzgebühren verpflichtet.  \nZusätzliche Informationen:\n\nWir starten beide Tage pünktlich um 09:00 Uhr und beenden das Seminar um  18:00 Uhr.\nUmkleiden und Duschen dürfen natürlich benutzt werden.\n\nDas solltest du mitbringen:\n\nPausenverpflegung\nHandtuch und ausreichend Wechselsachen\nSchreibmaterial\n\nHotels in nächster Umgebung zum Veranstaltungsort:\n\nHotel Lenzburg\, Aavorstadt 26\, 5600 Lenzburg\, Schweiz\, Tel.: +41 62 888 87 87\n\nWir freuen uns auf dich! \nHINWEISWir machen während des Seminars Fotos\, um diese auf Facebook zu posten und euch zur Verfügung zu stellen. Wer damit nicht einverstanden ist\, teilt uns das bitte vorab mit. Wir würden die entsprechenden Fotos dann rausfiltern. \n —HINWEIS— Wir können für diesen Termin aktuell keine Rechnungen ausstellen und reichen diese schnellstmöglich nach! \n 
URL:https://academy.bellicon.com/event/bellicon-jumping-trainerausbildung-lenzburg-2023-06-24/
LOCATION:Swing motion\, Industriestrasse 26\, Lenzburg\, 5600\, Schweiz
CATEGORIES:bellicon® JUMPING Trainerausbildung,Trainerausbildungen
ORGANIZER;CN="bellicon Europe GmbH":MAILTO:info@bellicon.academy
GEO:47.041343688965;8.311222076416
X-APPLE-STRUCTURED-LOCATION;VALUE=URI;X-ADDRESS=Swing motion Industriestrasse 26 Lenzburg 5600 Schweiz;X-APPLE-RADIUS=500;X-TITLE=Industriestrasse 26:geo:8.311222076416,47.041343688965
END:VEVENT
BEGIN:VEVENT
DTSTART;TZID=Europe/Berlin:20230624T090000
DTEND;TZID=Europe/Berlin:20230625T180000
DTSTAMP:20260420T170348
CREATED:20230508T140849Z
LAST-MODIFIED:20230508T140849Z
UID:10000290-1687597200-1687716000@academy.bellicon.com
SUMMARY:bellicon® HEALTH Trainerausbildung (Leverkusen)
DESCRIPTION:  \nFür wen ist die bellicon HEALTH Ausbildung geeignet? \nDie bellicon HEALTH Ausbildung ist die Grundausbildung für gesundheitsorientierte Trampolinkurse auf dem bellicon®. Die erstklassige Ausbildung ist Voraussetzung für Gruppenkurse im funktionellen Bereich mit Trampolineinsteigern\, älteren Teilnehmerinnen und Teilnehmern und Personen mit gesundheitlichen Beschwerden. Die bellicon HEALTH Ausbildung dient als Basis für alle Workshops im Gesundheitsbereich der bellicon Academy.  \nWas beinhaltet die bellicon HEALTH Ausbildung?\nWährend den zwei Ausbildungstagen wird anatomisch-physiologisches Wissen\, Trainingsmöglichkeiten einer Gruppe mit heterogenen pathologischen Befunden\, der binnendifferenzierte methodisch-didaktische Aufbau sowie das professionelle Anleiten einer bellicon HEALTH Stunde mit Hilfe von Musik vermittelt. Am Ende des zweiten Tages erfolgt eine praktische Einzelprüfung zu einem Fallbeispiel\, in der die zuvor gelernten Inhalte einem standardisierten Punktekatalog entsprechend gezeigt und genannt werden müssen. Nachdem die Ausbildung erfolgreich bestanden ist\, erhalten die Teilnehmerinnen und Teilnehmer ein Diplom. Sollte es mit dem Abschluss nicht auf Anhieb klappen\, stellt die bellicon Academy so lange ihre Unterstützung zur Verfügung bis einer erfolgreichen Qualifikation nichts mehr im Wege steht.  \nWelche Möglichkeiten bietet die bellicon HEALTH Ausbildung?\nDie neuen Trainerinnen und Trainer haben nach einer erfolgreich bestandenen bellicon HEALTH Ausbildung die Trainerkompetenz und -qualifikation\, um erstklassige gesundheitsorientierte Trampolinkurse zu unterrichten. Die bellicon Academy steht nach der Ausbildung jederzeit für Fragen zu Kursen\, zum Trampolinkauf sowie zu weiterführenden Angeboten im Gesundheits- und Fitnessbereich wie bellicon MED\, bellicon JUMPING oder bellicon KIDS gerne zur Verfügung. Lizenzgebühren oder vertragliche Verpflichtungen gibt es keine.  \nZusätzliche Informationen:\n\nWir starten beide Tage pünktlich um 09:00 Uhr und beenden das Seminar um  18:00 Uhr.\nParkplätze auf der Straße vorhanden.\nUmkleiden und Duschen dürfen natürlich benutzt werden.\n\nDas solltest du mitbringen:\n\nPausenverpflegung\nHandtuch und ausreichend Wechselsachen\nSchreibmaterial\n\nHotels in nächster Umgebung zum Veranstaltungsort:\n\nAltstadt Hotel Leverkusen\, Lichstr. 43\, 51373 Leverkusen\, Telefon: 0214/830080\nManforter Hof\, Manforter Straße 247\, 51373 Leverkusen\, Tel.: 0214 73468895\nHotel friends Köln\, Roggendorfstraße 23-25\, 51061 Köln\, Tel.: 0221 67 11 880 (mit dem Auto erreichbar)\n\nWir freuen uns auf dich! \nHINWEISWir machen während des Seminars Fotos\, um diese auf Facebook zu posten und euch zur Verfügung zu stellen. Wer damit nicht einverstanden ist\, teilt uns das bitte vorab mit. Wir würden die entsprechenden Fotos dann rausfiltern. \n Buchbar bis Mittwochabend vor Veranstaltungsbeginn\n 
URL:https://academy.bellicon.com/event/bellicon-health-trainerausbildung-leverkusen-2023-06-24/
LOCATION:VGS Gesundheitszentrum\, Norderneystraße 31\, Leverkusen\, 51377\, Deutschland
CATEGORIES:bellicon® HEALTH Trainerausbildung,Trainerausbildungen
ORGANIZER;CN="bellicon Europe GmbH":MAILTO:info@bellicon.academy
GEO:51.027942657471;7.0118165016174
X-APPLE-STRUCTURED-LOCATION;VALUE=URI;X-ADDRESS=VGS Gesundheitszentrum Norderneystraße 31 Leverkusen 51377 Deutschland;X-APPLE-RADIUS=500;X-TITLE=Norderneystraße 31:geo:7.0118165016174,51.027942657471
END:VEVENT
END:VCALENDAR