BEGIN:VCALENDAR
VERSION:2.0
PRODID:-//bellicon academy - ECPv6.8.2//NONSGML v1.0//EN
CALSCALE:GREGORIAN
METHOD:PUBLISH
X-ORIGINAL-URL:https://academy.bellicon.com
X-WR-CALDESC:Events for bellicon academy
REFRESH-INTERVAL;VALUE=DURATION:PT1H
X-Robots-Tag:noindex
X-PUBLISHED-TTL:PT1H
BEGIN:VTIMEZONE
TZID:Europe/Berlin
BEGIN:DAYLIGHT
TZOFFSETFROM:+0100
TZOFFSETTO:+0200
TZNAME:CEST
DTSTART:20230326T010000
END:DAYLIGHT
BEGIN:STANDARD
TZOFFSETFROM:+0200
TZOFFSETTO:+0100
TZNAME:CET
DTSTART:20231029T010000
END:STANDARD
END:VTIMEZONE
BEGIN:VEVENT
DTSTART;TZID=Europe/Berlin:20230826T090000
DTEND;TZID=Europe/Berlin:20230827T180000
DTSTAMP:20260420T090126
CREATED:20221020T121141Z
LAST-MODIFIED:20221020T121141Z
UID:10000266-1693040400-1693159200@academy.bellicon.com
SUMMARY:bellicon® JUMPING Trainerausbildung (Schmalkalden)
DESCRIPTION:  \nFür wen ist die bellicon JUMPING Ausbildung geeignet?\nFür die Teilnahme an der bellicon JUMPING Ausbildung wird Erfahrung im Bereich Gruppenfitness empfohlen\, aber nicht vorausgesetzt. Alle\, die künftig fitnessorientierte Kurse auf bellicon® Minitrampolinen anbieten möchten\, finden in dieser Ausbildung die Grundlage dafür. \nWas beinhaltet die bellicon JUMPING Ausbildung?\nDie bellicon JUMPING Ausbildung ist die Grundausbildung für fitnessorientierte und qualitativ hochwertige bellicon JUMPING Kurse. Neben der korrekten Ausführung der Schritte und der Sprungtechnik wird auch Musiklehre sowie das Anleiten von Gruppenkursen mit Hilfe von Musik und der sinnvolle Aufbau einer Kursstunde vermittelt. Dank des umfassenden Paketes aus Theorie und Praxis sind die Teilnehmerinnen und Teilnehmer der Ausbildung am Ende des Seminars in der Lage\, eine erstklassige bellicon® JUMPING Stunde durchzuführen. Vor der Ausbildung wird den Teilnehmerinnen und Teilnehmern ein Informationsvideo zum bellicon® Trampolin\, zur Geschichte\, der Philosophie sowie zu den Workshops der Academy zugeschickt. \nDer zweite Ausbildungstag schließt mit einer praktischen Einzelprüfung ab\, in der die Teilnehmenden eine Kursstunde simulieren – von der Begrüßung über die Erläuterung der wesentlichen Aspekte des bellicon® bis hin zur Anleitung einiger Schritte unter korrekter Nutzung von Musik. Ein Punktesystem schafft dabei maximale Transparenz und ermöglicht es\, auf Schwachstellen eingehen zu können. Sollte es mit dem Abschluss der Ausbildung nicht auf Anhieb klappen\, stellt die bellicon Academy so lange ihre Unterstützung zur Verfügung bis einer erfolgreichen Qualifikation nichts mehr im Wege steht.  \nWelche Möglichkeiten bietet die bellicon JUMPING Ausbildung?\nNach der fitnessorientierten Grundausbildung können die Trainerinnen und Trainer weiterführende Workshops der bellicon Academy\, wie bellicon ADVANCED\, bellicon INTERVALL\, bellicon HEALTH oder bellicon KIDS besuchen\, um das Kursangebot noch besser an die eigene Zielgruppe anpassen zu können. Nach einer Ausbildung sind die Trainerinnen und Trainer in ihrer Trainertätigkeit vollkommen frei und zu keinen Lizenzgebühren verpflichtet.  \nZusätzliche Informationen:\n\nWir starten beide Tage pünktlich um 09:00 Uhr und beenden das Seminar um  18:00 Uhr.\nUmkleiden und Duschen dürfen natürlich benutzt werden.\nIn der Umgebung des Studios befinden sich mehrere gastronomische Angebote.\n\nDas solltest du mitbringen:\n\nPausenverpflegung\nHandtuch und ausreichend Wechselsachen\nSchreibmaterial\n\nHotels in nächster Umgebung zum Veranstaltungsort:\n\nFerienwohnung-Vermietung über Maria Töffels-Baacke\, Tel.: 0179 1234780\nHotel Grünes Tor\, Weidebrunner Gasse 14\, 98574 Schmalkalden\nStadthotel Patrizier\, Weidebrunner Gasse 9\, 98574 Schmalkalden\n\nWir freuen uns auf dich! \nHINWEISWir machen während des Seminars Fotos\, um diese auf Facebook zu posten und euch zur Verfügung zu stellen. Wer damit nicht einverstanden ist\, teilt uns das bitte vorab mit. Wir würden die entsprechenden Fotos dann rausfiltern. \n Buchbar bis Mittwochabend vor Veranstaltungsbeginn\n 
URL:https://academy.bellicon.com/event/bellicon-jumping-trainerausbildung-schmalkalden-2023-08-26/
LOCATION:Easyfitness Schmalkalden\, Haindorfsgasse 15\, Schmalkalden\, 98574\, Deutschland
CATEGORIES:bellicon® JUMPING Trainerausbildung,Trainerausbildungen
ORGANIZER;CN="bellicon Europe GmbH":MAILTO:info@bellicon.academy
GEO:50.724090576172;10.452477455139
X-APPLE-STRUCTURED-LOCATION;VALUE=URI;X-ADDRESS=Easyfitness Schmalkalden Haindorfsgasse 15 Schmalkalden 98574 Deutschland;X-APPLE-RADIUS=500;X-TITLE=Haindorfsgasse 15:geo:10.452477455139,50.724090576172
END:VEVENT
BEGIN:VEVENT
DTSTART;TZID=Europe/Berlin:20230826T090000
DTEND;TZID=Europe/Berlin:20230827T180000
DTSTAMP:20260420T090126
CREATED:20230607T085046Z
LAST-MODIFIED:20230607T085059Z
UID:10000294-1693040400-1693159200@academy.bellicon.com
SUMMARY:bellicon® JUMPING Trainerausbildung (Hamburg)
DESCRIPTION:  \nFür wen ist die bellicon JUMPING Ausbildung geeignet?\nFür die Teilnahme an der bellicon JUMPING Ausbildung wird Erfahrung im Bereich Gruppenfitness empfohlen\, aber nicht vorausgesetzt. Alle\, die künftig fitnessorientierte Kurse auf bellicon® Minitrampolinen anbieten möchten\, finden in dieser Ausbildung die Grundlage dafür. \nWas beinhaltet die bellicon JUMPING Ausbildung?\nDie bellicon JUMPING Ausbildung ist die Grundausbildung für fitnessorientierte und qualitativ hochwertige bellicon JUMPING Kurse. Neben der korrekten Ausführung der Schritte und der Sprungtechnik wird auch Musiklehre sowie das Anleiten von Gruppenkursen mit Hilfe von Musik und der sinnvolle Aufbau einer Kursstunde vermittelt. Dank des umfassenden Paketes aus Theorie und Praxis sind die Teilnehmerinnen und Teilnehmer der Ausbildung am Ende des Seminars in der Lage\, eine erstklassige bellicon® JUMPING Stunde durchzuführen. Vor der Ausbildung wird den Teilnehmerinnen und Teilnehmern ein Informationsvideo zum bellicon® Trampolin\, zur Geschichte\, der Philosophie sowie zu den Workshops der Academy zugeschickt. \nDer zweite Ausbildungstag schließt mit einer praktischen Einzelprüfung ab\, in der die Teilnehmenden eine Kursstunde simulieren – von der Begrüßung über die Erläuterung der wesentlichen Aspekte des bellicon® bis hin zur Anleitung einiger Schritte unter korrekter Nutzung von Musik. Ein Punktesystem schafft dabei maximale Transparenz und ermöglicht es\, auf Schwachstellen eingehen zu können. Sollte es mit dem Abschluss der Ausbildung nicht auf Anhieb klappen\, stellt die bellicon Academy so lange ihre Unterstützung zur Verfügung bis einer erfolgreichen Qualifikation nichts mehr im Wege steht.  \nWelche Möglichkeiten bietet die bellicon JUMPING Ausbildung?\nNach der fitnessorientierten Grundausbildung können die Trainerinnen und Trainer weiterführende Workshops der bellicon Academy\, wie bellicon ADVANCED\, bellicon INTERVALL\, bellicon HEALTH oder bellicon KIDS besuchen\, um das Kursangebot noch besser an die eigene Zielgruppe anpassen zu können. Nach einer Ausbildung sind die Trainerinnen und Trainer in ihrer Trainertätigkeit vollkommen frei und zu keinen Lizenzgebühren verpflichtet.  \nZusätzliche Informationen:\n\nWir starten beide Tage pünktlich um 09:00 Uhr und beenden das Seminar um  18:00 Uhr.\nKostenlose Parkplätze sind auf dem Gelände vorhanden.\nAn den Ausbildungstagen kann die gesamte Anlage des Meridian Spa genutzt werden. Dazu zählen\, Fitnessanlagen\, Duschen\, Umkleiden\, sowie der Wellnessbereich.\nIn der Lounge erhalten alle Teilnehmer:innen der Ausbildung 20% auf das Speisen und Getränkeangebot\, sowie ausgewählte Menüs im Poolrestaurant vergünstigt.\n\nDas solltest du mitbringen:\n\nPausenverpflegung\nHandtuch und ausreichend Wechselsachen\nSchreibmaterial\n\nHotels in nächster Umgebung zum Veranstaltungsort:\n\nHotel ibis budget Hamburg City Ost\, Wandsbeker Zollstraße 25-29\, 22041 Hamburg\, Telefon: 040 20947520\nSelect Hotel Tiefenthal\, Wandsbeker Marktstraße 109\, 22041 Hamburg\, Telefon: 040 67049670\n\nWir freuen uns auf dich! \nHINWEISWir machen während des Seminars Fotos\, um diese auf Facebook zu posten und euch zur Verfügung zu stellen. Wer damit nicht einverstanden ist\, teilt uns das bitte vorab mit. Wir würden die entsprechenden Fotos dann rausfiltern. \n Buchbar bis Mittwochabend vor Veranstaltungsbeginn\n 
URL:https://academy.bellicon.com/event/bellicon-jumping-trainerausbildung-hamburg-2023-08-26/
LOCATION:David Lloyd Meridian Hamburg Wandsbek\, Wandsbeker Zollstraße 87-89\, Hamburg\, 22041
CATEGORIES:bellicon® JUMPING Trainerausbildung,Trainerausbildungen
ORGANIZER;CN="bellicon Europe GmbH":MAILTO:info@bellicon.academy
GEO:53.5764211;10.0804571
X-APPLE-STRUCTURED-LOCATION;VALUE=URI;X-ADDRESS=David Lloyd Meridian Hamburg Wandsbek Wandsbeker Zollstraße 87-89 Hamburg 22041;X-APPLE-RADIUS=500;X-TITLE=Wandsbeker Zollstraße 87-89:geo:10.0804571,53.5764211
END:VEVENT
BEGIN:VEVENT
DTSTART;TZID=Europe/Berlin:20230826T100000
DTEND;TZID=Europe/Berlin:20230826T170000
DTSTAMP:20260420T090126
CREATED:20230508T143627Z
LAST-MODIFIED:20230508T143627Z
UID:10000291-1693044000-1693069200@academy.bellicon.com
SUMMARY:bellicon® INTERVALL Workshop (Dietzenbach)
DESCRIPTION:  \nFür wen ist der bellicon INTERVALL Workshop geeignet?\nAlle bereits ausgebildeten bellicon JUMPING oder Jumping Fitness Basic Trainerinnen und Trainer lernen in diesem Workshop Techniken und Trainingsmethoden\, die den heutigen Fitnessanforderungen von Zeit und Effektivität entsprechen.  \nWas beinhaltet der bellicon INTERVALL Workshop?\nIn dem eintägigen Workshop erhalten die Teilnehmerinnen und Teilnehmer notwendiges Hintergrundwissen sowie die dazu sinnvollen Werkzeuge\, um Kursstunden auf dem bellicon® nach dem angesagten Intervall- und Circleprinzip zu unterrichten. Die im bellicon JUMPING Kurs erlangte Grundlagenausdauer kann in einem Intervallkurs auf ein höheres Level gebracht werden. Zusätzlich werden während des Workshops Werkzeuge zu kraftbasiertem Circletraining gelehrt\, die die Trainerinnen und Trainer befähigt\, kraftorientierte Kurse auf dem bellicon® zu geben. Nach einer kurzen praktischen Präsentation der im Workshop erworbenen Trainingstechniken im Intervall- und Circletraining wird ein bellicon INTERVALL Zertifikat überreicht. \nWelche Möglichkeiten bietet der bellicon INTERVALL Workshop?\nDie Trainerinnen und Trainer sind dank der im Workshop vermittelten Sachkenntnisse und Fertigkeiten in der Lage\, spezifische bellicon JUMPING Kurse nach dem Intervall- und Circleprinzip zu geben und damit auch fortgeschrittene Teilnehmerinnen und Teilnehmer anzusprechen. \nAm Tag danach besteht die Möglichkeit an einem bellicon® ADVANCED Workshop an diesem Standort teilzunehmen. \nZusätzliche Informationen:\n\nWir starten pünktlich um 10:00 Uhr und beenden das Seminar um 17:00 Uhr.\nUmkleiden und Duschen dürfen natürlich benutzt werden.\n\nDas solltest du mitbringen:\n\nPausenverpflegung\nHandtuch und ausreichend Wechselsachen\nSchreibmaterial\n\nHotels in nächster Umgebung zum Veranstaltungsort:\n\nMAINSTREET Hotel\, Offenbacher Str. 35b\, 63128 Dietzenbach\, Telefon: 06074481030\nHotel Steinberger Hof\, Gottlieb-Daimler-Straße 2\, 63128 Dietzenbach\, Telefon: 06074805900\n\nWir freuen uns auf dich! \nHINWEISWir machen während des Seminars Fotos\, um diese auf Facebook zu posten und euch zur Verfügung zu stellen. Wer damit nicht einverstanden ist\, teilt uns das bitte vorab mit. Wir würden die entsprechenden Fotos dann rausfiltern. \n Buchbar bis Mittwochabend vor Veranstaltungsbeginn\n 
URL:https://academy.bellicon.com/event/bellicon-intervall-workshop-dietzenbach-2023-08-26/
LOCATION:Cures Dietzenbach\, Borsigstr. 6\, Dietzenbach\, 63128
CATEGORIES:bellicon® INTERVALL Workshop,Workshops
ORGANIZER;CN="bellicon Europe GmbH":MAILTO:info@bellicon.academy
GEO:50.0248895;8.795521
X-APPLE-STRUCTURED-LOCATION;VALUE=URI;X-ADDRESS=Cures Dietzenbach Borsigstr. 6 Dietzenbach 63128;X-APPLE-RADIUS=500;X-TITLE=Borsigstr. 6:geo:8.795521,50.0248895
END:VEVENT
END:VCALENDAR