BEGIN:VCALENDAR
VERSION:2.0
PRODID:-//bellicon academy - ECPv5.9.0//NONSGML v1.0//EN
CALSCALE:GREGORIAN
METHOD:PUBLISH
X-WR-CALNAME:bellicon academy
X-ORIGINAL-URL:https://academy.bellicon.com
X-WR-CALDESC:Veranstaltungen für bellicon academy
BEGIN:VTIMEZONE
TZID:Europe/Berlin
BEGIN:DAYLIGHT
TZOFFSETFROM:+0100
TZOFFSETTO:+0200
TZNAME:CEST
DTSTART:20210328T010000
END:DAYLIGHT
BEGIN:STANDARD
TZOFFSETFROM:+0200
TZOFFSETTO:+0100
TZNAME:CET
DTSTART:20211031T010000
END:STANDARD
END:VTIMEZONE
BEGIN:VEVENT
DTSTART;TZID=Europe/Berlin:20211009T070000
DTEND;TZID=Europe/Berlin:20211010T160000
DTSTAMP:20211007T045435
CREATED:20210917T090431Z
LAST-MODIFIED:20210922T131433Z
UID:6699-1633762800-1633881600@academy.bellicon.com
SUMMARY:bellicon® JUMPING Trainerausbildung (Oldenburg)
DESCRIPTION:
URL:https://academy.bellicon.com/event/bellicon-jumping-trainerausbildung-oldenburg/
LOCATION:OLantis Huntebad – ErlebnisWelt\, Am Schloßgarten 15\, Oldenburg\, 26122\, Deutschland
CATEGORIES:bellicon® JUMPING Trainerausbildung
ATTACH;FMTTYPE=image/png:https://academy.bellicon.com/wp-content/uploads/2021/09/jmp.png
GEO:53.130680084229;8.2079782485962
X-APPLE-STRUCTURED-LOCATION;VALUE=URI;X-ADDRESS=OLantis Huntebad – ErlebnisWelt Am Schloßgarten 15 Oldenburg 26122 Deutschland;X-APPLE-RADIUS=500;X-TITLE=Am Schloßgarten 15:geo:8.2079782485962,53.130680084229
END:VEVENT
BEGIN:VEVENT
DTSTART;TZID=Europe/Berlin:20211016T080000
DTEND;TZID=Europe/Berlin:20211016T120000
DTSTAMP:20211007T045435
CREATED:20210922T090348Z
LAST-MODIFIED:20210922T131317Z
UID:6804-1634371200-1634385600@academy.bellicon.com
SUMMARY:Rückenschmerzen adé! (Leverkusen)
DESCRIPTION:
URL:https://academy.bellicon.com/event/rueckenschmerzen-ade-leverkusen/
LOCATION:VGS Gesundheitszentrum\, Norderneystraße 31\, Leverkusen\, 51377\, Deutschland
CATEGORIES:Rückenschmerzen adé!
ATTACH;FMTTYPE=image/jpeg:https://academy.bellicon.com/wp-content/uploads/2021/09/Rueckenschmerzen-bellicon.jpg
ORGANIZER;CN="bellicon%20Business%20GmbH":MAILTO:info@bellicon.academy
GEO:51.027942657471;7.0118165016174
X-APPLE-STRUCTURED-LOCATION;VALUE=URI;X-ADDRESS=VGS Gesundheitszentrum Norderneystraße 31 Leverkusen 51377 Deutschland;X-APPLE-RADIUS=500;X-TITLE=Norderneystraße 31:geo:7.0118165016174,51.027942657471
END:VEVENT
BEGIN:VEVENT
DTSTART;TZID=Europe/Berlin:20211016T080000
DTEND;TZID=Europe/Berlin:20211017T160000
DTSTAMP:20211007T045435
CREATED:20210922T090007Z
LAST-MODIFIED:20210922T131241Z
UID:6801-1634371200-1634486400@academy.bellicon.com
SUMMARY:bellicon® JUMPING Trainerausbildung (Rottenburg)
DESCRIPTION:
URL:https://academy.bellicon.com/event/bellicon-jumping-trainerausbildung-rottenburg/
LOCATION:Evolution Fitness Club\, Junghansring 64\, Rottenburg - Ergenzingen\, 72108\, Deutschland
CATEGORIES:bellicon® JUMPING Trainerausbildung
ATTACH;FMTTYPE=image/png:https://academy.bellicon.com/wp-content/uploads/2021/09/jmp.png
GEO:48.4957026;8.8175358
X-APPLE-STRUCTURED-LOCATION;VALUE=URI;X-ADDRESS=Evolution Fitness Club Junghansring 64 Rottenburg - Ergenzingen 72108 Deutschland;X-APPLE-RADIUS=500;X-TITLE=Junghansring 64:geo:8.8175358,48.4957026
END:VEVENT
BEGIN:VEVENT
DTSTART;TZID=Europe/Berlin:20211017T080000
DTEND;TZID=Europe/Berlin:20211017T120000
DTSTAMP:20211007T045435
CREATED:20210922T090450Z
LAST-MODIFIED:20210922T131202Z
UID:6810-1634457600-1634472000@academy.bellicon.com
SUMMARY:Rückenschmerzen adé! (Leverkusen)
DESCRIPTION:
URL:https://academy.bellicon.com/event/rueckenschmerzen-ade-leverkusen-2/
LOCATION:VGS Gesundheitszentrum\, Norderneystraße 31\, Leverkusen\, 51377\, Deutschland
CATEGORIES:Rückenschmerzen adé!
ATTACH;FMTTYPE=image/jpeg:https://academy.bellicon.com/wp-content/uploads/2021/09/Rueckenschmerzen-bellicon.jpg
ORGANIZER;CN="bellicon%20Business%20GmbH":MAILTO:info@bellicon.academy
GEO:51.027942657471;7.0118165016174
X-APPLE-STRUCTURED-LOCATION;VALUE=URI;X-ADDRESS=VGS Gesundheitszentrum Norderneystraße 31 Leverkusen 51377 Deutschland;X-APPLE-RADIUS=500;X-TITLE=Norderneystraße 31:geo:7.0118165016174,51.027942657471
END:VEVENT
BEGIN:VEVENT
DTSTART;TZID=Europe/Berlin:20211021T070000
DTEND;TZID=Europe/Berlin:20211022T160000
DTSTAMP:20211007T045435
CREATED:20210922T132303Z
LAST-MODIFIED:20210922T132303Z
UID:6872-1634799600-1634918400@academy.bellicon.com
SUMMARY:bellicon® JUMPING Trainerausbildung (Köln)
DESCRIPTION:
URL:https://academy.bellicon.com/event/bellicon-jumping-trainerausbildung-koeln/
LOCATION:XTRAFIT\, Am Gleisdreieck 1 – 5\, Köln\, 50823\, Deutschland
CATEGORIES:bellicon® JUMPING Trainerausbildung
ATTACH;FMTTYPE=image/png:https://academy.bellicon.com/wp-content/uploads/2021/09/jmp.png
GEO:50.953472137451;6.9381566047668
X-APPLE-STRUCTURED-LOCATION;VALUE=URI;X-ADDRESS=XTRAFIT Am Gleisdreieck 1 – 5 Köln 50823 Deutschland;X-APPLE-RADIUS=500;X-TITLE=Am Gleisdreieck 1 – 5:geo:6.9381566047668,50.953472137451
END:VEVENT
BEGIN:VEVENT
DTSTART;TZID=Europe/Berlin:20211023T080000
DTEND;TZID=Europe/Berlin:20211023T150000
DTSTAMP:20211007T045435
CREATED:20210922T085135Z
LAST-MODIFIED:20210922T131030Z
UID:6790-1634976000-1635001200@academy.bellicon.com
SUMMARY:bellicon® HEALTH Workshop (Hamburg)
DESCRIPTION:
URL:https://academy.bellicon.com/event/bellicon-jumping-trainerausbildung-hamburg/
LOCATION:HT16 -Hamburger Turnerschaft von 1816 r. V.\, Sievekingdamm 1\, Hamburg\, 20535\, Deutschland
CATEGORIES:bellicon® HEALTH Workshop
ATTACH;FMTTYPE=image/png:https://academy.bellicon.com/wp-content/uploads/2021/09/Health-Workshop-Termin.png
GEO:53.558712005615;10.047761917114
X-APPLE-STRUCTURED-LOCATION;VALUE=URI;X-ADDRESS=HT16 -Hamburger Turnerschaft von 1816 r. V. Sievekingdamm 1 Hamburg 20535 Deutschland;X-APPLE-RADIUS=500;X-TITLE=Sievekingdamm 1:geo:10.047761917114,53.558712005615
END:VEVENT
BEGIN:VEVENT
DTSTART;TZID=Europe/Berlin:20211024T080000
DTEND;TZID=Europe/Berlin:20211024T150000
DTSTAMP:20211007T045435
CREATED:20210922T090958Z
LAST-MODIFIED:20210922T130953Z
UID:6814-1635062400-1635087600@academy.bellicon.com
SUMMARY:bellicon® KIDS Workshop (Hamburg)
DESCRIPTION:
URL:https://academy.bellicon.com/event/bellicon-kids-workshop-hamburg/
LOCATION:HT16 -Hamburger Turnerschaft von 1816 r. V.\, Sievekingdamm 1\, Hamburg\, 20535\, Deutschland
CATEGORIES:bellicon® KIDS Workshop
ATTACH;FMTTYPE=image/jpeg:https://academy.bellicon.com/wp-content/uploads/2021/09/KIDS-Workshop.jpg
ORGANIZER;CN="bellicon%20Business%20GmbH":MAILTO:info@bellicon.academy
GEO:53.558712005615;10.047761917114
X-APPLE-STRUCTURED-LOCATION;VALUE=URI;X-ADDRESS=HT16 -Hamburger Turnerschaft von 1816 r. V. Sievekingdamm 1 Hamburg 20535 Deutschland;X-APPLE-RADIUS=500;X-TITLE=Sievekingdamm 1:geo:10.047761917114,53.558712005615
END:VEVENT
BEGIN:VEVENT
DTSTART;TZID=Europe/Berlin:20211030T080000
DTEND;TZID=Europe/Berlin:20211030T150000
DTSTAMP:20211007T045435
CREATED:20210922T091316Z
LAST-MODIFIED:20210922T130903Z
UID:6816-1635580800-1635606000@academy.bellicon.com
SUMMARY:bellicon® INTERVALL Workshop (Bad Kreuznach)
DESCRIPTION:
URL:https://academy.bellicon.com/event/bellicon-intervall-workshop-bad-kreuznach/
LOCATION:SPORTS\, Riegelgrube 4\, Bad Kreuznach\, 55543\, Deutschland
CATEGORIES:bellicon® INTERVALL Workshop
ATTACH;FMTTYPE=image/jpeg:https://academy.bellicon.com/wp-content/uploads/2021/09/Intervall-Workshop.jpg
GEO:49.846988677979;7.89319896698
X-APPLE-STRUCTURED-LOCATION;VALUE=URI;X-ADDRESS=SPORTS Riegelgrube 4 Bad Kreuznach 55543 Deutschland;X-APPLE-RADIUS=500;X-TITLE=Riegelgrube 4:geo:7.89319896698,49.846988677979
END:VEVENT
BEGIN:VEVENT
DTSTART;TZID=Europe/Berlin:20211031T090000
DTEND;TZID=Europe/Berlin:20211031T170000
DTSTAMP:20211007T045435
CREATED:20210922T091613Z
LAST-MODIFIED:20210922T130832Z
UID:6822-1635670800-1635699600@academy.bellicon.com
SUMMARY:bellicon® ADVANCED Workshop (Bad Kreuznach)
DESCRIPTION:
URL:https://academy.bellicon.com/event/bellicon-advanced-workshop-bad-kreuznach/
LOCATION:SPORTS\, Riegelgrube 4\, Bad Kreuznach\, 55543\, Deutschland
CATEGORIES:bellicon® ADVANCED Workshop
ATTACH;FMTTYPE=image/jpeg:https://academy.bellicon.com/wp-content/uploads/2021/09/Advanced-Workshop-Termin.jpg
GEO:49.846988677979;7.89319896698
X-APPLE-STRUCTURED-LOCATION;VALUE=URI;X-ADDRESS=SPORTS Riegelgrube 4 Bad Kreuznach 55543 Deutschland;X-APPLE-RADIUS=500;X-TITLE=Riegelgrube 4:geo:7.89319896698,49.846988677979
END:VEVENT
END:VCALENDAR