BEGIN:VCALENDAR
VERSION:2.0
PRODID:-//bellicon academy - ECPv6.8.2//NONSGML v1.0//EN
CALSCALE:GREGORIAN
METHOD:PUBLISH
X-WR-CALNAME:bellicon academy
X-ORIGINAL-URL:https://academy.bellicon.com
X-WR-CALDESC:Events for bellicon academy
REFRESH-INTERVAL;VALUE=DURATION:PT1H
X-Robots-Tag:noindex
X-PUBLISHED-TTL:PT1H
BEGIN:VTIMEZONE
TZID:Europe/Berlin
BEGIN:DAYLIGHT
TZOFFSETFROM:+0100
TZOFFSETTO:+0200
TZNAME:CEST
DTSTART:20250330T010000
END:DAYLIGHT
BEGIN:STANDARD
TZOFFSETFROM:+0200
TZOFFSETTO:+0100
TZNAME:CET
DTSTART:20251026T010000
END:STANDARD
END:VTIMEZONE
BEGIN:VEVENT
DTSTART;TZID=Europe/Berlin:20250503T100000
DTEND;TZID=Europe/Berlin:20250503T170000
DTSTAMP:20260420T055852
CREATED:20250328T183607Z
LAST-MODIFIED:20250328T183607Z
UID:10000399-1746266400-1746291600@academy.bellicon.com
SUMMARY:bellicon® HEALTH Workshop (Uelzen)
DESCRIPTION:Für wen ist der HEALTH Workshop geeignet?\nDer bellicon HEALTH Workshop ist die optimale Gelegenheit für alle bellicon JUMPING Trainerinnen und Trainer\, ihr Kursangebot um gesundheitsorientierte Stunden auf dem bellicon® Minitrampolin zu erweitern. Health Kurse sind vor allem für Trampolineinsteiger\, ältere Teilnehmerinnen und Teilnehmer oder Personen mit gesundheitlichen Beschwerden geeignet. Die Voraussetzung für die Teilnahme am Workshop ist die erfolgreich bestandene bellicon JUMPING Ausbildung oder die Jumping Fitness Basic Ausbildung. \nWas beinhaltet der HEALTH Workshop?\nDer Theorieteil des eintägigen Workshops vermittelt anatomisch-physiologische Kenntnisse\, Trainingsmöglichkeiten in einer Gruppe mit heterogenen pathologischen Befunden und den binnendifferenzierten methodisch-didaktische Aufbau für eine gesundheitsorientierte Nutzung eines bellicon® Trampolins. Nach einer Praxispräsentation eines Fallbeispiels in einer Kleingruppe gilt der Workshop als erfolgreich beendet und wird mit einem Zertifikat abgeschlossen. \nWelche Möglichkeiten bietet der HEALTH Workshop?\nDie Trainerinnen und Trainer sind nach dem bellicon HEALTH Workshop dazu qualifiziert\, qualitativ hochwertige Trampolinkurse im Gesundheitsbereich anbieten zu können. \nZusätzliche Informationen:\n\nWir starten pünktlich um 10:00 Uhr und beenden das Seminar um 17:00 Uhr.\nUmkleiden und Duschen dürfen natürlich benutzt werden.\nParkplätze auf der Straße vorhanden.\n\nDas solltest du mitbringen:\n\nPausenverpflegung\nHandtuch und ausreichend Wechselsachen\nSchreibmaterial\n\nWir freuen uns auf dich! \nHINWEISWir machen während des Seminars Fotos\, um diese auf Facebook zu posten und euch zur Verfügung zu stellen. Wer damit nicht einverstanden ist\, teilt uns das bitte vorab mit. Wir würden die entsprechenden Fotos dann rausfiltern. \n Buchbar bis Mittwochabend vor Veranstaltungsbeginn\n 
URL:https://academy.bellicon.com/event/bellicon-health-workshop-uelzen-2025-05-03/
LOCATION:Easy Fitness Uelzen\, Bahnhofstraße 2B\, Uelzen\, 29525\, Germany
CATEGORIES:bellicon® HEALTH Workshop,Workshops
ORGANIZER;CN="bellicon Europe GmbH":MAILTO:info@bellicon.academy
GEO:52.9669141;10.5525444
X-APPLE-STRUCTURED-LOCATION;VALUE=URI;X-ADDRESS=Easy Fitness Uelzen Bahnhofstraße 2B Uelzen 29525 Germany;X-APPLE-RADIUS=500;X-TITLE=Bahnhofstraße 2B:geo:10.5525444,52.9669141
END:VEVENT
BEGIN:VEVENT
DTSTART;TZID=Europe/Berlin:20250504T100000
DTEND;TZID=Europe/Berlin:20250504T170000
DTSTAMP:20260420T055852
CREATED:20250328T183946Z
LAST-MODIFIED:20250328T183946Z
UID:10000400-1746352800-1746378000@academy.bellicon.com
SUMMARY:bellicon® KIDS Workshop (Uelzen)
DESCRIPTION:Für wen ist der KIDS Workshop geeignet?\nDer bellicon KIDS Workshop umfasst ein speziell für Kinder und Jugendliche entwickeltes Kursprogramm auf dem Minitrampolin und richtet sich an alle Trainerinnen und Trainer\, die bereits die bellicon JUMPING\, Jumping Fitness Basic Ausbildung und/oder die bellicon HEALTH Ausbildung abgeschlossen haben. \nWas beinhaltet der KIDS Workshop?\nKinder und Jugendliche sind in ihren Entwicklungsphasen unterschiedlich bewegungsfreudig und neugierig. Daher benötigen sie abwechslungsreiche Anregungen und Bewegungsideen. In dem eintägigen Workshop lernen die Teilnehmerinnen und Teilnehmer\, wie man spielerisch und kreativ die Fähigkeiten und Fertigkeiten von Kindern und Jugendlichen entsprechend ihrer sportmotorischen Entwicklung mit\, auf und am Trampolin fördern und fordern kann. Motiviere die Kleinen durch Choreographien sowie Spiel und Spaß an Sport und Bewegung. Während des Workshops bringen sich die Trainerinnen und Trainer über eine Praxispräsentation aktiv ein\, indem sie die gelernten Spiele und Ideen anwenden und umsetzen. \nWelche Möglichkeiten bietet der KIDS Workshop?\nNach erfolgreicher Teilnahme am Workshop sind die Trainerinnen und Trainer in der Lage\, altersgerechte und pädagogisch wertvolle Trampolinkurse für Kinder und Jugendliche anzubieten. \nZusätzliche Informationen:\n\nWir starten pünktlich um 10:00 Uhr und beenden das Seminar um 17:00 Uhr.\nUmkleiden und Duschen dürfen natürlich benutzt werden.\nParkplätze auf der Straße vorhanden.\n\nDas solltest du mitbringen:\n\nPausenverpflegung\nHandtuch und ausreichend Wechselsachen\nSchreibmaterial\n\nWir freuen uns auf dich! \nHINWEISWir machen während des Seminars Fotos\, um diese auf Facebook zu posten und euch zur Verfügung zu stellen. Wer damit nicht einverstanden ist\, teilt uns das bitte vorab mit. Wir würden die entsprechenden Fotos dann rausfiltern. \n Buchbar bis Mittwochabend vor Veranstaltungsbeginn\n 
URL:https://academy.bellicon.com/event/bellicon-kids-workshop-uelzen-2025-05-04/
LOCATION:Easy Fitness Uelzen\, Bahnhofstraße 2B\, Uelzen\, 29525\, Germany
CATEGORIES:bellicon® KIDS Workshop,Workshops
ORGANIZER;CN="bellicon Europe GmbH":MAILTO:info@bellicon.academy
GEO:52.9669141;10.5525444
X-APPLE-STRUCTURED-LOCATION;VALUE=URI;X-ADDRESS=Easy Fitness Uelzen Bahnhofstraße 2B Uelzen 29525 Germany;X-APPLE-RADIUS=500;X-TITLE=Bahnhofstraße 2B:geo:10.5525444,52.9669141
END:VEVENT
BEGIN:VEVENT
DTSTART;TZID=Europe/Berlin:20250510T100000
DTEND;TZID=Europe/Berlin:20250510T170000
DTSTAMP:20260420T055852
CREATED:20241113T075409Z
LAST-MODIFIED:20250114T135051Z
UID:10000359-1746871200-1746896400@academy.bellicon.com
SUMMARY:bellicon® INTERVALL Workshop (Halle)
DESCRIPTION:Für wen ist der INTERVALL Workshop geeignet?\nAlle bereits ausgebildeten bellicon JUMPING oder Jumping Fitness Basic Trainerinnen und Trainer lernen in diesem Workshop Techniken und Trainingsmethoden\, die den heutigen Fitnessanforderungen von Zeit und Effektivität entsprechen. \nWas beinhaltet der INTERVALL Workshop?\nIn dem eintägigen Workshop erhalten die Teilnehmerinnen und Teilnehmer notwendiges Hintergrundwissen sowie die dazu sinnvollen Werkzeuge\, um Kursstunden auf dem bellicon® nach dem angesagten Intervall- und Circleprinzip zu unterrichten. Die im bellicon JUMPING Kurs erlangte Grundlagenausdauer kann in einem Intervallkurs auf ein höheres Level gebracht werden. Zusätzlich werden während des Workshops Werkzeuge zu kraftbasiertem Circletraining gelehrt\, die die Trainerinnen und Trainer befähigt\, kraftorientierte Kurse auf dem bellicon® zu geben. Nach einer kurzen praktischen Präsentation der im Workshop erworbenen Trainingstechniken im Intervall- und Circletraining wird ein bellicon INTERVALL Zertifikat überreicht. \nWelche Möglichkeiten bietet der INTERVALL Workshop?\nDie Trainerinnen und Trainer sind dank der im Workshop vermittelten Sachkenntnisse und Fertigkeiten in der Lage\, spezifische bellicon JUMPING Kurse nach dem Intervall- und Circleprinzip zu geben und damit auch fortgeschrittene Teilnehmerinnen und Teilnehmer anzusprechen. \nAm Tag danach besteht die Möglichkeit an einem bellicon® ADVANCED Workshop an diesem Standort teilzunehmen. \nZusätzliche Informationen:\n\nWir starten pünktlich um 10:00 Uhr und beenden das Seminar um 00:00 Uhr.\nUmkleiden und Duschen dürfen natürlich benutzt werden.\n\nDas solltest du mitbringen:\n\nPausenverpflegung\nHandtuch und ausreichend Wechselsachen\nSchreibmaterial\n\nUnterkünfte in nächster Umgebung zum Veranstaltungsort:\n\nLandhotel Jäckel\, Dürkoppstraße 8\, 33790 Halle (Westfalen)\, Telefon: 05201 971330\nCourt Hotel\, Roger-Federer-Allee 6\, 33790 Halle (Westfalen)\, Telefon: 0520 18990\n\nWir freuen uns auf dich! \nHINWEISWir machen während des Seminars Fotos\, um diese auf Facebook zu posten und euch zur Verfügung zu stellen. Wer damit nicht einverstanden ist\, teilt uns das bitte vorab mit. Wir würden die entsprechenden Fotos dann rausfiltern. \n Buchbar bis Mittwochabend vor Veranstaltungsbeginn\n 
URL:https://academy.bellicon.com/event/bellicon-intervall-workshop-halle-2025-05-10/
LOCATION:Jumping®Studio: Claudia Dammeier\, Gausekampweg 2\, Halle/Westfalen\, 33790
CATEGORIES:bellicon® INTERVALL Workshop,Workshops
ORGANIZER;CN="bellicon Europe GmbH":MAILTO:info@bellicon.academy
GEO:52,064301;8,351998
X-APPLE-STRUCTURED-LOCATION;VALUE=URI;X-ADDRESS=Jumping®Studio: Claudia Dammeier Gausekampweg 2 Halle/Westfalen 33790;X-APPLE-RADIUS=500;X-TITLE=Gausekampweg 2:geo:8,351998,52,064301
END:VEVENT
END:VCALENDAR