BEGIN:VCALENDAR
VERSION:2.0
PRODID:-//bellicon academy - ECPv6.8.2//NONSGML v1.0//EN
CALSCALE:GREGORIAN
METHOD:PUBLISH
X-WR-CALNAME:bellicon academy
X-ORIGINAL-URL:https://academy.bellicon.com
X-WR-CALDESC:Events for bellicon academy
REFRESH-INTERVAL;VALUE=DURATION:PT1H
X-Robots-Tag:noindex
X-PUBLISHED-TTL:PT1H
BEGIN:VTIMEZONE
TZID:Europe/Berlin
BEGIN:DAYLIGHT
TZOFFSETFROM:+0100
TZOFFSETTO:+0200
TZNAME:CEST
DTSTART:20210328T010000
END:DAYLIGHT
BEGIN:STANDARD
TZOFFSETFROM:+0200
TZOFFSETTO:+0100
TZNAME:CET
DTSTART:20211031T010000
END:STANDARD
BEGIN:DAYLIGHT
TZOFFSETFROM:+0100
TZOFFSETTO:+0200
TZNAME:CEST
DTSTART:20220327T010000
END:DAYLIGHT
BEGIN:STANDARD
TZOFFSETFROM:+0200
TZOFFSETTO:+0100
TZNAME:CET
DTSTART:20221030T010000
END:STANDARD
END:VTIMEZONE
BEGIN:VEVENT
DTSTART;TZID=Europe/Berlin:20211031T100000
DTEND;TZID=Europe/Berlin:20211031T180000
DTSTAMP:20260423T000513
CREATED:20210922T091613Z
LAST-MODIFIED:20210922T130832Z
UID:10000200-1635674400-1635703200@academy.bellicon.com
SUMMARY:bellicon® ADVANCED Workshop (Bad Kreuznach)
DESCRIPTION:
URL:https://academy.bellicon.com/event/bellicon-advanced-workshop-bad-kreuznach/
LOCATION:SPORTS\, Riegelgrube 4\, Bad Kreuznach\, 55543\, Deutschland
CATEGORIES:bellicon® ADVANCED Workshop
ATTACH;FMTTYPE=image/jpeg:https://academy.bellicon.com/wp-content/uploads/2021/09/Advanced-Workshop-Termin.jpg
GEO:49.846988677979;7.89319896698
X-APPLE-STRUCTURED-LOCATION;VALUE=URI;X-ADDRESS=SPORTS Riegelgrube 4 Bad Kreuznach 55543 Deutschland;X-APPLE-RADIUS=500;X-TITLE=Riegelgrube 4:geo:7.89319896698,49.846988677979
END:VEVENT
BEGIN:VEVENT
DTSTART;TZID=Europe/Berlin:20211106T100000
DTEND;TZID=Europe/Berlin:20211106T170000
DTSTAMP:20260423T000513
CREATED:20210922T091923Z
LAST-MODIFIED:20210922T130738Z
UID:10000201-1636192800-1636218000@academy.bellicon.com
SUMMARY:bellicon® HEALTH Workshop (Lenzburg)
DESCRIPTION:
URL:https://academy.bellicon.com/event/bellicon-health-workshop-lenzburg/
LOCATION:Swing motion\, Industriestrasse 26\, Lenzburg\, 5600\, Schweiz
CATEGORIES:bellicon® HEALTH Workshop
ATTACH;FMTTYPE=image/png:https://academy.bellicon.com/wp-content/uploads/2021/09/Health-Workshop-Termin.png
ORGANIZER;CN="bellicon Europe GmbH":MAILTO:info@bellicon.academy
GEO:47.041343688965;8.311222076416
X-APPLE-STRUCTURED-LOCATION;VALUE=URI;X-ADDRESS=Swing motion Industriestrasse 26 Lenzburg 5600 Schweiz;X-APPLE-RADIUS=500;X-TITLE=Industriestrasse 26:geo:8.311222076416,47.041343688965
END:VEVENT
BEGIN:VEVENT
DTSTART;TZID=Europe/Berlin:20211113T100000
DTEND;TZID=Europe/Berlin:20211114T180000
DTSTAMP:20260423T000513
CREATED:20210916T080616Z
LAST-MODIFIED:20210922T130526Z
UID:10000188-1636797600-1636912800@academy.bellicon.com
SUMMARY:bellicon® JUMPING Trainerausbildung (DORMAGEN)
DESCRIPTION:
URL:https://academy.bellicon.com/event/bellicon-jumping-trainerausbildung-dormagen/
LOCATION:Aktiv Sportpark\, Hamburger Str. 6\, Dormagen\, 41540\, Deutschland
CATEGORIES:bellicon® JUMPING Trainerausbildung
ATTACH;FMTTYPE=image/png:https://academy.bellicon.com/wp-content/uploads/2021/09/jmp.png
GEO:51.090824127197;6.8098402023315
X-APPLE-STRUCTURED-LOCATION;VALUE=URI;X-ADDRESS=Aktiv Sportpark Hamburger Str. 6 Dormagen 41540 Deutschland;X-APPLE-RADIUS=500;X-TITLE=Hamburger Str. 6:geo:6.8098402023315,51.090824127197
END:VEVENT
BEGIN:VEVENT
DTSTART;TZID=Europe/Berlin:20211120T090000
DTEND;TZID=Europe/Berlin:20211121T180000
DTSTAMP:20260423T000513
CREATED:20210922T093019Z
LAST-MODIFIED:20210922T130455Z
UID:10000203-1637398800-1637517600@academy.bellicon.com
SUMMARY:bellicon® JUMPING Trainerausbildung (Recklinghausen)
DESCRIPTION:
URL:https://academy.bellicon.com/event/bellicon-jumping-trainerausbildung-recklinghausen/
LOCATION:City Fitness und Gesundheitszentrum GmbH & Co. KG\, Hubertusstraße 26\, Recklinghausen\, 45657\, Deutschland
CATEGORIES:bellicon® JUMPING Trainerausbildung
ATTACH;FMTTYPE=image/png:https://academy.bellicon.com/wp-content/uploads/2021/09/jmp.png
GEO:51.607025146484;7.2048964500427
X-APPLE-STRUCTURED-LOCATION;VALUE=URI;X-ADDRESS=City Fitness und Gesundheitszentrum GmbH & Co. KG Hubertusstraße 26 Recklinghausen 45657 Deutschland;X-APPLE-RADIUS=500;X-TITLE=Hubertusstraße 26:geo:7.2048964500427,51.607025146484
END:VEVENT
BEGIN:VEVENT
DTSTART;TZID=Europe/Berlin:20211120T100000
DTEND;TZID=Europe/Berlin:20211120T170000
DTSTAMP:20260423T000513
CREATED:20210922T093201Z
LAST-MODIFIED:20210922T130422Z
UID:10000204-1637402400-1637427600@academy.bellicon.com
SUMMARY:bellicon® INTERVALL Workshop (Unterhaching)
DESCRIPTION:
URL:https://academy.bellicon.com/event/bellicon-intervall-workshop-unterhaching/
LOCATION:Thomas Sportcenter\, Grünwalder Weg 10\, Unterhaching\, 82008\, Deutschland
CATEGORIES:bellicon® INTERVALL Workshop
ATTACH;FMTTYPE=image/jpeg:https://academy.bellicon.com/wp-content/uploads/2021/09/Intervall-Workshop.jpg
GEO:48.056316375732;11.606942176819
X-APPLE-STRUCTURED-LOCATION;VALUE=URI;X-ADDRESS=Thomas Sportcenter Grünwalder Weg 10 Unterhaching 82008 Deutschland;X-APPLE-RADIUS=500;X-TITLE=Grünwalder Weg 10:geo:11.606942176819,48.056316375732
END:VEVENT
BEGIN:VEVENT
DTSTART;TZID=Europe/Berlin:20211121T100000
DTEND;TZID=Europe/Berlin:20211121T170000
DTSTAMP:20260423T000513
CREATED:20210922T093505Z
LAST-MODIFIED:20210922T130302Z
UID:10000205-1637488800-1637514000@academy.bellicon.com
SUMMARY:bellicon® JUMPING meets Shadowboxer Workshop (Unterhaching)
DESCRIPTION:
URL:https://academy.bellicon.com/event/bellicon-jumping-meets-shadowboxer-workshop-unterhaching/
LOCATION:Thomas Sportcenter\, Grünwalder Weg 10\, Unterhaching\, 82008\, Deutschland
CATEGORIES:bellicon® JUMPING meets Shadowboxer Workshop
ATTACH;FMTTYPE=image/jpeg:https://academy.bellicon.com/wp-content/uploads/2021/09/bellicon-Shadowboxer-Termine-1.jpeg
GEO:48.056316375732;11.606942176819
X-APPLE-STRUCTURED-LOCATION;VALUE=URI;X-ADDRESS=Thomas Sportcenter Grünwalder Weg 10 Unterhaching 82008 Deutschland;X-APPLE-RADIUS=500;X-TITLE=Grünwalder Weg 10:geo:11.606942176819,48.056316375732
END:VEVENT
BEGIN:VEVENT
DTSTART;TZID=Europe/Berlin:20211124T162400
DTEND;TZID=Europe/Berlin:20211124T162400
DTSTAMP:20260423T000513
CREATED:20210922T092817Z
LAST-MODIFIED:20220204T131539Z
UID:10000202-1637771040-1637771040@academy.bellicon.com
SUMMARY:bellicon® HEALTH Trainerausbildung (LEVERKUSEN)
DESCRIPTION:
URL:https://academy.bellicon.com/event/bellicon-health-trainerausbildung-leverkusen/
LOCATION:VGS Gesundheitszentrum\, Norderneystraße 31\, Leverkusen\, 51377\, Deutschland
CATEGORIES:bellicon® HEALTH Trainerausbildung
ATTACH;FMTTYPE=image/jpeg:https://academy.bellicon.com/wp-content/uploads/2021/09/HEALTH-Trainerausbildung.jpg
GEO:51.027942657471;7.0118165016174
X-APPLE-STRUCTURED-LOCATION;VALUE=URI;X-ADDRESS=VGS Gesundheitszentrum Norderneystraße 31 Leverkusen 51377 Deutschland;X-APPLE-RADIUS=500;X-TITLE=Norderneystraße 31:geo:7.0118165016174,51.027942657471
END:VEVENT
BEGIN:VEVENT
DTSTART;TZID=Europe/Berlin:20220319T090000
DTEND;TZID=Europe/Berlin:20220320T180000
DTSTAMP:20260423T000513
CREATED:20211026T093026Z
LAST-MODIFIED:20220301T075255Z
UID:10000210-1647680400-1647799200@academy.bellicon.com
SUMMARY:formation bellicon® JUMPING (Worriken)
DESCRIPTION:A qui s’adresse la formation bellicon JUMPING ? \nPour participer à la formation bellicon® JUMPING\, une expérience en matière de séances de fitness en groupe est recommandée mais non requise. Notre formation est parfaite pour tous ceux qui souhaitent à l’avenir proposer des cours de fitness sur les mini-trampolines bellicon®. \nQue inclut la formation bellicon® JUMPING ? \nLa formation bellicon JUMPING est la formation de base pour les cours de JUMPING de haute qualité. En plus de l’exécution correcte des mouvements et de la technique de saut\, la théorie musicale est également enseignée ainsi que la manière de diriger des cours de groupe à l’aide de la musique et la bonne structuration d’un cours. Grâce à un ensemble complet de théorie et de pratique\, les participants à la formation sont en mesure d’effectuer un cours de bellicon JUMPING de première classe à la fin du séminaire.\nAvant la formation\, les participants recevront une vidéo d’information sur le trampoline bellicon®\, son histoire\, sa philosophie et les workshops de l’Academy. \nLe deuxième jour de formation se termine par un examen pratique individuel\, au cours duquel les participants simulent une classe de jumping – de l’accueil et de l’explication des aspects essentiels du bellicon® à l’enseignement de quelques mouvements en utilisant correctement la musique. Un système de points crée une transparence maximale et permet de remédier aux points faibles. Si cela ne fonctionne pas à la fin de la formation\, l’Academy du bellicon apportera son soutien jusqu’à ce que plus rien ne fasse obstacle à la réussite de la qualification. \nQuelles sont les possibilités offertes par la formation bellicon JUMPING ? \nAprès la formation de base axée sur la forme physique\, les formateurs peuvent assister à d’autres workshops de l’Academy du bellicon\, tels que bellicon ADVANCED\, bellicon INTERVAL\, bellicon HEALTH ou bellicon KIDS\, afin de pouvoir adapter encore mieux l’offre de cours à leur propre groupe cible. Après notre formation\, les formateurs sont totalement libres dans leur activité de formateur et ne sont pas obligés de payer des droits de licence. \nInformations complémentaires : \nNous commençons les deux jours ponctuellement à 9h00 et terminons le séminaire à 18h00\nLes vestiaires et les douches peuvent être bien-sûr utilisés. \nVous devrez apporter avec vous : \nQqch. pour manger/boire pendant les pauses\nUne serviette et des vêtements de rechange\nMatériel d’écriture \nNous prendrons des photos pendant le séminaire pour les publier sur Facebook et les mettre à votre disposition. Si vous n’êtes pas d’accord\, veuillez nous le faire savoir à l’avance. Nous filtrons ensuite les photos correspondantes. \nHôtels à proximité immédiate du lieu de la manifestation : \nhttp://www.butgenbach.info/fr/bienvenue/ \nNous vous attendons avec impatience !
URL:https://academy.bellicon.com/event/formation-bellicon-jumping-worriken/
LOCATION:Worriken – dans le bâtiment de la piscine\, Worriken 9\, Bütgenbach\, 4750\, Belgien
CATEGORIES:bellicon® JUMPING Trainerausbildung,Trainerausbildungen
ATTACH;FMTTYPE=image/png:https://academy.bellicon.com/wp-content/uploads/2021/09/jmp.png
ORGANIZER;CN="bellicon Europe GmbH":MAILTO:info@bellicon.academy
GEO:50.4247279;6.2216783
X-APPLE-STRUCTURED-LOCATION;VALUE=URI;X-ADDRESS=Worriken – dans le bâtiment de la piscine Worriken 9 Bütgenbach 4750 Belgien;X-APPLE-RADIUS=500;X-TITLE=Worriken 9:geo:6.2216783,50.4247279
END:VEVENT
END:VCALENDAR