BEGIN:VCALENDAR
VERSION:2.0
PRODID:-//bellicon academy - ECPv6.8.2//NONSGML v1.0//EN
CALSCALE:GREGORIAN
METHOD:PUBLISH
X-WR-CALNAME:bellicon academy
X-ORIGINAL-URL:https://academy.bellicon.com
X-WR-CALDESC:Events for bellicon academy
REFRESH-INTERVAL;VALUE=DURATION:PT1H
X-Robots-Tag:noindex
X-PUBLISHED-TTL:PT1H
BEGIN:VTIMEZONE
TZID:Europe/Berlin
BEGIN:DAYLIGHT
TZOFFSETFROM:+0100
TZOFFSETTO:+0200
TZNAME:CEST
DTSTART:20260329T010000
END:DAYLIGHT
BEGIN:STANDARD
TZOFFSETFROM:+0200
TZOFFSETTO:+0100
TZNAME:CET
DTSTART:20261025T010000
END:STANDARD
END:VTIMEZONE
BEGIN:VEVENT
DTSTART;TZID=Europe/Berlin:20261018T100000
DTEND;TZID=Europe/Berlin:20261018T170000
DTSTAMP:20260424T052655
CREATED:20260227T170425Z
LAST-MODIFIED:20260227T170628Z
UID:10000477-1792317600-1792342800@academy.bellicon.com
SUMMARY:bellicon® KIDS Workshop (Nabburg)
DESCRIPTION:Für wen ist der KIDS Workshop geeignet?\nDer bellicon KIDS Workshop umfasst ein speziell für Kinder und Jugendliche entwickeltes Kursprogramm auf dem Minitrampolin und richtet sich an alle Trainerinnen und Trainer\, die bereits die bellicon JUMPING\, Jumping Fitness Basic Ausbildung und/oder die bellicon HEALTH Ausbildung abgeschlossen haben. \nWas beinhaltet der KIDS Workshop?\nKinder und Jugendliche sind in ihren Entwicklungsphasen unterschiedlich bewegungsfreudig und neugierig. Daher benötigen sie abwechslungsreiche Anregungen und Bewegungsideen. In dem eintägigen Workshop lernen die Teilnehmerinnen und Teilnehmer\, wie man spielerisch und kreativ die Fähigkeiten und Fertigkeiten von Kindern und Jugendlichen entsprechend ihrer sportmotorischen Entwicklung mit\, auf und am Trampolin fördern und fordern kann. Motiviere die Kleinen durch Choreographien sowie Spiel und Spaß an Sport und Bewegung. Während des Workshops bringen sich die Trainerinnen und Trainer über eine Praxispräsentation aktiv ein\, indem sie die gelernten Spiele und Ideen anwenden und umsetzen. \nWelche Möglichkeiten bietet der KIDS Workshop?\nNach erfolgreicher Teilnahme am Workshop sind die Trainerinnen und Trainer in der Lage\, altersgerechte und pädagogisch wertvolle Trampolinkurse für Kinder und Jugendliche anzubieten. \nAm Tag davor besteht die Möglichkeit an einem bellicon® INTERVALL Workshop an diesem Standort teilzunehmen. \nZusätzliche Informationen:\n\nDie Ausbildung findet ab einer Mindestteilnehmerzahl von 4 Personen statt\nWir starten pünktlich um 10:00 Uhr und beenden das Seminar um 17:00 Uhr.\nUmkleiden und Duschen dürfen natürlich benutzt werden.\nParkplätze auf der Straße vorhanden.\n\nDas solltest du mitbringen:\n\nPausenverpflegung\nHandtuch und ausreichend Wechselsachen\nSchreibmaterial\n\nUnterkünfte in nächster Umgebung zum Veranstaltungsort:\n\nGasthof Kräuterbeck\, Regensburger Str. 3\, 92507 Nabburg\, Tel.: 094336166\nHotel alter Pfarrhof\, Schmiedgasse 23\, 92507 Nabburg\, Tel.: 094337289635\n\nWir freuen uns auf dich! \nHINWEISWir machen während des Seminars Fotos\, um diese auf Facebook zu posten und euch zur Verfügung zu stellen. Wer damit nicht einverstanden ist\, teilt uns das bitte vorab mit. Wir würden die entsprechenden Fotos dann rausfiltern. \n Buchbar bis Mittwochabend vor Veranstaltungsbeginn\n 
URL:https://academy.bellicon.com/event/bellicon-kids-workshop-nabburg-2026-10-18/
LOCATION:NaabFit\, An der Alten Naab 2\, Nabburg\, 92507\, Deutschland
CATEGORIES:bellicon® KIDS Workshop,Workshops
ORGANIZER;CN="bellicon Europe GmbH":MAILTO:info@bellicon.academy
GEO:49.4448008;12.1750776
X-APPLE-STRUCTURED-LOCATION;VALUE=URI;X-ADDRESS=NaabFit An der Alten Naab 2 Nabburg 92507 Deutschland;X-APPLE-RADIUS=500;X-TITLE=An der Alten Naab 2:geo:12.1750776,49.4448008
END:VEVENT
BEGIN:VEVENT
DTSTART;TZID=Europe/Berlin:20261107T100000
DTEND;TZID=Europe/Berlin:20261107T170000
DTSTAMP:20260424T052655
CREATED:20251111T105837Z
LAST-MODIFIED:20251202T094627Z
UID:10000443-1794045600-1794070800@academy.bellicon.com
SUMMARY:bellicon® KIDS Workshop (Uelzen)
DESCRIPTION:  \nFür wen ist der KIDS Workshop geeignet?\nDer bellicon KIDS Workshop umfasst ein speziell für Kinder und Jugendliche entwickeltes Kursprogramm auf dem Minitrampolin und richtet sich an alle Trainerinnen und Trainer\, die bereits die bellicon JUMPING\, Jumping Fitness Basic Ausbildung und/oder die bellicon HEALTH Ausbildung abgeschlossen haben. \nWas beinhaltet der KIDS Workshop?\nKinder und Jugendliche sind in ihren Entwicklungsphasen unterschiedlich bewegungsfreudig und neugierig. Daher benötigen sie abwechslungsreiche Anregungen und Bewegungsideen. In dem eintägigen Workshop lernen die Teilnehmerinnen und Teilnehmer\, wie man spielerisch und kreativ die Fähigkeiten und Fertigkeiten von Kindern und Jugendlichen entsprechend ihrer sportmotorischen Entwicklung mit\, auf und am Trampolin fördern und fordern kann. Motiviere die Kleinen durch Choreographien sowie Spiel und Spaß an Sport und Bewegung. Während des Workshops bringen sich die Trainerinnen und Trainer über eine Praxispräsentation aktiv ein\, indem sie die gelernten Spiele und Ideen anwenden und umsetzen. \nWelche Möglichkeiten bietet der KIDS Workshop?\nNach erfolgreicher Teilnahme am Workshop sind die Trainerinnen und Trainer in der Lage\, altersgerechte und pädagogisch wertvolle Trampolinkurse für Kinder und Jugendliche anzubieten. \nAm Tag danach besteht die Möglichkeit an einem bellicon® HEALTH Workshop an diesem Standort teilzunehmen. \nZusätzliche Informationen:\n\nDie Ausbildung findet ab einer Mindestteilnehmerzahl von 4 Personen statt\nWir starten pünktlich um 10:00 Uhr und beenden das Seminar um 17:00 Uhr.\nUmkleiden und Duschen dürfen natürlich benutzt werden.\nParkplätze auf der Straße vorhanden.\n\nDas solltest du mitbringen:\n\nPausenverpflegung\nHandtuch und ausreichend Wechselsachen\nSchreibmaterial\n\nWir freuen uns auf dich! \nHINWEISWir machen während des Seminars Fotos\, um diese auf Facebook zu posten und euch zur Verfügung zu stellen. Wer damit nicht einverstanden ist\, teilt uns das bitte vorab mit. Wir würden die entsprechenden Fotos dann rausfiltern. \n Buchbar bis Mittwochabend vor Veranstaltungsbeginn\n 
URL:https://academy.bellicon.com/event/bellicon-kids-workshop-uelzen-2026-11-07/
LOCATION:Easy Fitness Uelzen\, Bahnhofstraße 2B\, Uelzen\, 29525\, Germany
CATEGORIES:bellicon® KIDS Workshop,Workshops
ORGANIZER;CN="bellicon Europe GmbH":MAILTO:info@bellicon.academy
GEO:52.9669141;10.5525444
X-APPLE-STRUCTURED-LOCATION;VALUE=URI;X-ADDRESS=Easy Fitness Uelzen Bahnhofstraße 2B Uelzen 29525 Germany;X-APPLE-RADIUS=500;X-TITLE=Bahnhofstraße 2B:geo:10.5525444,52.9669141
END:VEVENT
BEGIN:VEVENT
DTSTART;TZID=Europe/Berlin:20261107T100000
DTEND;TZID=Europe/Berlin:20261107T170000
DTSTAMP:20260424T052656
CREATED:20251111T105112Z
LAST-MODIFIED:20251202T093951Z
UID:10000441-1794045600-1794070800@academy.bellicon.com
SUMMARY:bellicon® ADVANCED Workshop (Bad Kreuznach)
DESCRIPTION:  \nFür wen ist der ADVANCED Workshop geeignet?\nAlle Trainerinnen und Trainer\, die bereits die bellicon JUMPING oder die Jumping Fitness Basic Ausbildung erfolgreich abgeschlossen haben\, lernen im bellicon ADVANCED Workshop ihre Trainerfähigkeiten auf ein neues Level zu heben.  \nWas beinhaltet der ADVANCED Workshop?\nWährend des eintägigen Workshops werden Kommunikationstechniken zur erfolgreichen Motivation und Bindung der Teilnehmerinnen und Teilnehmer vermittelt sowie Wege zur effektiven Korrektur\, methodische Schritte für teilnehmerorientierte Unterrichtsgestaltung und neue Choreographie- und Schrittideen. Außerdem wird an der Qualität der eigenen Cueing- und Sprung-Technik gearbeitet. Nach einer kurzen praktischen Demonstration der erworbenen Fähigkeiten erhalten die Teilnehmerinnen und Teilnehmer am Ende des Workshoptages ein bellicon ADVANCED Zertifikat. \nWelche Möglichkeiten bietet der ADVANCED Workshop?\nDer Workshop befähigt die Teilnehmenden durch die erweiterte Unterrichtskompetenz sowie die erlernten Soft Skills und Unterrichtstechniken qualitativ noch hochwertigere fitnessorientierte bellicon JUMPING Kurse zu geben. \nAm Tag danach besteht die Möglichkeit an einem bellicon® INTERVALL Workshop an diesem Standort teilzunehmen. \nZusätzliche Informationen:\n\nDie Ausbildung findet ab einer Mindestteilnehmerzahl von 4 Personen statt\nWir starten pünktlich um 10:00 Uhr und beenden das Seminar um 17:00 Uhr.\nUmkleiden und Duschen dürfen natürlich benutzt werden.\nDie Zapfanlage mit Mineralgetränken & Wasser darf kostenfrei genutzt werden\nEs sind genügend Parkplätze vor und hinter dem Studio vorhanden\, so dass nicht auf der Straße geparkt werden muss.\nIn der Nähe des Studios befindet sich die „Bäckerei Lohner“. Des Weiteren gibt es eine Tankstelle in direkter Nähe mit Snackangebot.\n\nDas solltest du mitbringen:\n\nPausenverpflegung\nHandtuch und ausreichend Wechselsachen\nSchreibmaterial\n\nUnterkünfte in nächster Umgebung zum Veranstaltungsort:\n\nHotel Beisiegel Landgasthof\, Am Sportfeld 1-3\, 55545 Bad Kreuznach\, Tel.: 0671-64105\nLandhotel Kauzenburg\, Auf dem Kauzenberg 1\, 55545 Bad Kreuznach\, Tel.: 0671-38000\n\nWir freuen uns auf dich! \nHINWEISWir machen während des Seminars Fotos\, um diese auf Facebook zu posten und euch zur Verfügung zu stellen. Wer damit nicht einverstanden ist\, teilt uns das bitte vorab mit. Wir würden die entsprechenden Fotos dann rausfiltern. \n Buchbar bis Mittwochabend vor Veranstaltungsbeginn\n 
URL:https://academy.bellicon.com/event/bellicon-advanced-workshop-bad-kreuznach-2026-11-07/
LOCATION:SPORTS\, Riegelgrube 4\, Bad Kreuznach\, 55543\, Deutschland
CATEGORIES:bellicon® ADVANCED Workshop,Workshops
ORGANIZER;CN="bellicon Europe GmbH":MAILTO:info@bellicon.academy
GEO:49.846988677979;7.89319896698
X-APPLE-STRUCTURED-LOCATION;VALUE=URI;X-ADDRESS=SPORTS Riegelgrube 4 Bad Kreuznach 55543 Deutschland;X-APPLE-RADIUS=500;X-TITLE=Riegelgrube 4:geo:7.89319896698,49.846988677979
END:VEVENT
BEGIN:VEVENT
DTSTART;TZID=Europe/Berlin:20261108T100000
DTEND;TZID=Europe/Berlin:20261108T170000
DTSTAMP:20260424T052656
CREATED:20251111T110024Z
LAST-MODIFIED:20251202T094110Z
UID:10000444-1794132000-1794157200@academy.bellicon.com
SUMMARY:bellicon® HEALTH Workshop (Uelzen)
DESCRIPTION:  \nFür wen ist der HEALTH Workshop geeignet?\nDer bellicon HEALTH Workshop ist die optimale Gelegenheit für alle bellicon JUMPING Trainerinnen und Trainer\, ihr Kursangebot um gesundheitsorientierte Stunden auf dem bellicon® Minitrampolin zu erweitern. Health Kurse sind vor allem für Trampolineinsteiger\, ältere Teilnehmerinnen und Teilnehmer oder Personen mit gesundheitlichen Beschwerden geeignet. Die Voraussetzung für die Teilnahme am Workshop ist die erfolgreich bestandene bellicon JUMPING Ausbildung oder die Jumping Fitness Basic Ausbildung. \nWas beinhaltet der HEALTH Workshop?\nDer Theorieteil des eintägigen Workshops vermittelt anatomisch-physiologische Kenntnisse\, Trainingsmöglichkeiten in einer Gruppe mit heterogenen pathologischen Befunden und den binnendifferenzierten methodisch-didaktische Aufbau für eine gesundheitsorientierte Nutzung eines bellicon® Trampolins. Nach einer Praxispräsentation eines Fallbeispiels in einer Kleingruppe gilt der Workshop als erfolgreich beendet und wird mit einem Zertifikat abgeschlossen. \nWelche Möglichkeiten bietet der HEALTH Workshop?\nDie Trainerinnen und Trainer sind nach dem bellicon HEALTH Workshop dazu qualifiziert\, qualitativ hochwertige Trampolinkurse im Gesundheitsbereich anbieten zu können. \nAm Tag davor besteht die Möglichkeit an einem bellicon® KIDS Workshop an diesem Standort teilzunehmen. \nZusätzliche Informationen:\n\nDie Ausbildung findet ab einer Mindestteilnehmerzahl von 4 Personen statt\nWir starten pünktlich um 10:00 Uhr und beenden das Seminar um 17:00 Uhr.\nUmkleiden und Duschen dürfen natürlich benutzt werden.\nParkplätze auf der Straße vorhanden.\n\nDas solltest du mitbringen:\n\nPausenverpflegung\nHandtuch und ausreichend Wechselsachen\nSchreibmaterial\n\nWir freuen uns auf dich! \nHINWEISWir machen während des Seminars Fotos\, um diese auf Facebook zu posten und euch zur Verfügung zu stellen. Wer damit nicht einverstanden ist\, teilt uns das bitte vorab mit. Wir würden die entsprechenden Fotos dann rausfiltern. \n Buchbar bis Mittwochabend vor Veranstaltungsbeginn\n 
URL:https://academy.bellicon.com/event/bellicon-health-workshop-uelzen-2026-11-08/
LOCATION:Easy Fitness Uelzen\, Bahnhofstraße 2B\, Uelzen\, 29525\, Germany
CATEGORIES:bellicon® HEALTH Workshop,Workshops
ORGANIZER;CN="bellicon Europe GmbH":MAILTO:info@bellicon.academy
GEO:52.9669141;10.5525444
X-APPLE-STRUCTURED-LOCATION;VALUE=URI;X-ADDRESS=Easy Fitness Uelzen Bahnhofstraße 2B Uelzen 29525 Germany;X-APPLE-RADIUS=500;X-TITLE=Bahnhofstraße 2B:geo:10.5525444,52.9669141
END:VEVENT
BEGIN:VEVENT
DTSTART;TZID=Europe/Berlin:20261108T100000
DTEND;TZID=Europe/Berlin:20261108T170000
DTSTAMP:20260424T052656
CREATED:20251111T105407Z
LAST-MODIFIED:20251202T094451Z
UID:10000442-1794132000-1794157200@academy.bellicon.com
SUMMARY:bellicon® INTERVALL Workshop (Bad Kreuznach)
DESCRIPTION:  \nFür wen ist der INTERVALL Workshop geeignet?\nAlle bereits ausgebildeten bellicon JUMPING oder Jumping Fitness Basic Trainerinnen und Trainer lernen in diesem Workshop Techniken und Trainingsmethoden\, die den heutigen Fitnessanforderungen von Zeit und Effektivität entsprechen. \nWas beinhaltet der INTERVALL Workshop?\nIn dem eintägigen Workshop erhalten die Teilnehmerinnen und Teilnehmer notwendiges Hintergrundwissen sowie die dazu sinnvollen Werkzeuge\, um Kursstunden auf dem bellicon® nach dem angesagten Intervall- und Circleprinzip zu unterrichten. Die im bellicon JUMPING Kurs erlangte Grundlagenausdauer kann in einem Intervallkurs auf ein höheres Level gebracht werden. Zusätzlich werden während des Workshops Werkzeuge zu kraftbasiertem Circletraining gelehrt\, die die Trainerinnen und Trainer befähigt\, kraftorientierte Kurse auf dem bellicon® zu geben. Nach einer kurzen praktischen Präsentation der im Workshop erworbenen Trainingstechniken im Intervall- und Circletraining wird ein bellicon INTERVALL Zertifikat überreicht. \nWelche Möglichkeiten bietet der INTERVALL Workshop?\nDie Trainerinnen und Trainer sind dank der im Workshop vermittelten Sachkenntnisse und Fertigkeiten in der Lage\, spezifische bellicon JUMPING Kurse nach dem Intervall- und Circleprinzip zu geben und damit auch fortgeschrittene Teilnehmerinnen und Teilnehmer anzusprechen. \nAm Tag davor besteht die Möglichkeit an einem bellicon® ADVANCED Workshop an diesem Standort teilzunehmen. \nZusätzliche Informationen:\n\nDie Ausbildung findet ab einer Mindestteilnehmerzahl von 4 Personen statt\nWir starten pünktlich um 10:00 Uhr und beenden das Seminar um 17:00 Uhr.\nUmkleiden und Duschen dürfen natürlich benutzt werden.\nDie Zapfanlage mit Mineralgetränken & Wasser darf kostenfrei genutzt werden\nEs sind genügend Parkplätze vor und hinter dem Studio vorhanden\, so dass nicht auf der Straße geparkt werden muss.\nIn der Nähe des Studios befindet sich die „Bäckerei Lohner“. Des Weiteren gibt es eine Tankstelle in direkter Nähe mit Snackangebot.\n\nDas solltest du mitbringen:\n\nPausenverpflegung\nHandtuch und ausreichend Wechselsachen\nSchreibmaterial\n\nUnterkünfte in nächster Umgebung zum Veranstaltungsort:\n\nHotel Beisiegel Landgasthof\, Am Sportfeld 1-3\, 55545 Bad Kreuznach\, Tel.: 0671-64105\nLandhotel Kauzenburg\, Auf dem Kauzenberg 1\, 55545 Bad Kreuznach\, Tel.: 0671-38000\n\nWir freuen uns auf dich! \nHINWEISWir machen während des Seminars Fotos\, um diese auf Facebook zu posten und euch zur Verfügung zu stellen. Wer damit nicht einverstanden ist\, teilt uns das bitte vorab mit. Wir würden die entsprechenden Fotos dann rausfiltern. \n Buchbar bis Mittwochabend vor Veranstaltungsbeginn\n 
URL:https://academy.bellicon.com/event/bellicon-intervall-workshop-bad-kreuznach-2026-11-08/
LOCATION:SPORTS\, Riegelgrube 4\, Bad Kreuznach\, 55543\, Deutschland
CATEGORIES:bellicon® INTERVALL Workshop,Workshops
ORGANIZER;CN="bellicon Europe GmbH":MAILTO:info@bellicon.academy
GEO:49.846988677979;7.89319896698
X-APPLE-STRUCTURED-LOCATION;VALUE=URI;X-ADDRESS=SPORTS Riegelgrube 4 Bad Kreuznach 55543 Deutschland;X-APPLE-RADIUS=500;X-TITLE=Riegelgrube 4:geo:7.89319896698,49.846988677979
END:VEVENT
END:VCALENDAR