BEGIN:VCALENDAR
VERSION:2.0
PRODID:-//bellicon academy - ECPv6.8.2//NONSGML v1.0//EN
CALSCALE:GREGORIAN
METHOD:PUBLISH
X-WR-CALNAME:bellicon academy
X-ORIGINAL-URL:https://academy.bellicon.com
X-WR-CALDESC:Events for bellicon academy
REFRESH-INTERVAL;VALUE=DURATION:PT1H
X-Robots-Tag:noindex
X-PUBLISHED-TTL:PT1H
BEGIN:VTIMEZONE
TZID:Europe/Berlin
BEGIN:DAYLIGHT
TZOFFSETFROM:+0100
TZOFFSETTO:+0200
TZNAME:CEST
DTSTART:20230326T010000
END:DAYLIGHT
BEGIN:STANDARD
TZOFFSETFROM:+0200
TZOFFSETTO:+0100
TZNAME:CET
DTSTART:20231029T010000
END:STANDARD
END:VTIMEZONE
BEGIN:VEVENT
DTSTART;TZID=Europe/Berlin:20230603T100000
DTEND;TZID=Europe/Berlin:20230603T170000
DTSTAMP:20260421T190329
CREATED:20230331T112620Z
LAST-MODIFIED:20230424T094721Z
UID:10000288-1685786400-1685811600@academy.bellicon.com
SUMMARY:bellicon® HEALTH Workshop (Hamburg)
DESCRIPTION:  \nFür wen ist der bellicon HEALTH Workshop geeignet?\nDer bellicon HEALTH Workshop ist die optimale Gelegenheit für alle bellicon JUMPING Trainerinnen und Trainer\, ihr Kursangebot um gesundheitsorientierte Stunden auf dem bellicon® Minitrampolin zu erweitern. Health Kurse sind vor allem für Trampolineinsteiger\, ältere Teilnehmerinnen und Teilnehmer oder Personen mit gesundheitlichen Beschwerden geeignet. Die Voraussetzung für die Teilnahme am Workshop ist die erfolgreich bestandene bellicon JUMPING Ausbildung oder die Jumping Fitness Basic Ausbildung. \nWas beinhaltet der bellicon HEALTH Workshop?\nDer Theorieteil des eintägigen Workshops vermittelt anatomisch-physiologische Kenntnisse\, Trainingsmöglichkeiten in einer Gruppe mit heterogenen pathologischen Befunden und den binnendifferenzierten methodisch-didaktische Aufbau für eine gesundheitsorientierte Nutzung eines bellicon® Trampolins. Nach einer Praxispräsentation eines Fallbeispiels in einer Kleingruppe gilt der Workshop als erfolgreich beendet und wird mit einem Zertifikat abgeschlossen. \nWelche Möglichkeiten bietet der bellicon HEALTH Workshop?\nDie Trainerinnen und Trainer sind nach dem bellicon HEALTH Workshop dazu qualifiziert\, qualitativ hochwertige Trampolinkurse im Gesundheitsbereich anbieten zu können. \nZusätzliche Informationen:\n\nWir starten pünktlich um 10:00 Uhr und beenden das Seminar um 17:00 Uhr.\nParkplätze sind auf der Straße vorhanden (gegen Gebühr).\nEinkaufsmöglichkeiten in Laufweite (allerdings ist sonntags alles geschlossen).\nUmkleiden und Duschen dürfen natürlich benutzt werden.\n\nDas solltest du mitbringen:\n\nPausenverpflegung\nHandtuch und ausreichend Wechselsachen\nSchreibmaterial\n\nHotels in nächster Umgebung zum Veranstaltungsort:\n\nPark Hotel am Berliner Tor\, Borgfelder Str. 1-9\, 20537 Hamburg\, Telefon: 040251640\nPanorama Inn Hotel und Boardinghaus\, Billstedter Hauptstraße 36\, 22111 Hamburg\, Telefon: 040 733690\n\nWir freuen uns auf dich! \nHINWEISWir machen während des Seminars Fotos\, um diese auf Facebook zu posten und euch zur Verfügung zu stellen. Wer damit nicht einverstanden ist\, teilt uns das bitte vorab mit. Wir würden die entsprechenden Fotos dann rausfiltern. \n Buchbar bis Mittwochabend vor Veranstaltungsbeginn\n 
URL:https://academy.bellicon.com/event/bellicon-health-workshop-hamburg-03-06-2023/
CATEGORIES:bellicon® HEALTH Workshop,Workshops
END:VEVENT
BEGIN:VEVENT
DTSTART;TZID=Europe/Berlin:20230604T100000
DTEND;TZID=Europe/Berlin:20230604T170000
DTSTAMP:20260421T190329
CREATED:20221201T132246Z
LAST-MODIFIED:20230904T063651Z
UID:10000168-1685872800-1685898000@academy.bellicon.com
SUMMARY:bellicon® INTERVALL Workshop (Berlin)
DESCRIPTION:  \nFür wen ist der bellicon INTERVALL Workshop geeignet?\nAlle bereits ausgebildeten bellicon JUMPING oder Jumping Fitness Basic Trainerinnen und Trainer lernen in diesem Workshop Techniken und Trainingsmethoden\, die den heutigen Fitnessanforderungen von Zeit und Effektivität entsprechen.  \nWas beinhaltet der bellicon INTERVALL Workshop?\nIn dem eintägigen Workshop erhalten die Teilnehmerinnen und Teilnehmer notwendiges Hintergrundwissen sowie die dazu sinnvollen Werkzeuge\, um Kursstunden auf dem bellicon® nach dem angesagten Intervall- und Circleprinzip zu unterrichten. Die im bellicon JUMPING Kurs erlangte Grundlagenausdauer kann in einem Intervallkurs auf ein höheres Level gebracht werden. Zusätzlich werden während des Workshops Werkzeuge zu kraftbasiertem Circletraining gelehrt\, die die Trainerinnen und Trainer befähigt\, kraftorientierte Kurse auf dem bellicon® zu geben. Nach einer kurzen praktischen Präsentation der im Workshop erworbenen Trainingstechniken im Intervall- und Circletraining wird ein bellicon INTERVALL Zertifikat überreicht. \nWelche Möglichkeiten bietet der bellicon INTERVALL Workshop?\nDie Trainerinnen und Trainer sind dank der im Workshop vermittelten Sachkenntnisse und Fertigkeiten in der Lage\, spezifische bellicon JUMPING Kurse nach dem Intervall- und Circleprinzip zu geben und damit auch fortgeschrittene Teilnehmerinnen und Teilnehmer anzusprechen. \nZusätzliche Informationen:\n\nWir starten pünktlich um 10:00 Uhr und beenden das Seminar um 17:00 Uhr.\nParkplätze sind auf der Straße vorhanden (gegen Gebühr).\nDas Studio ist sehr gut mit den öffentlichen Verkehrmitteln zu erreichen.\nViele Einkaufsmöglichkeiten in Laufweite z.B. Lidl oder Bäckerei (allerdings ist sonntags alles geschlossen).\nUmkleiden und Duschen dürfen natürlich benutzt werden.\n\nDas solltest du mitbringen:\n\nPausenverpflegung\nHandtuch und ausreichend Wechselsachen\nSchreibmaterial\n\nHotels in nächster Umgebung zum Veranstaltungsort:\n\nAspria Berlin Ku’damm\, Karlsruher Str. 20\, 10711 Berlin\, Telefon: 030 890688868\nHotel Ku‘ Damm 101\, Kurfürstendamm 101\, 10711 Berlin\, Telefon: 030 5200550\nLANDMARK eco Hotel\, Gervinusstraße 24\, 10629 Berlin\, Telefon: 030 3279970\nNovum Hotel Kronprinz Berlin\, Kronprinzendamm 1\, 10711 Berlin\, Telefon: 030 896030\n\nWir freuen uns auf dich! \nHINWEISWir machen während des Seminars Fotos\, um diese auf Facebook zu posten und euch zur Verfügung zu stellen. Wer damit nicht einverstanden ist\, teilt uns das bitte vorab mit. Wir würden die entsprechenden Fotos dann rausfiltern. \n Buchbar bis Mittwochabend vor Veranstaltungsbeginn\n 
URL:https://academy.bellicon.com/event/bellicon-intervall-workshop-berlin-2023-06-04/
CATEGORIES:bellicon® INTERVALL Workshop,Workshops
END:VEVENT
END:VCALENDAR