BEGIN:VCALENDAR
VERSION:2.0
PRODID:-//bellicon academy - ECPv6.8.2//NONSGML v1.0//EN
CALSCALE:GREGORIAN
METHOD:PUBLISH
X-ORIGINAL-URL:https://academy.bellicon.com
X-WR-CALDESC:Events for bellicon academy
REFRESH-INTERVAL;VALUE=DURATION:PT1H
X-Robots-Tag:noindex
X-PUBLISHED-TTL:PT1H
BEGIN:VTIMEZONE
TZID:Europe/Berlin
BEGIN:DAYLIGHT
TZOFFSETFROM:+0100
TZOFFSETTO:+0200
TZNAME:CEST
DTSTART:20220327T010000
END:DAYLIGHT
BEGIN:STANDARD
TZOFFSETFROM:+0200
TZOFFSETTO:+0100
TZNAME:CET
DTSTART:20221030T010000
END:STANDARD
END:VTIMEZONE
BEGIN:VEVENT
DTSTART;TZID=Europe/Berlin:20220319T090000
DTEND;TZID=Europe/Berlin:20220320T180000
DTSTAMP:20260421T210927
CREATED:20211026T093026Z
LAST-MODIFIED:20220301T075255Z
UID:10000210-1647680400-1647799200@academy.bellicon.com
SUMMARY:formation bellicon® JUMPING (Worriken)
DESCRIPTION:A qui s’adresse la formation bellicon JUMPING ? \nPour participer à la formation bellicon® JUMPING\, une expérience en matière de séances de fitness en groupe est recommandée mais non requise. Notre formation est parfaite pour tous ceux qui souhaitent à l’avenir proposer des cours de fitness sur les mini-trampolines bellicon®. \nQue inclut la formation bellicon® JUMPING ? \nLa formation bellicon JUMPING est la formation de base pour les cours de JUMPING de haute qualité. En plus de l’exécution correcte des mouvements et de la technique de saut\, la théorie musicale est également enseignée ainsi que la manière de diriger des cours de groupe à l’aide de la musique et la bonne structuration d’un cours. Grâce à un ensemble complet de théorie et de pratique\, les participants à la formation sont en mesure d’effectuer un cours de bellicon JUMPING de première classe à la fin du séminaire.\nAvant la formation\, les participants recevront une vidéo d’information sur le trampoline bellicon®\, son histoire\, sa philosophie et les workshops de l’Academy. \nLe deuxième jour de formation se termine par un examen pratique individuel\, au cours duquel les participants simulent une classe de jumping – de l’accueil et de l’explication des aspects essentiels du bellicon® à l’enseignement de quelques mouvements en utilisant correctement la musique. Un système de points crée une transparence maximale et permet de remédier aux points faibles. Si cela ne fonctionne pas à la fin de la formation\, l’Academy du bellicon apportera son soutien jusqu’à ce que plus rien ne fasse obstacle à la réussite de la qualification. \nQuelles sont les possibilités offertes par la formation bellicon JUMPING ? \nAprès la formation de base axée sur la forme physique\, les formateurs peuvent assister à d’autres workshops de l’Academy du bellicon\, tels que bellicon ADVANCED\, bellicon INTERVAL\, bellicon HEALTH ou bellicon KIDS\, afin de pouvoir adapter encore mieux l’offre de cours à leur propre groupe cible. Après notre formation\, les formateurs sont totalement libres dans leur activité de formateur et ne sont pas obligés de payer des droits de licence. \nInformations complémentaires : \nNous commençons les deux jours ponctuellement à 9h00 et terminons le séminaire à 18h00\nLes vestiaires et les douches peuvent être bien-sûr utilisés. \nVous devrez apporter avec vous : \nQqch. pour manger/boire pendant les pauses\nUne serviette et des vêtements de rechange\nMatériel d’écriture \nNous prendrons des photos pendant le séminaire pour les publier sur Facebook et les mettre à votre disposition. Si vous n’êtes pas d’accord\, veuillez nous le faire savoir à l’avance. Nous filtrons ensuite les photos correspondantes. \nHôtels à proximité immédiate du lieu de la manifestation : \nhttp://www.butgenbach.info/fr/bienvenue/ \nNous vous attendons avec impatience !
URL:https://academy.bellicon.com/event/formation-bellicon-jumping-worriken/
LOCATION:Worriken – dans le bâtiment de la piscine\, Worriken 9\, Bütgenbach\, 4750\, Belgien
CATEGORIES:bellicon® JUMPING Trainerausbildung,Trainerausbildungen
ATTACH;FMTTYPE=image/png:https://academy.bellicon.com/wp-content/uploads/2021/09/jmp.png
ORGANIZER;CN="bellicon Europe GmbH":MAILTO:info@bellicon.academy
GEO:50.4247279;6.2216783
X-APPLE-STRUCTURED-LOCATION;VALUE=URI;X-ADDRESS=Worriken – dans le bâtiment de la piscine Worriken 9 Bütgenbach 4750 Belgien;X-APPLE-RADIUS=500;X-TITLE=Worriken 9:geo:6.2216783,50.4247279
END:VEVENT
END:VCALENDAR