BEGIN:VCALENDAR
VERSION:2.0
PRODID:-//bellicon academy - ECPv6.8.2//NONSGML v1.0//EN
CALSCALE:GREGORIAN
METHOD:PUBLISH
X-ORIGINAL-URL:https://academy.bellicon.com
X-WR-CALDESC:Events for bellicon academy
REFRESH-INTERVAL;VALUE=DURATION:PT1H
X-Robots-Tag:noindex
X-PUBLISHED-TTL:PT1H
BEGIN:VTIMEZONE
TZID:Europe/Berlin
BEGIN:DAYLIGHT
TZOFFSETFROM:+0100
TZOFFSETTO:+0200
TZNAME:CEST
DTSTART:20220327T010000
END:DAYLIGHT
BEGIN:STANDARD
TZOFFSETFROM:+0200
TZOFFSETTO:+0100
TZNAME:CET
DTSTART:20221030T010000
END:STANDARD
END:VTIMEZONE
BEGIN:VEVENT
DTSTART;TZID=Europe/Berlin:20220702T090000
DTEND;TZID=Europe/Berlin:20220703T180000
DTSTAMP:20260421T132739
CREATED:20211208T075021Z
LAST-MODIFIED:20220131T072552Z
UID:10000217-1656752400-1656871200@academy.bellicon.com
SUMMARY:bellicon® JUMPING Trainerausbildung (Berlin)
DESCRIPTION:  \nFür wen ist die bellicon JUMPING Ausbildung geeignet?\nFür die Teilnahme an der bellicon JUMPING Ausbildung wird Erfahrung im Bereich Gruppenfitness empfohlen\, aber nicht vorausgesetzt. Alle\, die künftig fitnessorientierte Kurse auf bellicon® Minitrampolinen anbieten möchten\, finden in dieser Ausbildung die Grundlage dafür. \nWas beinhaltet die bellicon JUMPING Ausbildung?\nDie bellicon JUMPING Ausbildung ist die Grundausbildung für fitnessorientierte und qualitativ hochwertige bellicon JUMPING Kurse. Neben der korrekten Ausführung der Schritte und der Sprungtechnik wird auch Musiklehre sowie das Anleiten von Gruppenkursen mit Hilfe von Musik und der sinnvolle Aufbau einer Kursstunde vermittelt. Dank des umfassenden Paketes aus Theorie und Praxis sind die Teilnehmerinnen und Teilnehmer der Ausbildung am Ende des Seminars in der Lage\, eine erstklassige bellicon® JUMPING Stunde durchzuführen. Vor der Ausbildung wird den Teilnehmerinnen und Teilnehmern ein Informationsvideo zum bellicon® Trampolin\, zur Geschichte\, der Philosophie sowie zu den Workshops der Academy zugeschickt. \nDer zweite Ausbildungstag schließt mit einer praktischen Einzelprüfung ab\, in der die Teilnehmenden eine Kursstunde simulieren – von der Begrüßung über die Erläuterung der wesentlichen Aspekte des bellicon® bis hin zur Anleitung einiger Schritte unter korrekter Nutzung von Musik. Ein Punktesystem schafft dabei maximale Transparenz und ermöglicht es\, auf Schwachstellen eingehen zu können. Sollte es mit dem Abschluss der Ausbildung nicht auf Anhieb klappen\, stellt die bellicon Academy so lange ihre Unterstützung zur Verfügung bis einer erfolgreichen Qualifikation nichts mehr im Wege steht.  \nWelche Möglichkeiten bietet die bellicon JUMPING Ausbildung?\nNach der fitnessorientierten Grundausbildung können die Trainerinnen und Trainer weiterführende Workshops der bellicon Academy\, wie bellicon ADVANCED\, bellicon INTERVALL\, bellicon HEALTH oder bellicon KIDS besuchen\, um das Kursangebot noch besser an die eigene Zielgruppe anpassen zu können. Nach einer Ausbildung sind die Trainerinnen und Trainer in ihrer Trainertätigkeit vollkommen frei und zu keinen Lizenzgebühren verpflichtet.  \nZusätzliche Informationen:\n\nWir starten beide Tage pünktlich um 09:00 Uhr und beenden das Seminar um  18:00 Uhr.\nParkplätze sind auf der Straße vorhanden (gegen Gebühr).\nDas Studio ist sehr gut mit den öffentlichen Verkehrmitteln zu erreichen.\nViele Einkaufsmöglichkeiten in Laufweite z.B. Lidl oder Bäckerei (allerdings ist sonntags alles geschlossen).\nUmkleiden und Duschen dürfen natürlich benutzt werden.\n\nDas solltest du mitbringen:\n\nPausenverpflegung\nHandtuch und ausreichend Wechselsachen\nSchreibmaterial\n\nHotels in nächster Umgebung zum Veranstaltungsort:\n\nAspria Berlin Ku’damm\, Karlsruher Str. 20\, 10711 Berlin\, Telefon: 030 890688868\nHotel Ku‘ Damm 101\, Kurfürstendamm 101\, 10711 Berlin\, Telefon: 030 5200550\nLANDMARK eco Hotel\, Gervinusstraße 24\, 10629 Berlin\, Telefon: 030 3279970\nNovum Hotel Kronprinz Berlin\, Kronprinzendamm 1\, 10711 Berlin\, Telefon: 030 896030\n\nWir freuen uns auf dich! \nHINWEISWir machen während des Seminars Fotos\, um diese auf Facebook zu posten und euch zur Verfügung zu stellen. Wer damit nicht einverstanden ist\, teilt uns das bitte vorab mit. Wir würden die entsprechenden Fotos dann rausfiltern. \n Buchbar bis Mittwochabend vor Veranstaltungsbeginn\n 
URL:https://academy.bellicon.com/event/bellicon-jumping-trainerausbildung-berlin-2022-07-02/
LOCATION:Aspria Berlin\, Karlsruher Str. 20\, Berlin\, 10711\, Deutschland
CATEGORIES:bellicon® JUMPING Trainerausbildung,Trainerausbildungen
GEO:52.500371513187;13.29376744336
X-APPLE-STRUCTURED-LOCATION;VALUE=URI;X-ADDRESS=Aspria Berlin Karlsruher Str. 20 Berlin 10711 Deutschland;X-APPLE-RADIUS=500;X-TITLE=Karlsruher Str. 20:geo:13.29376744336,52.500371513187
END:VEVENT
BEGIN:VEVENT
DTSTART;TZID=Europe/Berlin:20220716T100000
DTEND;TZID=Europe/Berlin:20220716T170000
DTSTAMP:20260421T132739
CREATED:20211208T125038Z
LAST-MODIFIED:20220228T143710Z
UID:10000225-1657965600-1657990800@academy.bellicon.com
SUMMARY:bellicon® ADVANCED Workshop (Bad Kreuznach)
DESCRIPTION:  \nFür wen ist der bellicon ADVANCED Workshop geeignet?\nAlle Trainerinnen und Trainer\, die bereits die bellicon JUMPING oder die Jumping Fitness Basic Ausbildung erfolgreich abgeschlossen haben\, lernen im bellicon ADVANCED Workshop ihre Trainerfähigkeiten auf ein neues Level zu heben.  \nWas beinhaltet der bellicon ADVANCED Workshop?\nWährend des eintägigen Workshops werden Kommunikationstechniken zur erfolgreichen Motivation und Bindung der Teilnehmerinnen und Teilnehmer vermittelt sowie Wege zur effektiven Korrektur\, methodische Schritte für teilnehmerorientierte Unterrichtsgestaltung und neue Choreographie- und Schrittideen. Außerdem wird an der Qualität der eigenen Cueing- und Sprung-Technik gearbeitet. Nach einer kurzen praktischen Demonstration der erworbenen Fähigkeiten erhalten die Teilnehmerinnen und Teilnehmer am Ende des Workshoptages ein bellicon ADVANCED Zertifikat.  \nWelche Möglichkeiten bietet der bellicon ADVANCED Workshop?\nDer Workshop befähigt die Teilnehmenden durch die erweiterte Unterrichtskompetenz sowie die erlernten Soft Skills und Unterrichtstechniken qualitativ noch hochwertigere fitnessorientierte bellicon JUMPING Kurse zu geben. \nAm Tag danach besteht die Möglichkeit an einem bellicon® JUMPING meets Shadowboxer Workshop an diesem Standort teilzunehmen. \nZusätzliche Informationen:\n\nWir starten pünktlich um 10:00 Uhr und beenden das Seminar um 17:00 Uhr.\nUmkleiden\, Duschen sowie die Zapfanlage mit Mineralgetränken & Wasser dürfen kostenfrei genutzt werden.\nEs sind genügend Parkplätze vor und hinter dem Studio vorhanden\, so dass nicht auf der Straße geparkt werden muss.\nIn der Nähe des Studios befindet sich die „Bäckerei Lohner“. Des Weiteren gibt es eine Tankstelle in direkter Nähe mit Snackangebot.\n\nDas solltest du mitbringen:\n\nPausenverpflegung\nHandtuch und ausreichend Wechselsachen\nSchreibmaterial\n\nHotels in nächster Umgebung zum Veranstaltungsort:\n\nHotel Beisiegel Landgasthof\, Am Sportfeld 1-3\, 55545 Bad Kreuznach\, Tel.: 0671-64105\nLandhotel Kauzenburg\, Auf dem Kauzenberg 1\, 55545 Bad Kreuznach\, Tel.: 0671-38000\n\nWir freuen uns auf dich! \nHINWEISWir machen während des Seminars Fotos\, um diese auf Facebook zu posten und euch zur Verfügung zu stellen. Wer damit nicht einverstanden ist\, teilt uns das bitte vorab mit. Wir würden die entsprechenden Fotos dann rausfiltern. \n Buchbar bis Mittwochabend vor Veranstaltungsbeginn\n 
URL:https://academy.bellicon.com/event/bellicon-advanced-workshop-bad-kreuznach-2022-07-16/
LOCATION:SPORTS\, Riegelgrube 4\, Bad Kreuznach\, 55543\, Deutschland
CATEGORIES:bellicon® ADVANCED Workshop,Workshops
ORGANIZER;CN="bellicon Europe GmbH":MAILTO:info@bellicon.academy
GEO:49.846988677979;7.89319896698
X-APPLE-STRUCTURED-LOCATION;VALUE=URI;X-ADDRESS=SPORTS Riegelgrube 4 Bad Kreuznach 55543 Deutschland;X-APPLE-RADIUS=500;X-TITLE=Riegelgrube 4:geo:7.89319896698,49.846988677979
END:VEVENT
BEGIN:VEVENT
DTSTART;TZID=Europe/Berlin:20220717T100000
DTEND;TZID=Europe/Berlin:20220717T170000
DTSTAMP:20260421T132739
CREATED:20211208T125414Z
LAST-MODIFIED:20220228T143658Z
UID:10000226-1658052000-1658077200@academy.bellicon.com
SUMMARY:bellicon® JUMPING meets Shadowboxer Workshop (Bad Kreuznach)
DESCRIPTION:  \nDer eintägige Workshop bellicon JUMPING meets Shadowboxer richtet sich an alle Trainerinnen und Trainer mit abgeschlossener bellicon JUMPING oder vergleichbarer Ausbildung und befähigt sie dazu\, das Trainingstool Shadowboxer mit dem bellicon® Trampolin als innovatives Workout zu kombinieren. \nDie Idee zu diesem Kurskonzept war\, das eher Core- und Lower body-lastige Workout auf dem bellicon® mit einem Trainingstool zu vereinen\, das sich sehr auf den Upper body auswirkt. In der Kombination entstand mit JUMPING meets Shadowboxer ein Workout\, das alle fünf Fähigkeiten trainiert\, die einem gesunden Körper zugrunde liegen: \nAusdauer – Kraft – Schnelligkeit – Beweglichkeit – Koordination \nDer Shadowboxer übernimmt hierbei die Rolle des stabilisierenden Elementes. Ziel des Trainings\, wie auch unvermeidbarer Nebeneffekt\, ist die Erweiterung der Ausdauer und die Kräftigung des ganzen Körpers.\n————————————————————————————\nDer Theorieteil des Workshops beschäftigt sich mit den Vorzügen des Mobility Trainings\, den physiologischen Grundlagen des Intervalltrainings und dem Konzept des funktionellen Trainings.\nIm Praxisteil wird das durch den/die Ausbilder/in angeleitete Stundenbild behandelt\, wie auch Boxing- und Workout Moves mit dem Shadowboxer auf dem bellicon® erlernt.\nZum Abschluss des Workshops erhält jeder Teilnehmende ein Zertifikat.\n—————————————————————————————\nDie Voraussetzungen für die Teilnahme am JUMPING meets Shadowboxer Workshop sind das vollendete 16. Lebensjahr sowie eine erfolgreich bestandene Jumping Fitness Basic oder bellicon® JUMPING Ausbildung. Empfohlen wird zudem eine gute Grundlagenausdauer.  \nAm Tag davor besteht die Möglichkeit an einem bellicon® ADVANCED Workshop an diesem Standort teilzunehmen. \nZusätzliche Informationen:\n\nWir starten pünktlich um 10:00 Uhr und beenden das Seminar um 17:00 Uhr.\nUmkleiden\, Duschen sowie die Zapfanlage mit Mineralgetränken & Wasser dürfen kostenfrei genutzt werden.\nEs sind genügend Parkplätze vor und hinter dem Studio vorhanden\, so dass nicht auf der Straße geparkt werden muss.\nIn der Nähe des Studios befindet sich die „Bäckerei Lohner“. Des Weiteren gibt es eine Tankstelle in direkter Nähe mit Snackangebot. \n\nDas solltest du mitbringen:\n\nPausenverpflegung\nHandtuch und ausreichend Wechselsachen\nSchreibmaterial\n\nHotels in nächster Umgebung zum Veranstaltungsort:\n\nHotel Beisiegel Landgasthof\, Am Sportfeld 1-3\, 55545 Bad Kreuznach\, Tel.: 0671-64105\nLandhotel Kauzenburg\, Auf dem Kauzenberg 1\, 55545 Bad Kreuznach\, Tel.: 0671-38000\n\nWir freuen uns auf dich! \nHINWEISWir machen während des Seminars Fotos\, um diese auf Facebook zu posten und euch zur Verfügung zu stellen. Wer damit nicht einverstanden ist\, teilt uns das bitte vorab mit. Wir würden die entsprechenden Fotos dann rausfiltern. \n Inklusive Gürtel buchbar bis Sonntagabend\, \nohne Gürtel buchbar bis Mittwochabend vor Veranstaltungsbeginn\n 
URL:https://academy.bellicon.com/event/bellicon-jmsb-workshop-bad-kreuznach-2022-07-17/
LOCATION:SPORTS\, Riegelgrube 4\, Bad Kreuznach\, 55543\, Deutschland
CATEGORIES:bellicon® JUMPING meets Shadowboxer Workshop,Workshops
ORGANIZER;CN="bellicon Europe GmbH":MAILTO:info@bellicon.academy
GEO:49.846988677979;7.89319896698
X-APPLE-STRUCTURED-LOCATION;VALUE=URI;X-ADDRESS=SPORTS Riegelgrube 4 Bad Kreuznach 55543 Deutschland;X-APPLE-RADIUS=500;X-TITLE=Riegelgrube 4:geo:7.89319896698,49.846988677979
END:VEVENT
END:VCALENDAR