BEGIN:VCALENDAR
VERSION:2.0
PRODID:-//bellicon academy - ECPv6.8.2//NONSGML v1.0//EN
CALSCALE:GREGORIAN
METHOD:PUBLISH
X-WR-CALNAME:bellicon academy
X-ORIGINAL-URL:https://academy.bellicon.com
X-WR-CALDESC:Events for bellicon academy
REFRESH-INTERVAL;VALUE=DURATION:PT1H
X-Robots-Tag:noindex
X-PUBLISHED-TTL:PT1H
BEGIN:VTIMEZONE
TZID:Europe/Berlin
BEGIN:DAYLIGHT
TZOFFSETFROM:+0100
TZOFFSETTO:+0200
TZNAME:CEST
DTSTART:20220327T010000
END:DAYLIGHT
BEGIN:STANDARD
TZOFFSETFROM:+0200
TZOFFSETTO:+0100
TZNAME:CET
DTSTART:20221030T010000
END:STANDARD
END:VTIMEZONE
BEGIN:VEVENT
DTSTART;TZID=Europe/Berlin:20221008T090000
DTEND;TZID=Europe/Berlin:20221009T180000
DTSTAMP:20260421T051200
CREATED:20220211T151236Z
LAST-MODIFIED:20220211T151236Z
UID:10000235-1665219600-1665338400@academy.bellicon.com
SUMMARY:bellicon® JUMPING Trainerausbildung (Schmalkalden)
DESCRIPTION:  \nFür wen ist die bellicon JUMPING Ausbildung geeignet?\nFür die Teilnahme an der bellicon JUMPING Ausbildung wird Erfahrung im Bereich Gruppenfitness empfohlen\, aber nicht vorausgesetzt. Alle\, die künftig fitnessorientierte Kurse auf bellicon® Minitrampolinen anbieten möchten\, finden in dieser Ausbildung die Grundlage dafür. \nWas beinhaltet die bellicon JUMPING Ausbildung?\nDie bellicon JUMPING Ausbildung ist die Grundausbildung für fitnessorientierte und qualitativ hochwertige bellicon JUMPING Kurse. Neben der korrekten Ausführung der Schritte und der Sprungtechnik wird auch Musiklehre sowie das Anleiten von Gruppenkursen mit Hilfe von Musik und der sinnvolle Aufbau einer Kursstunde vermittelt. Dank des umfassenden Paketes aus Theorie und Praxis sind die Teilnehmerinnen und Teilnehmer der Ausbildung am Ende des Seminars in der Lage\, eine erstklassige bellicon® JUMPING Stunde durchzuführen. Vor der Ausbildung wird den Teilnehmerinnen und Teilnehmern ein Informationsvideo zum bellicon® Trampolin\, zur Geschichte\, der Philosophie sowie zu den Workshops der Academy zugeschickt. \nDer zweite Ausbildungstag schließt mit einer praktischen Einzelprüfung ab\, in der die Teilnehmenden eine Kursstunde simulieren – von der Begrüßung über die Erläuterung der wesentlichen Aspekte des bellicon® bis hin zur Anleitung einiger Schritte unter korrekter Nutzung von Musik. Ein Punktesystem schafft dabei maximale Transparenz und ermöglicht es\, auf Schwachstellen eingehen zu können. Sollte es mit dem Abschluss der Ausbildung nicht auf Anhieb klappen\, stellt die bellicon Academy so lange ihre Unterstützung zur Verfügung bis einer erfolgreichen Qualifikation nichts mehr im Wege steht.  \nWelche Möglichkeiten bietet die bellicon JUMPING Ausbildung?\nNach der fitnessorientierten Grundausbildung können die Trainerinnen und Trainer weiterführende Workshops der bellicon Academy\, wie bellicon ADVANCED\, bellicon INTERVALL\, bellicon HEALTH oder bellicon KIDS besuchen\, um das Kursangebot noch besser an die eigene Zielgruppe anpassen zu können. Nach einer Ausbildung sind die Trainerinnen und Trainer in ihrer Trainertätigkeit vollkommen frei und zu keinen Lizenzgebühren verpflichtet.  \nZusätzliche Informationen:\n\nWir starten beide Tage pünktlich um 09:00 Uhr und beenden das Seminar um  18:00 Uhr.\nUmkleiden und Duschen dürfen natürlich benutzt werden.\nIn der Umgebung des Studios befinden sich mehrere gastronomische Angebote.\n\nDas solltest du mitbringen:\n\nPausenverpflegung\nHandtuch und ausreichend Wechselsachen\nSchreibmaterial\n\nHotels in nächster Umgebung zum Veranstaltungsort:\n\nFerienwohnung-Vermietung über Maria Töffels-Baacke\, Tel.: 0179 1234780\nHotel Grünes Tor\, Weidebrunner Gasse 14\, 98574 Schmalkalden\nStadthotel Patrizier\, Weidebrunner Gasse 9\, 98574 Schmalkalden\n\nWir freuen uns auf dich! \nHINWEISWir machen während des Seminars Fotos\, um diese auf Facebook zu posten und euch zur Verfügung zu stellen. Wer damit nicht einverstanden ist\, teilt uns das bitte vorab mit. Wir würden die entsprechenden Fotos dann rausfiltern. \n Buchbar bis Mittwochabend vor Veranstaltungsbeginn\n 
URL:https://academy.bellicon.com/event/bellicon-jumping-trainerausbildung-schmalkalden-2022-10-08/
LOCATION:Easyfitness Schmalkalden\, Haindorfsgasse 15\, Schmalkalden\, 98574\, Deutschland
CATEGORIES:bellicon® JUMPING Trainerausbildung,Trainerausbildungen
ORGANIZER;CN="bellicon Europe GmbH":MAILTO:info@bellicon.academy
GEO:50.724090576172;10.452477455139
X-APPLE-STRUCTURED-LOCATION;VALUE=URI;X-ADDRESS=Easyfitness Schmalkalden Haindorfsgasse 15 Schmalkalden 98574 Deutschland;X-APPLE-RADIUS=500;X-TITLE=Haindorfsgasse 15:geo:10.452477455139,50.724090576172
END:VEVENT
BEGIN:VEVENT
DTSTART;TZID=Europe/Berlin:20221022T100000
DTEND;TZID=Europe/Berlin:20221022T170000
DTSTAMP:20260421T051200
CREATED:20220907T115826Z
LAST-MODIFIED:20221017T110924Z
UID:10000251-1666432800-1666458000@academy.bellicon.com
SUMMARY:ABGESAGT - bellicon® HEALTH Workshop (Hamburg)
DESCRIPTION:  \nFür wen ist der bellicon HEALTH Workshop geeignet?\nDer bellicon HEALTH Workshop ist die optimale Gelegenheit für alle bellicon JUMPING Trainerinnen und Trainer\, ihr Kursangebot um gesundheitsorientierte Stunden auf dem bellicon® Minitrampolin zu erweitern. Health Kurse sind vor allem für Trampolineinsteiger\, ältere Teilnehmerinnen und Teilnehmer oder Personen mit gesundheitlichen Beschwerden geeignet. Die Voraussetzung für die Teilnahme am Workshop ist die erfolgreich bestandene bellicon JUMPING Ausbildung oder die Jumping Fitness Basic Ausbildung. \nWas beinhaltet der bellicon HEALTH Workshop?\nDer Theorieteil des eintägigen Workshops vermittelt anatomisch-physiologische Kenntnisse\, Trainingsmöglichkeiten in einer Gruppe mit heterogenen pathologischen Befunden und den binnendifferenzierten methodisch-didaktische Aufbau für eine gesundheitsorientierte Nutzung eines bellicon® Trampolins. Nach einer Praxispräsentation eines Fallbeispiels in einer Kleingruppe gilt der Workshop als erfolgreich beendet und wird mit einem Zertifikat abgeschlossen. \nWelche Möglichkeiten bietet der bellicon HEALTH Workshop?\nDie Trainerinnen und Trainer sind nach dem bellicon HEALTH Workshop dazu qualifiziert\, qualitativ hochwertige Trampolinkurse im Gesundheitsbereich anbieten zu können. \nAm Tag danach besteht die Möglichkeit an einem bellicon® ADVANCED Workshop an diesem Standort teilzunehmen. \nZusätzliche Informationen:\n\nWir starten pünktlich um 10:00 Uhr und beenden das Seminar um 17:00 Uhr.\nParkplätze sind auf der Straße vorhanden (gegen Gebühr).\nEinkaufsmöglichkeiten in Laufweite (allerdings ist sonntags alles geschlossen).\nUmkleiden und Duschen dürfen natürlich benutzt werden.\n\nDas solltest du mitbringen:\n\nPausenverpflegung\nHandtuch und ausreichend Wechselsachen\nSchreibmaterial\n\nHotels in nächster Umgebung zum Veranstaltungsort:\n\nHotel Panorama Hamburg-Billstedt\, Billstedter Hauptstraße 44-48\, 22111 Hamburg\, Telefon: 040 733590\nPanorama Inn Hotel und Boardinghaus\, Billstedter Hauptstraße 36\, 22111 Hamburg\, Telefon: 040 733690\n\nWir freuen uns auf dich! \nHINWEISWir machen während des Seminars Fotos\, um diese auf Facebook zu posten und euch zur Verfügung zu stellen. Wer damit nicht einverstanden ist\, teilt uns das bitte vorab mit. Wir würden die entsprechenden Fotos dann rausfiltern. \n Buchbar bis Mittwochabend vor Veranstaltungsbeginn\n 
URL:https://academy.bellicon.com/event/bellicon-health-workshop-hamburg-2022-10-22/
LOCATION:HT16 -Hamburger Turnerschaft von 1816 r. V.\, Sievekingdamm 1\, Hamburg\, 20535\, Deutschland
CATEGORIES:bellicon® HEALTH Workshop,Workshops
ORGANIZER;CN="bellicon Europe GmbH":MAILTO:info@bellicon.academy
GEO:53.558712005615;10.047761917114
X-APPLE-STRUCTURED-LOCATION;VALUE=URI;X-ADDRESS=HT16 -Hamburger Turnerschaft von 1816 r. V. Sievekingdamm 1 Hamburg 20535 Deutschland;X-APPLE-RADIUS=500;X-TITLE=Sievekingdamm 1:geo:10.047761917114,53.558712005615
END:VEVENT
BEGIN:VEVENT
DTSTART;TZID=Europe/Berlin:20221023T100000
DTEND;TZID=Europe/Berlin:20221023T170000
DTSTAMP:20260421T051200
CREATED:20220907T122915Z
LAST-MODIFIED:20221017T110729Z
UID:10000252-1666519200-1666544400@academy.bellicon.com
SUMMARY:bellicon® ADVANCED Workshop (Hamburg)
DESCRIPTION:  \nFür wen ist der bellicon ADVANCED Workshop geeignet?\nAlle Trainerinnen und Trainer\, die bereits die bellicon JUMPING oder die Jumping Fitness Basic Ausbildung erfolgreich abgeschlossen haben\, lernen im bellicon ADVANCED Workshop ihre Trainerfähigkeiten auf ein neues Level zu heben.  \nWas beinhaltet der bellicon ADVANCED Workshop?\nWährend des eintägigen Workshops werden Kommunikationstechniken zur erfolgreichen Motivation und Bindung der Teilnehmerinnen und Teilnehmer vermittelt sowie Wege zur effektiven Korrektur\, methodische Schritte für teilnehmerorientierte Unterrichtsgestaltung und neue Choreographie- und Schrittideen. Außerdem wird an der Qualität der eigenen Cueing- und Sprung-Technik gearbeitet. Nach einer kurzen praktischen Demonstration der erworbenen Fähigkeiten erhalten die Teilnehmerinnen und Teilnehmer am Ende des Workshoptages ein bellicon ADVANCED Zertifikat.  \nWelche Möglichkeiten bietet der bellicon ADVANCED Workshop?\nDer Workshop befähigt die Teilnehmenden durch die erweiterte Unterrichtskompetenz sowie die erlernten Soft Skills und Unterrichtstechniken qualitativ noch hochwertigere fitnessorientierte bellicon JUMPING Kurse zu geben. \nZusätzliche Informationen:\n\nWir starten pünktlich um 10:00 Uhr und beenden das Seminar um 17:00 Uhr.\nParkplätze sind auf der Straße vorhanden (gegen Gebühr).\nEinkaufsmöglichkeiten in Laufweite (allerdings ist sonntags alles geschlossen).\nUmkleiden und Duschen dürfen natürlich benutzt werden.\n\nDas solltest du mitbringen:\n\nPausenverpflegung\nHandtuch und ausreichend Wechselsachen\nSchreibmaterial\n\nHotels in nächster Umgebung zum Veranstaltungsort:\n\nHotel Panorama Hamburg-Billstedt\, Billstedter Hauptstraße 44-48\, 22111 Hamburg\, Telefon: 040 733590\nPanorama Inn Hotel und Boardinghaus\, Billstedter Hauptstraße 36\, 22111 Hamburg\, Telefon: 040 733690\n\nWir freuen uns auf dich! \nHINWEISWir machen während des Seminars Fotos\, um diese auf Facebook zu posten und euch zur Verfügung zu stellen. Wer damit nicht einverstanden ist\, teilt uns das bitte vorab mit. Wir würden die entsprechenden Fotos dann rausfiltern. \n Buchbar bis Mittwochabend vor Veranstaltungsbeginn\n 
URL:https://academy.bellicon.com/event/bellicon-advanced-workshop-hamburg-2022-10-23/
LOCATION:HT16 -Hamburger Turnerschaft von 1816 r. V.\, Sievekingdamm 1\, Hamburg\, 20535\, Deutschland
CATEGORIES:bellicon® ADVANCED Workshop,Workshops
ORGANIZER;CN="bellicon Europe GmbH":MAILTO:info@bellicon.academy
GEO:53.558712005615;10.047761917114
X-APPLE-STRUCTURED-LOCATION;VALUE=URI;X-ADDRESS=HT16 -Hamburger Turnerschaft von 1816 r. V. Sievekingdamm 1 Hamburg 20535 Deutschland;X-APPLE-RADIUS=500;X-TITLE=Sievekingdamm 1:geo:10.047761917114,53.558712005615
END:VEVENT
END:VCALENDAR