BEGIN:VCALENDAR
VERSION:2.0
PRODID:-//bellicon academy - ECPv6.8.2//NONSGML v1.0//EN
CALSCALE:GREGORIAN
METHOD:PUBLISH
X-WR-CALNAME:bellicon academy
X-ORIGINAL-URL:https://academy.bellicon.com
X-WR-CALDESC:Events for bellicon academy
REFRESH-INTERVAL;VALUE=DURATION:PT1H
X-Robots-Tag:noindex
X-PUBLISHED-TTL:PT1H
BEGIN:VTIMEZONE
TZID:Europe/Berlin
BEGIN:DAYLIGHT
TZOFFSETFROM:+0100
TZOFFSETTO:+0200
TZNAME:CEST
DTSTART:20220327T010000
END:DAYLIGHT
BEGIN:STANDARD
TZOFFSETFROM:+0200
TZOFFSETTO:+0100
TZNAME:CET
DTSTART:20221030T010000
END:STANDARD
END:VTIMEZONE
BEGIN:VEVENT
DTSTART;TZID=Europe/Berlin:20221105T093000
DTEND;TZID=Europe/Berlin:20221106T180000
DTSTAMP:20260421T032552
CREATED:20211214T123021Z
LAST-MODIFIED:20221024T111507Z
UID:10000230-1667640600-1667757600@academy.bellicon.com
SUMMARY:bellicon® JUMPING Trainerausbildung (Hamburg)
DESCRIPTION:  \nFür wen ist die bellicon JUMPING Ausbildung geeignet?\nFür die Teilnahme an der bellicon JUMPING Ausbildung wird Erfahrung im Bereich Gruppenfitness empfohlen\, aber nicht vorausgesetzt. Alle\, die künftig fitnessorientierte Kurse auf bellicon® Minitrampolinen anbieten möchten\, finden in dieser Ausbildung die Grundlage dafür. \nWas beinhaltet die bellicon JUMPING Ausbildung?\nDie bellicon JUMPING Ausbildung ist die Grundausbildung für fitnessorientierte und qualitativ hochwertige bellicon JUMPING Kurse. Neben der korrekten Ausführung der Schritte und der Sprungtechnik wird auch Musiklehre sowie das Anleiten von Gruppenkursen mit Hilfe von Musik und der sinnvolle Aufbau einer Kursstunde vermittelt. Dank des umfassenden Paketes aus Theorie und Praxis sind die Teilnehmerinnen und Teilnehmer der Ausbildung am Ende des Seminars in der Lage\, eine erstklassige bellicon® JUMPING Stunde durchzuführen. Vor der Ausbildung wird den Teilnehmerinnen und Teilnehmern ein Informationsvideo zum bellicon® Trampolin\, zur Geschichte\, der Philosophie sowie zu den Workshops der Academy zugeschickt. \nDer zweite Ausbildungstag schließt mit einer praktischen Einzelprüfung ab\, in der die Teilnehmenden eine Kursstunde simulieren – von der Begrüßung über die Erläuterung der wesentlichen Aspekte des bellicon® bis hin zur Anleitung einiger Schritte unter korrekter Nutzung von Musik. Ein Punktesystem schafft dabei maximale Transparenz und ermöglicht es\, auf Schwachstellen eingehen zu können. Sollte es mit dem Abschluss der Ausbildung nicht auf Anhieb klappen\, stellt die bellicon Academy so lange ihre Unterstützung zur Verfügung bis einer erfolgreichen Qualifikation nichts mehr im Wege steht.  \nWelche Möglichkeiten bietet die bellicon JUMPING Ausbildung?\nNach der fitnessorientierten Grundausbildung können die Trainerinnen und Trainer weiterführende Workshops der bellicon Academy\, wie bellicon ADVANCED\, bellicon INTERVALL\, bellicon HEALTH oder bellicon KIDS besuchen\, um das Kursangebot noch besser an die eigene Zielgruppe anpassen zu können. Nach einer Ausbildung sind die Trainerinnen und Trainer in ihrer Trainertätigkeit vollkommen frei und zu keinen Lizenzgebühren verpflichtet.  \nZusätzliche Informationen:\n\nWir starten beide Tage pünktlich um 09:30 Uhr und beenden das Seminar um  18:00 Uhr.\nParkplätze sind auf der Straße vorhanden (gegen Gebühr).\nEinkaufsmöglichkeiten in Laufweite (allerdings ist sonntags alles geschlossen).\nUmkleiden und Duschen dürfen natürlich benutzt werden.\n\nDas solltest du mitbringen:\n\nPausenverpflegung\nHandtuch und ausreichend Wechselsachen\nSchreibmaterial\n\nHotels in nächster Umgebung zum Veranstaltungsort:\n\nPark Hotel am Berliner Tor\, Borgfelder Str. 1-9\, 20537 Hamburg\, Telefon: 040251640\nPanorama Inn Hotel und Boardinghaus\, Billstedter Hauptstraße 36\, 22111 Hamburg\, Telefon: 040 733690\n\nWir freuen uns auf dich! \nHINWEISWir machen während des Seminars Fotos\, um diese auf Facebook zu posten und euch zur Verfügung zu stellen. Wer damit nicht einverstanden ist\, teilt uns das bitte vorab mit. Wir würden die entsprechenden Fotos dann rausfiltern. \n Buchbar bis Mittwochabend vor Veranstaltungsbeginn\n 
URL:https://academy.bellicon.com/event/bellicon-jumping-trainerausbildung-hamburg-2022-11-05/
LOCATION:HT16 -Hamburger Turnerschaft von 1816 r. V.\, Sievekingdamm 1\, Hamburg\, 20535\, Deutschland
CATEGORIES:bellicon® JUMPING Trainerausbildung,Trainerausbildungen
ORGANIZER;CN="bellicon Europe GmbH":MAILTO:info@bellicon.academy
GEO:53.558712005615;10.047761917114
X-APPLE-STRUCTURED-LOCATION;VALUE=URI;X-ADDRESS=HT16 -Hamburger Turnerschaft von 1816 r. V. Sievekingdamm 1 Hamburg 20535 Deutschland;X-APPLE-RADIUS=500;X-TITLE=Sievekingdamm 1:geo:10.047761917114,53.558712005615
END:VEVENT
BEGIN:VEVENT
DTSTART;TZID=Europe/Berlin:20221106T100000
DTEND;TZID=Europe/Berlin:20221106T130000
DTSTAMP:20260421T032552
CREATED:20220708T095523Z
LAST-MODIFIED:20220711T095624Z
UID:10000249-1667728800-1667739600@academy.bellicon.com
SUMMARY:kreativer Schritteworkshop mit Maria ONLINE
DESCRIPTION:Für wen ist der kreative Schritteworkshop mit Maria geeignet?\nDu brauchst neue Ideen für ausgefallene Schrittkombis und kreative Moves? Dann bist du hier genau richtig. In unserem dreistündigen online Workshop wird dir unsere Mastertrainerin Maria neue Ideen und Input geben. Dich erwarten neue Schrittideen und -kombis\, eine Masterclass und Zeit Maria mit allen Fragen zu löchern\, die dir auf der JUMPING- Seele brennen. \nZusätzliche Informationen:\n\nDer kreative Schritteworkshop mit Maria ist ein online Workshop und wird per Videokonferenz (Webinar) via Zoom abgehalten.\nDer Zugang erfolgt über einen persönlichen Link.\nBitte stelle vorab sicher\, dass dein Endgerät inklusive Kamera und Audio bei der Nutzung von Zoom funktionieren. Der Zoom- Meetingraum steht dir dazu ab 9:45 Uhr zur Verfügung.\nWir starten den Workshop pünktlich um 10:00 Uhr und beenden ihn um 13:00 Uhr.\n\nTechnische Voraussetzungen:\n\ninternetfähiges Endgerät (Laptop\, Tablet oder Ähnliches) mit integrierter Kamera oder Webcam und Audioausgang (Boxen)\nentsprechend schneller Internetzugang\n\nDas solltest du mitbringen:\n\nein bellicon\nHandtuch und Trinken\nSchreibmaterial\n\nWir freuen uns auf dich!
URL:https://academy.bellicon.com/event/kreativer-schritteworkshop-online-2022-11-06/
CATEGORIES:Online Specials
ORGANIZER;CN="bellicon Europe GmbH":MAILTO:info@bellicon.academy
END:VEVENT
BEGIN:VEVENT
DTSTART;TZID=Europe/Berlin:20221112T100000
DTEND;TZID=Europe/Berlin:20221112T170000
DTSTAMP:20260421T032552
CREATED:20220223T090508Z
LAST-MODIFIED:20221103T132143Z
UID:10000242-1668247200-1668272400@academy.bellicon.com
SUMMARY:-ABGESAGT- bellicon® HEALTH Workshop (Lippstadt)
DESCRIPTION:  \nFür wen ist der bellicon HEALTH Workshop geeignet?\nDer bellicon HEALTH Workshop ist die optimale Gelegenheit für alle bellicon JUMPING Trainerinnen und Trainer\, ihr Kursangebot um gesundheitsorientierte Stunden auf dem bellicon® Minitrampolin zu erweitern. Health Kurse sind vor allem für Trampolineinsteiger\, ältere Teilnehmerinnen und Teilnehmer oder Personen mit gesundheitlichen Beschwerden geeignet. Die Voraussetzung für die Teilnahme am Workshop ist die erfolgreich bestandene bellicon JUMPING Ausbildung oder die Jumping Fitness Basic Ausbildung. \nWas beinhaltet der bellicon HEALTH Workshop?\nDer Theorieteil des eintägigen Workshops vermittelt anatomisch-physiologische Kenntnisse\, Trainingsmöglichkeiten in einer Gruppe mit heterogenen pathologischen Befunden und den binnendifferenzierten methodisch-didaktische Aufbau für eine gesundheitsorientierte Nutzung eines bellicon® Trampolins. Nach einer Praxispräsentation eines Fallbeispiels in einer Kleingruppe gilt der Workshop als erfolgreich beendet und wird mit einem Zertifikat abgeschlossen. \nWelche Möglichkeiten bietet der bellicon HEALTH Workshop?\nDie Trainerinnen und Trainer sind nach dem bellicon HEALTH Workshop dazu qualifiziert\, qualitativ hochwertige Trampolinkurse im Gesundheitsbereich anbieten zu können. \nAm Tag danach besteht die Möglichkeit an einem bellicon® KIDS Workshop an diesem Standort teilzunehmen. \nZusätzliche Informationen:\n\nWir starten pünktlich um 10:00 Uhr und beenden das Seminar um 17:00 Uhr.\nParkplätze auf der Straße vorhanden.\nUmkleiden und Duschen dürfen natürlich benutzt werden.\n\nDas solltest du mitbringen:\n\nPausenverpflegung\nHandtuch und ausreichend Wechselsachen\nSchreibmaterial\n\nWir freuen uns auf dich! \nHINWEISWir machen während des Seminars Fotos\, um diese auf Facebook zu posten und euch zur Verfügung zu stellen. Wer damit nicht einverstanden ist\, teilt uns das bitte vorab mit. Wir würden die entsprechenden Fotos dann rausfiltern. \n Buchbar bis Mittwochabend vor Veranstaltungsbeginn\n 
URL:https://academy.bellicon.com/event/bellicon-health-workshop-lippstadt-2022-11-12/
LOCATION:VIARELA\, Erwitter Str. 151 B\, Lippstadt\, 59557\, Deutschland
CATEGORIES:bellicon® HEALTH Workshop,Workshops
ORGANIZER;CN="bellicon Europe GmbH":MAILTO:info@bellicon.academy
GEO:51.6519033;8.343426
X-APPLE-STRUCTURED-LOCATION;VALUE=URI;X-ADDRESS=VIARELA Erwitter Str. 151 B Lippstadt 59557 Deutschland;X-APPLE-RADIUS=500;X-TITLE=Erwitter Str. 151 B:geo:8.343426,51.6519033
END:VEVENT
BEGIN:VEVENT
DTSTART;TZID=Europe/Berlin:20221113T100000
DTEND;TZID=Europe/Berlin:20221113T170000
DTSTAMP:20260421T032552
CREATED:20220223T090638Z
LAST-MODIFIED:20220223T090638Z
UID:10000243-1668333600-1668358800@academy.bellicon.com
SUMMARY:bellicon® KIDS Workshop (Lippstadt)
DESCRIPTION:  \nFür wen ist der bellicon KIDS Workshop geeignet?\nDer bellicon KIDS Workshop umfasst ein speziell für Kinder und Jugendliche entwickeltes Kursprogramm auf dem Minitrampolin und richtet sich an alle Trainerinnen und Trainer\, die bereits die bellicon JUMPING\, Jumping Fitness Basic Ausbildung und/oder die bellicon HEALTH Ausbildung abgeschlossen haben. \nWas beinhaltet der bellicon KIDS Workshop?\nKinder und Jugendliche sind in ihren Entwicklungsphasen unterschiedlich bewegungsfreudig und neugierig. Daher benötigen sie abwechslungsreiche Anregungen und Bewegungsideen. In dem eintägigen Workshop lernen die Teilnehmerinnen und Teilnehmer\, wie man spielerisch und kreativ die Fähigkeiten und Fertigkeiten von Kindern und Jugendlichen entsprechend ihrer sportmotorischen Entwicklung mit\, auf und am Trampolin fördern und fordern kann. Motiviere die Kleinen durch Choreographien sowie Spiel und Spaß an Sport und Bewegung. Während des Workshops bringen sich die Trainerinnen und Trainer über eine Praxispräsentation aktiv ein\, indem sie die gelernten Spiele und Ideen anwenden und umsetzen. \nWelche Möglichkeiten bietet der bellicon KIDS Workshop?\nNach erfolgreicher Teilnahme am Workshop sind die Trainerinnen und Trainer in der Lage\, altersgerechte und pädagogisch wertvolle Trampolinkurse für Kinder und Jugendliche anzubieten. \nAm Tag davor besteht die Möglichkeit an einem bellicon® HEALTH Workshop an diesem Standort teilzunehmen. \nZusätzliche Informationen:\n\nWir starten pünktlich um 10:00 Uhr und beenden das Seminar um 17:00 Uhr.\nParkplätze auf der Straße vorhanden.\nUmkleiden und Duschen dürfen natürlich benutzt werden.\n\nDas solltest du mitbringen:\n\nPausenverpflegung\nHandtuch und ausreichend Wechselsachen\nSchreibmaterial\n\nWir freuen uns auf dich! \nHINWEISWir machen während des Seminars Fotos\, um diese auf Facebook zu posten und euch zur Verfügung zu stellen. Wer damit nicht einverstanden ist\, teilt uns das bitte vorab mit. Wir würden die entsprechenden Fotos dann rausfiltern. \n Buchbar bis Mittwochabend vor Veranstaltungsbeginn\n 
URL:https://academy.bellicon.com/event/bellicon-kids-workshop-lippstadt-2022-11-13/
LOCATION:VIARELA\, Erwitter Str. 151 B\, Lippstadt\, 59557\, Deutschland
CATEGORIES:bellicon® KIDS Workshop,Workshops
ORGANIZER;CN="bellicon Europe GmbH":MAILTO:info@bellicon.academy
GEO:51.6519033;8.343426
X-APPLE-STRUCTURED-LOCATION;VALUE=URI;X-ADDRESS=VIARELA Erwitter Str. 151 B Lippstadt 59557 Deutschland;X-APPLE-RADIUS=500;X-TITLE=Erwitter Str. 151 B:geo:8.343426,51.6519033
END:VEVENT
BEGIN:VEVENT
DTSTART;TZID=Europe/Berlin:20221119T100000
DTEND;TZID=Europe/Berlin:20221119T170000
DTSTAMP:20260421T032552
CREATED:20211208T130857Z
LAST-MODIFIED:20221117T121701Z
UID:10000228-1668852000-1668877200@academy.bellicon.com
SUMMARY:bellicon® ADVANCED Workshop (Halle)
DESCRIPTION:  \nFür wen ist der bellicon ADVANCED Workshop geeignet?\nAlle Trainerinnen und Trainer\, die bereits die bellicon JUMPING oder die Jumping Fitness Basic Ausbildung erfolgreich abgeschlossen haben\, lernen im bellicon ADVANCED Workshop ihre Trainerfähigkeiten auf ein neues Level zu heben.  \nWas beinhaltet der bellicon ADVANCED Workshop?\nWährend des eintägigen Workshops werden Kommunikationstechniken zur erfolgreichen Motivation und Bindung der Teilnehmerinnen und Teilnehmer vermittelt sowie Wege zur effektiven Korrektur\, methodische Schritte für teilnehmerorientierte Unterrichtsgestaltung und neue Choreographie- und Schrittideen. Außerdem wird an der Qualität der eigenen Cueing- und Sprung-Technik gearbeitet. Nach einer kurzen praktischen Demonstration der erworbenen Fähigkeiten erhalten die Teilnehmerinnen und Teilnehmer am Ende des Workshoptages ein bellicon ADVANCED Zertifikat.  \nWelche Möglichkeiten bietet der bellicon ADVANCED Workshop?\nDer Workshop befähigt die Teilnehmenden durch die erweiterte Unterrichtskompetenz sowie die erlernten Soft Skills und Unterrichtstechniken qualitativ noch hochwertigere fitnessorientierte bellicon JUMPING Kurse zu geben. \nZusätzliche Informationen:\n\nWir starten pünktlich um 10:00 Uhr und beenden das Seminar um 17:00 Uhr.\nUmkleiden und Duschen dürfen natürlich benutzt werden.\n\nDas solltest du mitbringen:\n\nPausenverpflegung\nHandtuch und ausreichend Wechselsachen\nSchreibmaterial\n\nHotels in nächster Umgebung zum Veranstaltungsort:\n\nLandhotel Jäckel\, Dürkoppstraße 8\, 33790 Halle (Westfalen)\, Telefon: 05201 971330\nSteinhägerquelle\, Quellweg 6\, 33803 Steinhagen\, Telefon: 05204 2256\n\nWir freuen uns auf dich! \nHINWEISWir machen während des Seminars Fotos\, um diese auf Facebook zu posten und euch zur Verfügung zu stellen. Wer damit nicht einverstanden ist\, teilt uns das bitte vorab mit. Wir würden die entsprechenden Fotos dann rausfiltern. \n Buchbar bis Mittwochabend vor Veranstaltungsbeginn\n 
URL:https://academy.bellicon.com/event/bellicon-advanced-workshop-halle-2022-11-19/
CATEGORIES:bellicon® ADVANCED Workshop,Workshops
END:VEVENT
BEGIN:VEVENT
DTSTART;TZID=Europe/Berlin:20221126T090000
DTEND;TZID=Europe/Berlin:20221127T180000
DTSTAMP:20260421T032552
CREATED:20220915T112725Z
LAST-MODIFIED:20220915T112725Z
UID:10000255-1669453200-1669572000@academy.bellicon.com
SUMMARY:bellicon® JUMPING Trainerausbildung (Baunatal)
DESCRIPTION:  \nFür wen ist die bellicon JUMPING Ausbildung geeignet?\nFür die Teilnahme an der bellicon JUMPING Ausbildung wird Erfahrung im Bereich Gruppenfitness empfohlen\, aber nicht vorausgesetzt. Alle\, die künftig fitnessorientierte Kurse auf bellicon® Minitrampolinen anbieten möchten\, finden in dieser Ausbildung die Grundlage dafür. \nWas beinhaltet die bellicon JUMPING Ausbildung?\nDie bellicon JUMPING Ausbildung ist die Grundausbildung für fitnessorientierte und qualitativ hochwertige bellicon JUMPING Kurse. Neben der korrekten Ausführung der Schritte und der Sprungtechnik wird auch Musiklehre sowie das Anleiten von Gruppenkursen mit Hilfe von Musik und der sinnvolle Aufbau einer Kursstunde vermittelt. Dank des umfassenden Paketes aus Theorie und Praxis sind die Teilnehmerinnen und Teilnehmer der Ausbildung am Ende des Seminars in der Lage\, eine erstklassige bellicon® JUMPING Stunde durchzuführen. Vor der Ausbildung wird den Teilnehmerinnen und Teilnehmern ein Informationsvideo zum bellicon® Trampolin\, zur Geschichte\, der Philosophie sowie zu den Workshops der Academy zugeschickt. \nDer zweite Ausbildungstag schließt mit einer praktischen Einzelprüfung ab\, in der die Teilnehmenden eine Kursstunde simulieren – von der Begrüßung über die Erläuterung der wesentlichen Aspekte des bellicon® bis hin zur Anleitung einiger Schritte unter korrekter Nutzung von Musik. Ein Punktesystem schafft dabei maximale Transparenz und ermöglicht es\, auf Schwachstellen eingehen zu können. Sollte es mit dem Abschluss der Ausbildung nicht auf Anhieb klappen\, stellt die bellicon Academy so lange ihre Unterstützung zur Verfügung bis einer erfolgreichen Qualifikation nichts mehr im Wege steht.  \nWelche Möglichkeiten bietet die bellicon JUMPING Ausbildung?\nNach der fitnessorientierten Grundausbildung können die Trainerinnen und Trainer weiterführende Workshops der bellicon Academy\, wie bellicon ADVANCED\, bellicon INTERVALL\, bellicon HEALTH oder bellicon KIDS besuchen\, um das Kursangebot noch besser an die eigene Zielgruppe anpassen zu können. Nach einer Ausbildung sind die Trainerinnen und Trainer in ihrer Trainertätigkeit vollkommen frei und zu keinen Lizenzgebühren verpflichtet.  \nZusätzliche Informationen:\n„ \n\nWir starten beide Tage pünktlich um 09:00 Uhr und beenden das Seminar um  18:00 Uhr.\nUmkleiden\, Duschen sowie eine Zapfanlage für Mineralgetränke und Wasser können kostenfrei genutzt werden.\nEs sind genügend kostenfreie Parkplätze vor Ort voranden.\nIn ca. 10 min erreicht man zu Fuß ein Edeka\, wo man sich am Samstag mit Verpflegung eindecken kann. \n\n“ \nDas solltest du mitbringen:\n\nPausenverpflegung\nHandtuch und ausreichend Wechselsachen\nSchreibmaterial\n\nHotels in nächster Umgebung zum Veranstaltungsort:\n\nGenoHotel Baunatal\, Schulze-Delitzsch-Straße 2\, 34225 Baunatal\, Tel.: 056019786000\nBest Western Hotel Ambassador\, Friedrich-Ebert-Allee 1\, 34225 Baunatal\, Tel.: 056149930\nHotel Stadt Baunatal\, Wilhelmshöher Str. 5\, 34225 Baunatal\, Tel.: 056194880\n\nWir freuen uns auf dich! \nHINWEISWir machen während des Seminars Fotos\, um diese auf Facebook zu posten und euch zur Verfügung zu stellen. Wer damit nicht einverstanden ist\, teilt uns das bitte vorab mit. Wir würden die entsprechenden Fotos dann rausfiltern. \n Buchbar bis Mittwochabend vor Veranstaltungsbeginn\n 
URL:https://academy.bellicon.com/event/bellicon-jumping-trainerausbildung-baunatal-2022-11-26/
LOCATION:NEOFIT Baunatal\, Stettiner Str. 9\, Baunatal\, 34225\, Deutschland
CATEGORIES:bellicon® JUMPING Trainerausbildung,Trainerausbildungen
ORGANIZER;CN="bellicon Europe GmbH":MAILTO:info@bellicon.academy
GEO:51.252896;9.388668
X-APPLE-STRUCTURED-LOCATION;VALUE=URI;X-ADDRESS=NEOFIT Baunatal Stettiner Str. 9 Baunatal 34225 Deutschland;X-APPLE-RADIUS=500;X-TITLE=Stettiner Str. 9:geo:9.388668,51.252896
END:VEVENT
END:VCALENDAR