BEGIN:VCALENDAR
VERSION:2.0
PRODID:-//bellicon academy - ECPv6.8.2//NONSGML v1.0//EN
CALSCALE:GREGORIAN
METHOD:PUBLISH
X-ORIGINAL-URL:https://academy.bellicon.com
X-WR-CALDESC:Events for bellicon academy
REFRESH-INTERVAL;VALUE=DURATION:PT1H
X-Robots-Tag:noindex
X-PUBLISHED-TTL:PT1H
BEGIN:VTIMEZONE
TZID:Europe/Berlin
BEGIN:DAYLIGHT
TZOFFSETFROM:+0100
TZOFFSETTO:+0200
TZNAME:CEST
DTSTART:20220327T010000
END:DAYLIGHT
BEGIN:STANDARD
TZOFFSETFROM:+0200
TZOFFSETTO:+0100
TZNAME:CET
DTSTART:20221030T010000
END:STANDARD
END:VTIMEZONE
BEGIN:VEVENT
DTSTART;TZID=Europe/Berlin:20221203T090000
DTEND;TZID=Europe/Berlin:20221204T180000
DTSTAMP:20260421T032914
CREATED:20220214T154845Z
LAST-MODIFIED:20220223T102611Z
UID:10000236-1670058000-1670176800@academy.bellicon.com
SUMMARY:bellicon® JUMPING Trainerausbildung (Rottenburg)
DESCRIPTION:  \nFür wen ist die bellicon JUMPING Ausbildung geeignet?\nFür die Teilnahme an der bellicon JUMPING Ausbildung wird Erfahrung im Bereich Gruppenfitness empfohlen\, aber nicht vorausgesetzt. Alle\, die künftig fitnessorientierte Kurse auf bellicon® Minitrampolinen anbieten möchten\, finden in dieser Ausbildung die Grundlage dafür. \nWas beinhaltet die bellicon JUMPING Ausbildung?\nDie bellicon JUMPING Ausbildung ist die Grundausbildung für fitnessorientierte und qualitativ hochwertige bellicon JUMPING Kurse. Neben der korrekten Ausführung der Schritte und der Sprungtechnik wird auch Musiklehre sowie das Anleiten von Gruppenkursen mit Hilfe von Musik und der sinnvolle Aufbau einer Kursstunde vermittelt. Dank des umfassenden Paketes aus Theorie und Praxis sind die Teilnehmerinnen und Teilnehmer der Ausbildung am Ende des Seminars in der Lage\, eine erstklassige bellicon® JUMPING Stunde durchzuführen. Vor der Ausbildung wird den Teilnehmerinnen und Teilnehmern ein Informationsvideo zum bellicon® Trampolin\, zur Geschichte\, der Philosophie sowie zu den Workshops der Academy zugeschickt. \nDer zweite Ausbildungstag schließt mit einer praktischen Einzelprüfung ab\, in der die Teilnehmenden eine Kursstunde simulieren – von der Begrüßung über die Erläuterung der wesentlichen Aspekte des bellicon® bis hin zur Anleitung einiger Schritte unter korrekter Nutzung von Musik. Ein Punktesystem schafft dabei maximale Transparenz und ermöglicht es\, auf Schwachstellen eingehen zu können. Sollte es mit dem Abschluss der Ausbildung nicht auf Anhieb klappen\, stellt die bellicon Academy so lange ihre Unterstützung zur Verfügung bis einer erfolgreichen Qualifikation nichts mehr im Wege steht.  \nWelche Möglichkeiten bietet die bellicon JUMPING Ausbildung?\nNach der fitnessorientierten Grundausbildung können die Trainerinnen und Trainer weiterführende Workshops der bellicon Academy\, wie bellicon ADVANCED\, bellicon INTERVALL\, bellicon HEALTH oder bellicon KIDS besuchen\, um das Kursangebot noch besser an die eigene Zielgruppe anpassen zu können. Nach einer Ausbildung sind die Trainerinnen und Trainer in ihrer Trainertätigkeit vollkommen frei und zu keinen Lizenzgebühren verpflichtet.  \nZusätzliche Informationen:\n\nWir starten beide Tage pünktlich um 09:00 Uhr und beenden das Seminar um  18:00 Uhr.\nUmkleiden und Duschen dürfen natürlich benutzt werden (Schrankschlüssel gegen Schlüsselpfand erhältlich).\nEs sind kostenlose Parkplätze vorhanden.\nNeben dem Studio befindet sich ein Lidl\, Bäcker\, Metzger und Italiener.\nEine Getränke Tagesflat aus der Schankanlage ist für 2\,80€ am Tag erhältlich\n\nDas solltest du mitbringen:\n\nPausenverpflegung\nHandtuch und ausreichend Wechselsachen\nSchreibmaterial\n\nHotels in nächster Umgebung zum Veranstaltungsort:\n\nFerienwohnung Welte – Ergenzingen\, Starenweg 32\, 72108 Rottenburg am Neckar – Tel.: 07457-1467\nHotel Schloss Weitenburg\, Weitenburg 1\, 72181 Starzach – Tel.: 07457-9330\n\nWir freuen uns auf dich! \nHINWEISWir machen während des Seminars Fotos\, um diese auf Facebook zu posten und euch zur Verfügung zu stellen. Wer damit nicht einverstanden ist\, teilt uns das bitte vorab mit. Wir würden die entsprechenden Fotos dann rausfiltern. \n Buchbar bis Mittwochabend vor Veranstaltungsbeginn\n 
URL:https://academy.bellicon.com/event/bellicon-jumping-trainerausbildung-rottenburg-2022-12-03/
LOCATION:Evolution Fitness Club\, Junghansring 64\, Rottenburg - Ergenzingen\, 72108\, Deutschland
CATEGORIES:bellicon® JUMPING Trainerausbildung,Trainerausbildungen
ORGANIZER;CN="bellicon Europe GmbH":MAILTO:info@bellicon.academy
GEO:48.4957026;8.8175358
X-APPLE-STRUCTURED-LOCATION;VALUE=URI;X-ADDRESS=Evolution Fitness Club Junghansring 64 Rottenburg - Ergenzingen 72108 Deutschland;X-APPLE-RADIUS=500;X-TITLE=Junghansring 64:geo:8.8175358,48.4957026
END:VEVENT
BEGIN:VEVENT
DTSTART;TZID=Europe/Berlin:20221203T090000
DTEND;TZID=Europe/Berlin:20221204T180000
DTSTAMP:20260421T032914
CREATED:20221024T113529Z
LAST-MODIFIED:20221024T113529Z
UID:10000277-1670058000-1670176800@academy.bellicon.com
SUMMARY:bellicon® JUMPING Trainerausbildung (Lenzburg)
DESCRIPTION:  \nFür wen ist die bellicon JUMPING Ausbildung geeignet?\nFür die Teilnahme an der bellicon JUMPING Ausbildung wird Erfahrung im Bereich Gruppenfitness empfohlen\, aber nicht vorausgesetzt. Alle\, die künftig fitnessorientierte Kurse auf bellicon® Minitrampolinen anbieten möchten\, finden in dieser Ausbildung die Grundlage dafür. \nWas beinhaltet die bellicon JUMPING Ausbildung?\nDie bellicon JUMPING Ausbildung ist die Grundausbildung für fitnessorientierte und qualitativ hochwertige bellicon JUMPING Kurse. Neben der korrekten Ausführung der Schritte und der Sprungtechnik wird auch Musiklehre sowie das Anleiten von Gruppenkursen mit Hilfe von Musik und der sinnvolle Aufbau einer Kursstunde vermittelt. Dank des umfassenden Paketes aus Theorie und Praxis sind die Teilnehmerinnen und Teilnehmer der Ausbildung am Ende des Seminars in der Lage\, eine erstklassige bellicon® JUMPING Stunde durchzuführen. Vor der Ausbildung wird den Teilnehmerinnen und Teilnehmern ein Informationsvideo zum bellicon® Trampolin\, zur Geschichte\, der Philosophie sowie zu den Workshops der Academy zugeschickt. \nDer zweite Ausbildungstag schließt mit einer praktischen Einzelprüfung ab\, in der die Teilnehmenden eine Kursstunde simulieren – von der Begrüßung über die Erläuterung der wesentlichen Aspekte des bellicon® bis hin zur Anleitung einiger Schritte unter korrekter Nutzung von Musik. Ein Punktesystem schafft dabei maximale Transparenz und ermöglicht es\, auf Schwachstellen eingehen zu können. Sollte es mit dem Abschluss der Ausbildung nicht auf Anhieb klappen\, stellt die bellicon Academy so lange ihre Unterstützung zur Verfügung bis einer erfolgreichen Qualifikation nichts mehr im Wege steht.  \nWelche Möglichkeiten bietet die bellicon JUMPING Ausbildung?\nNach der fitnessorientierten Grundausbildung können die Trainerinnen und Trainer weiterführende Workshops der bellicon Academy\, wie bellicon ADVANCED\, bellicon INTERVALL\, bellicon HEALTH oder bellicon KIDS besuchen\, um das Kursangebot noch besser an die eigene Zielgruppe anpassen zu können. Nach einer Ausbildung sind die Trainerinnen und Trainer in ihrer Trainertätigkeit vollkommen frei und zu keinen Lizenzgebühren verpflichtet.  \nZusätzliche Informationen:\n\nWir starten beide Tage pünktlich um 09:00 Uhr und beenden das Seminar um  18:00 Uhr.\nUmkleiden und Duschen dürfen natürlich benutzt werden.\n\nDas solltest du mitbringen:\n\nPausenverpflegung\nHandtuch und ausreichend Wechselsachen\nSchreibmaterial\n\nHotels in nächster Umgebung zum Veranstaltungsort:\n\nHotel Lenzburg\, Aavorstadt 26\, 5600 Lenzburg\, Schweiz\, Tel.: +41 62 888 87 87\n\nWir freuen uns auf dich! \nHINWEISWir machen während des Seminars Fotos\, um diese auf Facebook zu posten und euch zur Verfügung zu stellen. Wer damit nicht einverstanden ist\, teilt uns das bitte vorab mit. Wir würden die entsprechenden Fotos dann rausfiltern. \n —HINWEIS— Wir können für diesen Termin aktuell keine Rechnungen ausstellen und reichen diese schnellstmöglich nach! \n 
URL:https://academy.bellicon.com/event/bellicon-jumping-trainerausbildung-lenzburg-2022-12-03/
LOCATION:Swing motion\, Industriestrasse 26\, Lenzburg\, 5600\, Schweiz
CATEGORIES:bellicon® JUMPING Trainerausbildung,Trainerausbildungen
ORGANIZER;CN="bellicon Europe GmbH":MAILTO:info@bellicon.academy
GEO:47.041343688965;8.311222076416
X-APPLE-STRUCTURED-LOCATION;VALUE=URI;X-ADDRESS=Swing motion Industriestrasse 26 Lenzburg 5600 Schweiz;X-APPLE-RADIUS=500;X-TITLE=Industriestrasse 26:geo:8.311222076416,47.041343688965
END:VEVENT
BEGIN:VEVENT
DTSTART;TZID=Europe/Berlin:20221203T100000
DTEND;TZID=Europe/Berlin:20221203T130000
DTSTAMP:20260421T032914
CREATED:20220912T134757Z
LAST-MODIFIED:20220912T134757Z
UID:10000254-1670061600-1670072400@academy.bellicon.com
SUMMARY:bellicon HEALTH REFRESHER Workshop ONLINE
DESCRIPTION:Für wen ist der bellicon Health REFRESHER Workshop geeignet?\nDer bellicon Health REFRESHER Workshop eignet sich für alle Trainerinnen und Trainer\, die bereits die bellicon HEALTH  Ausbildung erfolgreich abgeschlossen haben und ihre Technik der Grundschritte auffrischen\, Übungsideen bekommen\, offene Fragen klären und zusammen bei einer Masterclass ganz viel Health – Spaß haben wollen. \nWas beinhaltet der bellicon HEALTH REFRESHER Workshop?\nWährend des dreistündigen Workshops wird die Arm-\, Bein- und Schwungtechnik der bellicon HEALTH Grundschritte wiederholt\, geputzt und perfektioniert\, sowie neue Übungsideen (Kräftigung- / Koordination) vermittelt. Anschließend schwingen wir zusammen eine Masterclass in der wir auch hier nochmal besonderes Augenmerk auf besonders viel Spaß und natürlich die korrekte Technik legen. Nach der Praxiseinheit bleibt noch Zeit zum Austausch und der Klärung offener Fragen\, die ihr auf dem Herzen habt. \nWelche Möglichkeiten bietet der bellicon HEALTH REFRESHER Workshop?\nDer Workshop befähigt die Teilnehmenden zu einem sichereren Umgang mit den Schwungtechniken und klärt offene Fragen zu den bellicon HEALTH Schritten\, sowie pathologiespezifischen Übungen. Du wirst nach dem Workshop selbstbewusster in deinen Kursen auftreten und die Schritttechnik mit Sicherheit vermitteln können. Dies wirkt sich positiv auf die Qualität\, Effektivität und Funktionalität deiner bellicon HEALTH Stunden aus. \nZusätzliche Informationen:\n\nDer bellicon HEALTH REFRESHER Workshop ist ein online Workshop und wird per Videokonferenz (Webinar) via Zoom abgehalten.\nDer Zugang erfolgt über einen persönlichen Link.\nBitte stelle vorab sicher\, dass dein Endgerät inklusive Kamera und Audio bei der Nutzung von Zoom funktionieren. Der Zoom- Meetingraum steht dir dazu ab 9:45 Uhr zur Verfügung.\nWir starten den Workshop pünktlich um 10:00 Uhr und beenden ihn um 13:00 Uhr.\n\nTechnische Voraussetzungen:\n\ninternetfähiges Endgerät (Laptop\, Tablet oder Ähnliches) mit integrierter Kamera oder Webcam und Audioausgang (Boxen)\nentsprechend schneller Internetzugang\n\nDas solltest du mitbringen:\n\nein bellicon\nHandtuch und Trinken\nSchreibmaterial\n\nWir freuen uns auf dich!
URL:https://academy.bellicon.com/event/bellicon-health-refresher-workshop-online/
CATEGORIES:Online Specials,Workshops
ORGANIZER;CN="bellicon Europe GmbH":MAILTO:info@bellicon.academy
END:VEVENT
BEGIN:VEVENT
DTSTART;TZID=Europe/Berlin:20221203T100000
DTEND;TZID=Europe/Berlin:20221203T170000
DTSTAMP:20260421T032914
CREATED:20211208T113328Z
LAST-MODIFIED:20220131T073023Z
UID:10000221-1670061600-1670086800@academy.bellicon.com
SUMMARY:bellicon® HEALTH Workshop (Berlin)
DESCRIPTION:  \nFür wen ist der bellicon HEALTH Workshop geeignet?\nDer bellicon HEALTH Workshop ist die optimale Gelegenheit für alle bellicon JUMPING Trainerinnen und Trainer\, ihr Kursangebot um gesundheitsorientierte Stunden auf dem bellicon® Minitrampolin zu erweitern. Health Kurse sind vor allem für Trampolineinsteiger\, ältere Teilnehmerinnen und Teilnehmer oder Personen mit gesundheitlichen Beschwerden geeignet. Die Voraussetzung für die Teilnahme am Workshop ist die erfolgreich bestandene bellicon JUMPING Ausbildung oder die Jumping Fitness Basic Ausbildung. \nWas beinhaltet der bellicon HEALTH Workshop?\nDer Theorieteil des eintägigen Workshops vermittelt anatomisch-physiologische Kenntnisse\, Trainingsmöglichkeiten in einer Gruppe mit heterogenen pathologischen Befunden und den binnendifferenzierten methodisch-didaktische Aufbau für eine gesundheitsorientierte Nutzung eines bellicon® Trampolins. Nach einer Praxispräsentation eines Fallbeispiels in einer Kleingruppe gilt der Workshop als erfolgreich beendet und wird mit einem Zertifikat abgeschlossen. \nWelche Möglichkeiten bietet der bellicon HEALTH Workshop?\nDie Trainerinnen und Trainer sind nach dem bellicon HEALTH Workshop dazu qualifiziert\, qualitativ hochwertige Trampolinkurse im Gesundheitsbereich anbieten zu können. \nAm Tag danach besteht die Möglichkeit an einem bellicon® KIDS Workshop an diesem Standort teilzunehmen. \nZusätzliche Informationen:\n\nWir starten pünktlich um 10:00 Uhr und beenden das Seminar um 17:00 Uhr.\nEigenes\, kostenfreies Parkhaus vorhanden.\nViele Einkaufsmöglichkeiten in Laufweite.\nUmkleiden und Duschen dürfen natürlich benutzt werden.\n\nDas solltest du mitbringen:\n\nPausenverpflegung\nHandtuch und ausreichend Wechselsachen\nSchreibmaterial\n\nHotels in nächster Umgebung zum Veranstaltungsort:\n\nHotel 103\, Schönhauser Allee 103\, 10439 Berlin\, Telefon: 030 43659103\nBornholmer Hof\, Bornholmer Str. 92\, 10439 Berlin\, Telefon: 030 4440573\n\nWir freuen uns auf dich! \nHINWEISWir machen während des Seminars Fotos\, um diese auf Facebook zu posten und euch zur Verfügung zu stellen. Wer damit nicht einverstanden ist\, teilt uns das bitte vorab mit. Wir würden die entsprechenden Fotos dann rausfiltern. \n Buchbar bis Mittwochabend vor Veranstaltungsbeginn\n 
URL:https://academy.bellicon.com/event/bellicon-health-workshop-berlin-2022-12-03/
LOCATION:Unlimited Pankow\, Neumannstraße 13\, Berlin\, 13189\, Deutschland
CATEGORIES:bellicon® HEALTH Workshop,Workshops
ORGANIZER;CN="bellicon Europe GmbH":MAILTO:info@bellicon.academy
GEO:52.561340332031;13.421832084656
X-APPLE-STRUCTURED-LOCATION;VALUE=URI;X-ADDRESS=Unlimited Pankow Neumannstraße 13 Berlin 13189 Deutschland;X-APPLE-RADIUS=500;X-TITLE=Neumannstraße 13:geo:13.421832084656,52.561340332031
END:VEVENT
BEGIN:VEVENT
DTSTART;TZID=Europe/Berlin:20221204T100000
DTEND;TZID=Europe/Berlin:20221204T170000
DTSTAMP:20260421T032914
CREATED:20211208T113905Z
LAST-MODIFIED:20220131T073015Z
UID:10000222-1670148000-1670173200@academy.bellicon.com
SUMMARY:bellicon® KIDS Workshop (Berlin)
DESCRIPTION:  \nFür wen ist der bellicon KIDS Workshop geeignet?\nDer bellicon KIDS Workshop umfasst ein speziell für Kinder und Jugendliche entwickeltes Kursprogramm auf dem Minitrampolin und richtet sich an alle Trainerinnen und Trainer\, die bereits die bellicon JUMPING\, Jumping Fitness Basic Ausbildung und/oder die bellicon HEALTH Ausbildung abgeschlossen haben. \nWas beinhaltet der bellicon KIDS Workshop?\nKinder und Jugendliche sind in ihren Entwicklungsphasen unterschiedlich bewegungsfreudig und neugierig. Daher benötigen sie abwechslungsreiche Anregungen und Bewegungsideen. In dem eintägigen Workshop lernen die Teilnehmerinnen und Teilnehmer\, wie man spielerisch und kreativ die Fähigkeiten und Fertigkeiten von Kindern und Jugendlichen entsprechend ihrer sportmotorischen Entwicklung mit\, auf und am Trampolin fördern und fordern kann. Motiviere die Kleinen durch Choreographien sowie Spiel und Spaß an Sport und Bewegung. Während des Workshops bringen sich die Trainerinnen und Trainer über eine Praxispräsentation aktiv ein\, indem sie die gelernten Spiele und Ideen anwenden und umsetzen. \nWelche Möglichkeiten bietet der bellicon KIDS Workshop?\nNach erfolgreicher Teilnahme am Workshop sind die Trainerinnen und Trainer in der Lage\, altersgerechte und pädagogisch wertvolle Trampolinkurse für Kinder und Jugendliche anzubieten. \nAm Tag davor besteht die Möglichkeit an einem bellicon® HEALTH Workshop an diesem Standort teilzunehmen. \nZusätzliche Informationen:\n\nWir starten pünktlich um 10:00 Uhr und beenden das Seminar um 17:00 Uhr.\nEigenes\, kostenfreies Parkhaus vorhanden.\nViele Einkaufsmöglichkeiten in Laufweite.\nUmkleiden und Duschen dürfen natürlich benutzt werden.\n\nDas solltest du mitbringen:\n\nPausenverpflegung\nHandtuch und ausreichend Wechselsachen\nSchreibmaterial\n\nHotels in nächster Umgebung zum Veranstaltungsort:\n\nHotel 103\, Schönhauser Allee 103\, 10439 Berlin\, Telefon: 030 43659103\nBornholmer Hof\, Bornholmer Str. 92\, 10439 Berlin\, Telefon: 030 4440573\n\nWir freuen uns auf dich! \nHINWEISWir machen während des Seminars Fotos\, um diese auf Facebook zu posten und euch zur Verfügung zu stellen. Wer damit nicht einverstanden ist\, teilt uns das bitte vorab mit. Wir würden die entsprechenden Fotos dann rausfiltern. \n Buchbar bis Mittwochabend vor Veranstaltungsbeginn\n 
URL:https://academy.bellicon.com/event/bellicon-kids-workshop-berlin-2022-12-04/
LOCATION:Unlimited Pankow\, Neumannstraße 13\, Berlin\, 13189\, Deutschland
CATEGORIES:bellicon® KIDS Workshop,Workshops
ORGANIZER;CN="bellicon Europe GmbH":MAILTO:info@bellicon.academy
GEO:52.561340332031;13.421832084656
X-APPLE-STRUCTURED-LOCATION;VALUE=URI;X-ADDRESS=Unlimited Pankow Neumannstraße 13 Berlin 13189 Deutschland;X-APPLE-RADIUS=500;X-TITLE=Neumannstraße 13:geo:13.421832084656,52.561340332031
END:VEVENT
BEGIN:VEVENT
DTSTART;TZID=Europe/Berlin:20221210T093000
DTEND;TZID=Europe/Berlin:20221211T180000
DTSTAMP:20260421T032914
CREATED:20211208T094915Z
LAST-MODIFIED:20221024T111459Z
UID:10000220-1670664600-1670781600@academy.bellicon.com
SUMMARY:bellicon® HEALTH Trainerausbildung (Hamburg)
DESCRIPTION:  \nFür wen ist die bellicon HEALTH Ausbildung geeignet? \nDie bellicon HEALTH Ausbildung ist die Grundausbildung für gesundheitsorientierte Trampolinkurse auf dem bellicon®. Die erstklassige Ausbildung ist Voraussetzung für Gruppenkurse im funktionellen Bereich mit Trampolineinsteigern\, älteren Teilnehmerinnen und Teilnehmern und Personen mit gesundheitlichen Beschwerden. Die bellicon HEALTH Ausbildung dient als Basis für alle Workshops im Gesundheitsbereich der bellicon Academy.  \nWas beinhaltet die bellicon HEALTH Ausbildung?\nWährend den zwei Ausbildungstagen wird anatomisch-physiologisches Wissen\, Trainingsmöglichkeiten einer Gruppe mit heterogenen pathologischen Befunden\, der binnendifferenzierte methodisch-didaktische Aufbau sowie das professionelle Anleiten einer bellicon HEALTH Stunde mit Hilfe von Musik vermittelt. Am Ende des zweiten Tages erfolgt eine praktische Einzelprüfung zu einem Fallbeispiel\, in der die zuvor gelernten Inhalte einem standardisierten Punktekatalog entsprechend gezeigt und genannt werden müssen. Nachdem die Ausbildung erfolgreich bestanden ist\, erhalten die Teilnehmerinnen und Teilnehmer ein Diplom. Sollte es mit dem Abschluss nicht auf Anhieb klappen\, stellt die bellicon Academy so lange ihre Unterstützung zur Verfügung bis einer erfolgreichen Qualifikation nichts mehr im Wege steht.  \nWelche Möglichkeiten bietet die bellicon HEALTH Ausbildung?\nDie neuen Trainerinnen und Trainer haben nach einer erfolgreich bestandenen bellicon HEALTH Ausbildung die Trainerkompetenz und -qualifikation\, um erstklassige gesundheitsorientierte Trampolinkurse zu unterrichten. Die bellicon Academy steht nach der Ausbildung jederzeit für Fragen zu Kursen\, zum Trampolinkauf sowie zu weiterführenden Angeboten im Gesundheits- und Fitnessbereich wie bellicon MED\, bellicon JUMPING oder bellicon KIDS gerne zur Verfügung. Lizenzgebühren oder vertragliche Verpflichtungen gibt es keine.  \nZusätzliche Informationen:\n\nWir starten beide Tage pünktlich um 09:30 Uhr und beenden das Seminar um  18:00 Uhr.\nParkplätze sind auf der Straße vorhanden (gegen Gebühr).\nEinkaufsmöglichkeiten in Laufweite (allerdings ist sonntags alles geschlossen).\nUmkleiden und Duschen dürfen natürlich benutzt werden.\n\nDas solltest du mitbringen:\n\nPausenverpflegung\nHandtuch und ausreichend Wechselsachen\nSchreibmaterial\n\nHotels in nächster Umgebung zum Veranstaltungsort:\n\nPark Hotel am Berliner Tor\, Borgfelder Str. 1-9\, 20537 Hamburg\, Telefon: 040251640\nPanorama Inn Hotel und Boardinghaus\, Billstedter Hauptstraße 36\, 22111 Hamburg\, Telefon: 040 733690\n\nWir freuen uns auf dich! \nHINWEISWir machen während des Seminars Fotos\, um diese auf Facebook zu posten und euch zur Verfügung zu stellen. Wer damit nicht einverstanden ist\, teilt uns das bitte vorab mit. Wir würden die entsprechenden Fotos dann rausfiltern. \n Buchbar bis Mittwochabend vor Veranstaltungsbeginn\n 
URL:https://academy.bellicon.com/event/bellicon-health-trainerausbildung-hamburg-2022-12-10/
LOCATION:HT16 -Hamburger Turnerschaft von 1816 r. V.\, Sievekingdamm 1\, Hamburg\, 20535\, Deutschland
CATEGORIES:bellicon® HEALTH Trainerausbildung,Trainerausbildungen
ORGANIZER;CN="bellicon Europe GmbH":MAILTO:info@bellicon.academy
GEO:53.558712005615;10.047761917114
X-APPLE-STRUCTURED-LOCATION;VALUE=URI;X-ADDRESS=HT16 -Hamburger Turnerschaft von 1816 r. V. Sievekingdamm 1 Hamburg 20535 Deutschland;X-APPLE-RADIUS=500;X-TITLE=Sievekingdamm 1:geo:10.047761917114,53.558712005615
END:VEVENT
BEGIN:VEVENT
DTSTART;TZID=Europe/Berlin:20221217T160000
DTEND;TZID=Europe/Berlin:20221217T183000
DTSTAMP:20260421T032914
CREATED:20221110T112636Z
LAST-MODIFIED:20221110T112636Z
UID:10000280-1671292800-1671301800@academy.bellicon.com
SUMMARY:kreativer Schritteworkshop mit Maria ONLINE
DESCRIPTION:Für wen ist der kreative Schritteworkshop mit Maria geeignet?\nDu brauchst neue Ideen für ausgefallene Schrittkombis und kreative Moves? Dann bist du hier genau richtig. In unserem zweieinhalbstündigen online Workshop wird dir unsere Mastertrainerin Maria neue Ideen und Input geben. Dich erwarten neue Schrittideen und -kombis\, eine Masterclass und Zeit Maria mit allen Fragen zu löchern\, die dir auf der JUMPING- Seele brennen. \nZusätzliche Informationen:\n\nDer kreative Schritteworkshop mit Maria ist ein online Workshop und wird per Videokonferenz (Webinar) via Zoom abgehalten.\nDer Zugang erfolgt über einen persönlichen Link.\nBitte stelle vorab sicher\, dass dein Endgerät inklusive Kamera und Audio bei der Nutzung von Zoom funktionieren. Der Zoom- Meetingraum steht dir dazu ab 15:45 Uhr zur Verfügung.\nWir starten den Workshop pünktlich um 16:00 Uhr und beenden ihn um 18:30 Uhr.\n\nTechnische Voraussetzungen:\n\ninternetfähiges Endgerät (Laptop\, Tablet oder Ähnliches) mit integrierter Kamera oder Webcam und Audioausgang (Boxen)\nentsprechend schneller Internetzugang\n\nDas solltest du mitbringen:\n\nein bellicon\nHandtuch und Trinken\nSchreibmaterial\n\nWir freuen uns auf dich!
URL:https://academy.bellicon.com/event/kreativer-schritteworkshop-mit-maria-online-2022-12-17/
CATEGORIES:Online Specials
ORGANIZER;CN="bellicon Europe GmbH":MAILTO:info@bellicon.academy
END:VEVENT
END:VCALENDAR