BEGIN:VCALENDAR
VERSION:2.0
PRODID:-//bellicon academy - ECPv6.8.2//NONSGML v1.0//EN
CALSCALE:GREGORIAN
METHOD:PUBLISH
X-WR-CALNAME:bellicon academy
X-ORIGINAL-URL:https://academy.bellicon.com
X-WR-CALDESC:Events for bellicon academy
REFRESH-INTERVAL;VALUE=DURATION:PT1H
X-Robots-Tag:noindex
X-PUBLISHED-TTL:PT1H
BEGIN:VTIMEZONE
TZID:Europe/Berlin
BEGIN:DAYLIGHT
TZOFFSETFROM:+0100
TZOFFSETTO:+0200
TZNAME:CEST
DTSTART:20230326T010000
END:DAYLIGHT
BEGIN:STANDARD
TZOFFSETFROM:+0200
TZOFFSETTO:+0100
TZNAME:CET
DTSTART:20231029T010000
END:STANDARD
END:VTIMEZONE
BEGIN:VEVENT
DTSTART;TZID=Europe/Berlin:20230114T100000
DTEND;TZID=Europe/Berlin:20230114T130000
DTSTAMP:20260420T235521
CREATED:20220912T113636Z
LAST-MODIFIED:20220920T105810Z
UID:10000253-1673690400-1673701200@academy.bellicon.com
SUMMARY:bellicon JUMPING REFRESHER Workshop ONLINE
DESCRIPTION:Für wen ist der bellicon Schritttechnik REFRESHER Workshop geeignet?\nDer bellicon Schritttechnik REFRESHER Workshop eignet sich für alle Trainerinnen und Trainer\, die bereits die bellicon JUMPING oder die Jumping Fitness Basic Ausbildung erfolgreich abgeschlossen haben und ihre Technik der Grundschritte auffrischen\, offene Fragen klären und zusammen bei einer Masterclass ganz viel Jumping- Spaß haben wollen. \nWas beinhaltet der bellicon Schritttechnik REFRESHER Workshop?\nWährend des dreistündigen Workshops wird die Arm-\, Bein- und Sprungtechnik der bellicon JUMPING Grundschritte wiederholt\, geputzt und perfektioniert. Anschließend jumpen wir zusammen eine Masterclass in der wir auch hier nochmal besonderes Augenmerk auf besonders viel Spaß und natürlich die korrekte Technik legen. Nach der Praxiseinheit bleibt noch Zeit zum Austausch und der Klärung offener Fragen\, die ihr auf dem Herzen habt. \nWelche Möglichkeiten bietet der bellicon Schritttechnik REFRESHER Workshop?\nDer Workshop befähigt die Teilnehmenden zu einem sichereren Umgang mit den Sprungtechniken und klärt offene Fragen zu den bellicon JUMPING Schritten. Du wirst nach dem Workshop selbstbewusster in deinen Kursen auftreten und die Schritttechnik mit Sicherheit vermitteln können. Dies wirkt sich positiv auf die Qualität\, Effektivität und Funktionalität deiner bellicon JUMPING Stunden aus. \nZusätzliche Informationen:\n\nDer bellicon Schritttechnik REFRESHER Workshop ist ein online Workshop und wird per Videokonferenz (Webinar) via Zoom abgehalten.\nDer Zugang erfolgt über einen persönlichen Link.\nBitte stelle vorab sicher\, dass dein Endgerät inklusive Kamera und Audio bei der Nutzung von Zoom funktionieren. Der Zoom- Meetingraum steht dir dazu ab 9:45 Uhr zur Verfügung.\nWir starten den Workshop pünktlich um 10:00 Uhr und beenden ihn um 13:00 Uhr.\n\nTechnische Voraussetzungen:\n\ninternetfähiges Endgerät (Laptop\, Tablet oder Ähnliches) mit integrierter Kamera oder Webcam und Audioausgang (Boxen)\nentsprechend schneller Internetzugang\n\nDas solltest du mitbringen:\n\nein bellicon\nHandtuch und Trinken\nSchreibmaterial\n\nWir freuen uns auf dich!
URL:https://academy.bellicon.com/event/bellicon-refresher-workshop-online/
CATEGORIES:Online Specials,Workshops
ORGANIZER;CN="bellicon Europe GmbH":MAILTO:info@bellicon.academy
END:VEVENT
BEGIN:VEVENT
DTSTART;TZID=Europe/Berlin:20230121T100000
DTEND;TZID=Europe/Berlin:20230121T170000
DTSTAMP:20260420T235521
CREATED:20220929T141808Z
LAST-MODIFIED:20230901T083616Z
UID:10000256-1674295200-1674320400@academy.bellicon.com
SUMMARY:bellicon® INTERVALL Workshop (Rottenburg)
DESCRIPTION:  \nFür wen ist der bellicon INTERVALL Workshop geeignet?\n \nAlle bereits ausgebildeten bellicon JUMPING oder Jumping Fitness Basic Trainerinnen und Trainer lernen in diesem Workshop Techniken und Trainingsmethoden\, die den heutigen Fitnessanforderungen von Zeit und Effektivität entsprechen.  \nWas beinhaltet der bellicon INTERVALL Workshop?\n \nIn dem eintägigen Workshop erhalten die Teilnehmerinnen und Teilnehmer notwendiges Hintergrundwissen sowie die dazu sinnvollen Werkzeuge\, um Kursstunden auf dem bellicon® nach dem angesagten Intervall- und Circleprinzip zu unterrichten. Die im bellicon JUMPING Kurs erlangte Grundlagenausdauer kann in einem Intervallkurs auf ein höheres Level gebracht werden. Zusätzlich werden während des Workshops Werkzeuge zu kraftbasiertem Circletraining gelehrt\, die die Trainerinnen und Trainer befähigt\, kraftorientierte Kurse auf dem bellicon® zu geben. Nach einer kurzen praktischen Präsentation der im Workshop erworbenen Trainingstechniken im Intervall- und Circletraining wird ein bellicon INTERVALL Zertifikat überreicht. \nWelche Möglichkeiten bietet der bellicon INTERVALL Workshop?\n \nDie Trainerinnen und Trainer sind dank der im Workshop vermittelten Sachkenntnisse und Fertigkeiten in der Lage\, spezifische bellicon JUMPING Kurse nach dem Intervall- und Circleprinzip zu geben und damit auch fortgeschrittene Teilnehmerinnen und Teilnehmer anzusprechen. \nZusätzliche Informationen:\n\nWir starten pünktlich um 10:00 Uhr und beenden das Seminar um 17:00 Uhr.\nUmkleiden und Duschen dürfen natürlich benutzt werden (Schrankschlüssel gegen Schlüsselpfand erhältlich).\nEs sind kostenlose Parkplätze vorhanden.\nNeben dem Studio befindet sich ein Lidl\, Bäcker\, Metzger und Italiener.\nEine Getränke Tagesflat aus der Schankanlage ist für 2\,80€ am Tag erhältlich\n\nDas solltest du mitbringen:\n\nPausenverpflegung\nHandtuch und ausreichend Wechselsachen\nSchreibmaterial\n\nHotels in nächster Umgebung zum Veranstaltungsort:\n\nFerienwohnung Welte – Ergenzingen\, Starenweg 32\, 72108 Rottenburg am Neckar – Tel.: 07457-1467\nHotel Schloss Weitenburg\, Weitenburg 1\, 72181 Starzach – Tel.: 07457-9330\n\nWir freuen uns auf dich! \nHINWEISWir machen während des Seminars Fotos\, um diese auf Facebook zu posten und euch zur Verfügung zu stellen. Wer damit nicht einverstanden ist\, teilt uns das bitte vorab mit. Wir würden die entsprechenden Fotos dann rausfiltern. \n Buchbar bis Mittwochabend vor Veranstaltungsbeginn\n 
URL:https://academy.bellicon.com/event/bellicon-intervall-workshop-rottenburg/
LOCATION:Evolution Fitness Club\, Junghansring 64\, Rottenburg - Ergenzingen\, 72108\, Deutschland
CATEGORIES:bellicon® INTERVALL Workshop,Workshops
ORGANIZER;CN="bellicon Europe GmbH":MAILTO:info@bellicon.academy
GEO:48.4957026;8.8175358
X-APPLE-STRUCTURED-LOCATION;VALUE=URI;X-ADDRESS=Evolution Fitness Club Junghansring 64 Rottenburg - Ergenzingen 72108 Deutschland;X-APPLE-RADIUS=500;X-TITLE=Junghansring 64:geo:8.8175358,48.4957026
END:VEVENT
BEGIN:VEVENT
DTSTART;TZID=Europe/Berlin:20230121T100000
DTEND;TZID=Europe/Berlin:20230122T180000
DTSTAMP:20260420T235521
CREATED:20221206T111812Z
LAST-MODIFIED:20221206T111812Z
UID:10000177-1674295200-1674410400@academy.bellicon.com
SUMMARY:bellicon® JUMPING Trainerausbildung (Delmenhorst)
DESCRIPTION:  \nFür wen ist die bellicon JUMPING Ausbildung geeignet?\nFür die Teilnahme an der bellicon JUMPING Ausbildung wird Erfahrung im Bereich Gruppenfitness empfohlen\, aber nicht vorausgesetzt. Alle\, die künftig fitnessorientierte Kurse auf bellicon® Minitrampolinen anbieten möchten\, finden in dieser Ausbildung die Grundlage dafür. \nWas beinhaltet die bellicon JUMPING Ausbildung?\nDie bellicon JUMPING Ausbildung ist die Grundausbildung für fitnessorientierte und qualitativ hochwertige bellicon JUMPING Kurse. Neben der korrekten Ausführung der Schritte und der Sprungtechnik wird auch Musiklehre sowie das Anleiten von Gruppenkursen mit Hilfe von Musik und der sinnvolle Aufbau einer Kursstunde vermittelt. Dank des umfassenden Paketes aus Theorie und Praxis sind die Teilnehmerinnen und Teilnehmer der Ausbildung am Ende des Seminars in der Lage\, eine erstklassige bellicon® JUMPING Stunde durchzuführen. Vor der Ausbildung wird den Teilnehmerinnen und Teilnehmern ein Informationsvideo zum bellicon® Trampolin\, zur Geschichte\, der Philosophie sowie zu den Workshops der Academy zugeschickt. \nDer zweite Ausbildungstag schließt mit einer praktischen Einzelprüfung ab\, in der die Teilnehmenden eine Kursstunde simulieren – von der Begrüßung über die Erläuterung der wesentlichen Aspekte des bellicon® bis hin zur Anleitung einiger Schritte unter korrekter Nutzung von Musik. Ein Punktesystem schafft dabei maximale Transparenz und ermöglicht es\, auf Schwachstellen eingehen zu können. Sollte es mit dem Abschluss der Ausbildung nicht auf Anhieb klappen\, stellt die bellicon Academy so lange ihre Unterstützung zur Verfügung bis einer erfolgreichen Qualifikation nichts mehr im Wege steht.  \nWelche Möglichkeiten bietet die bellicon JUMPING Ausbildung?\nNach der fitnessorientierten Grundausbildung können die Trainerinnen und Trainer weiterführende Workshops der bellicon Academy\, wie bellicon ADVANCED\, bellicon INTERVALL\, bellicon HEALTH oder bellicon KIDS besuchen\, um das Kursangebot noch besser an die eigene Zielgruppe anpassen zu können. Nach einer Ausbildung sind die Trainerinnen und Trainer in ihrer Trainertätigkeit vollkommen frei und zu keinen Lizenzgebühren verpflichtet.  \nZusätzliche Informationen:\n\nWir starten beide Tage pünktlich um 10:00 Uhr und beenden das Seminar um  18:00 Uhr.\nUmkleiden und Duschen dürfen natürlich benutzt werden.\n\nDas solltest du mitbringen:\n\nPausenverpflegung\nHandtuch und ausreichend Wechselsachen\nSchreibmaterial\n\nWir freuen uns auf dich! \nHINWEISWir machen während des Seminars Fotos\, um diese auf Facebook zu posten und euch zur Verfügung zu stellen. Wer damit nicht einverstanden ist\, teilt uns das bitte vorab mit. Wir würden die entsprechenden Fotos dann rausfiltern. \n Buchbar bis Mittwochabend vor Veranstaltungsbeginn\n 
URL:https://academy.bellicon.com/event/bellicon-jumping-trainerausbildung-delmenhorst-2023-01-21/
CATEGORIES:bellicon® JUMPING Trainerausbildung,Trainerausbildungen
END:VEVENT
BEGIN:VEVENT
DTSTART;TZID=Europe/Berlin:20230122T113000
DTEND;TZID=Europe/Berlin:20230122T183000
DTSTAMP:20260420T235521
CREATED:20220929T143324Z
LAST-MODIFIED:20230901T083524Z
UID:10000257-1674387000-1674412200@academy.bellicon.com
SUMMARY:bellicon® JUMPING meets Shadowboxer Workshop (Rottenburg)
DESCRIPTION:  \nDer eintägige Workshop bellicon JUMPING meets Shadowboxer richtet sich an alle Trainerinnen und Trainer mit abgeschlossener bellicon JUMPING oder vergleichbarer Ausbildung und befähigt sie dazu\, das Trainingstool Shadowboxer mit dem bellicon® Trampolin als innovatives Workout zu kombinieren. \nDie Idee zu diesem Kurskonzept war\, das eher Core- und Lower body-lastige Workout auf dem bellicon® mit einem Trainingstool zu vereinen\, das sich sehr auf den Upper body auswirkt. In der Kombination entstand mit JUMPING meets Shadowboxer ein Workout\, das alle fünf Fähigkeiten trainiert\, die einem gesunden Körper zugrunde liegen: \nAusdauer – Kraft – Schnelligkeit – Beweglichkeit – Koordination \nDer Shadowboxer übernimmt hierbei die Rolle des stabilisierenden Elementes. Ziel des Trainings\, wie auch unvermeidbarer Nebeneffekt\, ist die Erweiterung der Ausdauer und die Kräftigung des ganzen Körpers.\n————————————————————————————\nDer Theorieteil des Workshops beschäftigt sich mit den Vorzügen des Mobility Trainings\, den physiologischen Grundlagen des Intervalltrainings und dem Konzept des funktionellen Trainings.\nIm Praxisteil wird das durch den/die Ausbilder/in angeleitete Stundenbild behandelt\, wie auch Boxing- und Workout Moves mit dem Shadowboxer auf dem bellicon® erlernt.\nZum Abschluss des Workshops erhält jeder Teilnehmende ein Zertifikat.\n—————————————————————————————\nDie Voraussetzungen für die Teilnahme am JUMPING meets Shadowboxer Workshop sind das vollendete 16. Lebensjahr sowie eine erfolgreich bestandene Jumping Fitness Basic oder bellicon® JUMPING Ausbildung. Empfohlen wird zudem eine gute Grundlagenausdauer.  \nZusätzliche Informationen:\n\nWir starten pünktlich um 11:30 Uhr und beenden das Seminar um 18:30 Uhr.\nUmkleiden und Duschen dürfen natürlich benutzt werden (Schrankschlüssel gegen Schlüsselpfand erhältlich).\nEs sind kostenlose Parkplätze vorhanden.\nNeben dem Studio befindet sich ein Lidl\, Bäcker\, Metzger und Italiener.\nEine Getränke Tagesflat aus der Schankanlage ist für 2\,80€ am Tag erhältlich\n\nDas solltest du mitbringen:\n\nPausenverpflegung\nHandtuch und ausreichend Wechselsachen\nSchreibmaterial\n\nHotels in nächster Umgebung zum Veranstaltungsort:\n\nFerienwohnung Welte – Ergenzingen\, Starenweg 32\, 72108 Rottenburg am Neckar – Tel.: 07457-1467\nHotel Schloss Weitenburg\, Weitenburg 1\, 72181 Starzach – Tel.: 07457-9330\n\nWir freuen uns auf dich! \nHINWEISWir machen während des Seminars Fotos\, um diese auf Facebook zu posten und euch zur Verfügung zu stellen. Wer damit nicht einverstanden ist\, teilt uns das bitte vorab mit. Wir würden die entsprechenden Fotos dann rausfiltern. \n Inklusive Gürtel buchbar bis Sonntagabend\, \nohne Gürtel buchbar bis Mittwochabend vor Veranstaltungsbeginn\n 
URL:https://academy.bellicon.com/event/bellicon-jumping-meets-shadowboxer-workshop-rottenburg-2023-01-22/
LOCATION:Evolution Fitness Club\, Junghansring 64\, Rottenburg - Ergenzingen\, 72108\, Deutschland
CATEGORIES:bellicon® JUMPING meets Shadowboxer Workshop,Workshops
ORGANIZER;CN="bellicon Europe GmbH":MAILTO:info@bellicon.academy
GEO:48.4957026;8.8175358
X-APPLE-STRUCTURED-LOCATION;VALUE=URI;X-ADDRESS=Evolution Fitness Club Junghansring 64 Rottenburg - Ergenzingen 72108 Deutschland;X-APPLE-RADIUS=500;X-TITLE=Junghansring 64:geo:8.8175358,48.4957026
END:VEVENT
BEGIN:VEVENT
DTSTART;TZID=Europe/Berlin:20230128T090000
DTEND;TZID=Europe/Berlin:20230129T180000
DTSTAMP:20260420T235521
CREATED:20221020T110139Z
LAST-MODIFIED:20221020T110139Z
UID:10000259-1674896400-1675015200@academy.bellicon.com
SUMMARY:bellicon® JUMPING Trainerausbildung (Leipzig)
DESCRIPTION:  \nFür wen ist die bellicon JUMPING Ausbildung geeignet?\nFür die Teilnahme an der bellicon JUMPING Ausbildung wird Erfahrung im Bereich Gruppenfitness empfohlen\, aber nicht vorausgesetzt. Alle\, die künftig fitnessorientierte Kurse auf bellicon® Minitrampolinen anbieten möchten\, finden in dieser Ausbildung die Grundlage dafür. \nWas beinhaltet die bellicon JUMPING Ausbildung?\nDie bellicon JUMPING Ausbildung ist die Grundausbildung für fitnessorientierte und qualitativ hochwertige bellicon JUMPING Kurse. Neben der korrekten Ausführung der Schritte und der Sprungtechnik wird auch Musiklehre sowie das Anleiten von Gruppenkursen mit Hilfe von Musik und der sinnvolle Aufbau einer Kursstunde vermittelt. Dank des umfassenden Paketes aus Theorie und Praxis sind die Teilnehmerinnen und Teilnehmer der Ausbildung am Ende des Seminars in der Lage\, eine erstklassige bellicon® JUMPING Stunde durchzuführen. Vor der Ausbildung wird den Teilnehmerinnen und Teilnehmern ein Informationsvideo zum bellicon® Trampolin\, zur Geschichte\, der Philosophie sowie zu den Workshops der Academy zugeschickt. \nDer zweite Ausbildungstag schließt mit einer praktischen Einzelprüfung ab\, in der die Teilnehmenden eine Kursstunde simulieren – von der Begrüßung über die Erläuterung der wesentlichen Aspekte des bellicon® bis hin zur Anleitung einiger Schritte unter korrekter Nutzung von Musik. Ein Punktesystem schafft dabei maximale Transparenz und ermöglicht es\, auf Schwachstellen eingehen zu können. Sollte es mit dem Abschluss der Ausbildung nicht auf Anhieb klappen\, stellt die bellicon Academy so lange ihre Unterstützung zur Verfügung bis einer erfolgreichen Qualifikation nichts mehr im Wege steht.  \nWelche Möglichkeiten bietet die bellicon JUMPING Ausbildung?\nNach der fitnessorientierten Grundausbildung können die Trainerinnen und Trainer weiterführende Workshops der bellicon Academy\, wie bellicon ADVANCED\, bellicon INTERVALL\, bellicon HEALTH oder bellicon KIDS besuchen\, um das Kursangebot noch besser an die eigene Zielgruppe anpassen zu können. Nach einer Ausbildung sind die Trainerinnen und Trainer in ihrer Trainertätigkeit vollkommen frei und zu keinen Lizenzgebühren verpflichtet.  \nZusätzliche Informationen:\n\nWir starten beide Tage pünktlich um 09:00 Uhr und beenden das Seminar um  18:00 Uhr.\nParkplätze befinden sich beim Einkaufzentrum.\nDas Studio ist sehr gut mit den öffentlichen Verkehrsmitteln zu erreichen. \nEs gibt viele Einkaufsmöglichkeiten in Laufweite.\nUmkleiden und Duschen dürfen natürlich benutzt werden.\n\nDas solltest du mitbringen:\n\nPausenverpflegung\nHandtuch und ausreichend Wechselsachen\nSchreibmaterial\n\nHotels in nächster Umgebung zum Veranstaltungsort:\n\narcona LIVING BACH14\, Thomaskirchhof 13/14\, 04109 Leipzig\, Telefon: 0341 496140\nFive Elements Hostel Leipzig\, Kleine Fleischergasse 8\, 04109 Leipzig\, Telefon: 0341 35583196\nArthotel ANA Symphonie Leipzig\, Hainstraße 21\, 04109 Leipzig\, Telefon: 0341 21203100\n\nWir freuen uns auf dich! \nHINWEISWir machen während des Seminars Fotos\, um diese auf Facebook zu posten und euch zur Verfügung zu stellen. Wer damit nicht einverstanden ist\, teilt uns das bitte vorab mit. Wir würden die entsprechenden Fotos dann rausfiltern. \n Buchbar bis Mittwochabend vor Veranstaltungsbeginn\n 
URL:https://academy.bellicon.com/event/bellicon-jumping-trainerausbildung-leipzig-2023-01-28/
LOCATION:FIT/ONE Leipzig\, Petersstraße 20\, Leipzig\, 04109\, Deutschland
CATEGORIES:bellicon® JUMPING Trainerausbildung,Trainerausbildungen
ORGANIZER;CN="bellicon Europe GmbH":MAILTO:info@bellicon.academy
GEO:51.337757110596;12.374640464783
X-APPLE-STRUCTURED-LOCATION;VALUE=URI;X-ADDRESS=FIT/ONE Leipzig Petersstraße 20 Leipzig 04109 Deutschland;X-APPLE-RADIUS=500;X-TITLE=Petersstraße 20:geo:12.374640464783,51.337757110596
END:VEVENT
END:VCALENDAR